Workbook

Sheet Flow Summary
A1: Wrexham ATC, Cristionydd Lane
A4: Direction: | B4: Southbound | L4: Direction: | M4: Northbound | W4: Direction: | X4: Total Flow
B6: 45602 | C6: =B6+1 -> 45603 | D6: =C6+1 -> 45604 | E6: =D6+1 -> 45605 | F6: =E6+1 -> 45606 | G6: =F6+1 -> 45607 | H6: =G6+1 -> 45608 | M6: =B6 -> 45602 | N6: =C6 -> 45603 | O6: =D6 -> 45604 | P6: =E6 -> 45605 | Q6: =F6 -> 45606 | R6: =G6 -> 45607 | S6: =H6 -> 45608 | X6: =M6 -> 45602 | Y6: =N6 -> 45603 | Z6: =O6 -> 45604 | AA6: =P6 -> 45605 | AB6: =Q6 -> 45606 | AC6: =R6 -> 45607 | AD6: =S6 -> 45608
A7: Hour Beginning | B7: Wed 06/11/2024 | C7: Thu 07/11/2024 | D7: Fri 08/11/2024 | E7: Sat 09/11/2024 | F7: Sun 10/11/2024 | G7: Mon 11/11/2024 | H7: Tue 12/11/2024 | I7: 5-Day Ave. | J7: 7-Day Ave. | L7: Hour Beginning | M7: Wed 06/11/2024 | N7: Thu 07/11/2024 | O7: Fri 08/11/2024 | P7: Sat 09/11/2024 | Q7: Sun 10/11/2024 | R7: Mon 11/11/2024 | S7: Tue 12/11/2024 | T7: 5-Day Ave. | U7: 7-Day Ave. | W7: Hour Beginning | X7: Wed 06/11/2024 | Y7: Thu 07/11/2024 | Z7: Fri 08/11/2024 | AA7: Sat 09/11/2024 | AB7: Sun 10/11/2024 | AC7: Mon 11/11/2024 | AD7: Tue 12/11/2024 | AE7: 5-Day Ave. | AF7: 7-Day Ave.
A8: 0 | B8: ='Class 06 11 2024'!B8 -> 1 | C8: ='Class 07 11 2024'!B8 -> 0 | D8: ='Class 08 11 2024'!B8 -> 0 | E8: ='Class 09 11 2024'!B8 -> 2 | F8: ='Class 10 11 2024'!B8 -> 2 | G8: ='Class 11 11 2024'!B8 -> 1 | H8: ='Class 12 11 2024'!B8 -> 1 | I8: =SUM(IF(WEEKDAY(B$6,2)<6,B8,0),IF(WEEKDAY(C$6,2)<6,C8,0),IF(WEEKDAY(D$6,2)<6,D8,0),IF(WEEKDAY(E$6,2)<6,E8,0),IF(WEEKDAY(F$6,2)<6,F8,0),IF(WEEKDAY(G$6,2)<6,G8,0),IF(WEEKDAY(H$6,2)<6,H8,0))/5 -> 0.6 | J8: =SUM(B8:H8)/7 -> 1 | L8: 0 | M8: ='Class 06 11 2024'!I8 -> 1 | N8: ='Class 07 11 2024'!I8 -> 2 | O8: ='Class 08 11 2024'!I8 -> 2 | P8: ='Class 09 11 2024'!I8 -> 2 | Q8: ='Class 10 11 2024'!I8 -> 4 | R8: ='Class 11 11 2024'!I8 -> 1 | S8: ='Class 12 11 2024'!I8 -> 1 | T8: =SUM(IF(WEEKDAY(M$6,2)<6,M8,0),IF(WEEKDAY(N$6,2)<6,N8,0),IF(WEEKDAY(O$6,2)<6,O8,0),IF(WEEKDAY(P$6,2)<6,P8,0),IF(WEEKDAY(Q$6,2)<6,Q8,0),IF(WEEKDAY(R$6,2)<6,R8,0),IF(WEEKDAY(S$6,2)<6,S8,0))/5 -> 1.4 | U8: =SUM(M8:S8)/7 -> 1.8571429 | W8: 0 | X8: =B8+M8 -> 2 | Y8: =C8+N8 -> 2 | Z8: =D8+O8 -> 2 | AA8: =E8+P8 -> 4 | AB8: =F8+Q8 -> 6 | AC8: =G8+R8 -> 2 | AD8: =H8+S8 -> 2 | AE8: =SUM(IF(WEEKDAY(X$6,2)<6,X8,0),IF(WEEKDAY(Y$6,2)<6,Y8,0),IF(WEEKDAY(Z$6,2)<6,Z8,0),IF(WEEKDAY(AA$6,2)<6,AA8,0),IF(WEEKDAY(AB$6,2)<6,AB8,0),IF(WEEKDAY(AC$6,2)<6,AC8,0),IF(WEEKDAY(AD$6,2)<6,AD8,0))/5 -> 2 | AF8: =SUM(X8:AD8)/7 -> 2.8571429
A9: 0.041666667 | B9: ='Class 06 11 2024'!B9 -> 0 | C9: ='Class 07 11 2024'!B9 -> 0 | D9: ='Class 08 11 2024'!B9 -> 0 | E9: ='Class 09 11 2024'!B9 -> 0 | F9: ='Class 10 11 2024'!B9 -> 4 | G9: ='Class 11 11 2024'!B9 -> 0 | H9: ='Class 12 11 2024'!B9 -> 0 | I9: =SUM(IF(WEEKDAY(B$6,2)<6,B9,0),IF(WEEKDAY(C$6,2)<6,C9,0),IF(WEEKDAY(D$6,2)<6,D9,0),IF(WEEKDAY(E$6,2)<6,E9,0),IF(WEEKDAY(F$6,2)<6,F9,0),IF(WEEKDAY(G$6,2)<6,G9,0),IF(WEEKDAY(H$6,2)<6,H9,0))/5 -> 0 | J9: =SUM(B9:H9)/7 -> 0.57142857 | L9: 0.041666667 | M9: ='Class 06 11 2024'!I9 -> 0 | N9: ='Class 07 11 2024'!I9 -> 0 | O9: ='Class 08 11 2024'!I9 -> 1 | P9: ='Class 09 11 2024'!I9 -> 3 | Q9: ='Class 10 11 2024'!I9 -> 3 | R9: ='Class 11 11 2024'!I9 -> 0 | S9: ='Class 12 11 2024'!I9 -> 1 | T9: =SUM(IF(WEEKDAY(M$6,2)<6,M9,0),IF(WEEKDAY(N$6,2)<6,N9,0),IF(WEEKDAY(O$6,2)<6,O9,0),IF(WEEKDAY(P$6,2)<6,P9,0),IF(WEEKDAY(Q$6,2)<6,Q9,0),IF(WEEKDAY(R$6,2)<6,R9,0),IF(WEEKDAY(S$6,2)<6,S9,0))/5 -> 0.4 | U9: =SUM(M9:S9)/7 -> 1.1428571 | W9: 0.041666667 | X9: =B9+M9 -> 0 | Y9: =C9+N9 -> 0 | Z9: =D9+O9 -> 1 | AA9: =E9+P9 -> 3 | AB9: =F9+Q9 -> 7 | AC9: =G9+R9 -> 0 | AD9: =H9+S9 -> 1 | AE9: =SUM(IF(WEEKDAY(X$6,2)<6,X9,0),IF(WEEKDAY(Y$6,2)<6,Y9,0),IF(WEEKDAY(Z$6,2)<6,Z9,0),IF(WEEKDAY(AA$6,2)<6,AA9,0),IF(WEEKDAY(AB$6,2)<6,AB9,0),IF(WEEKDAY(AC$6,2)<6,AC9,0),IF(WEEKDAY(AD$6,2)<6,AD9,0))/5 -> 0.4 | AF9: =SUM(X9:AD9)/7 -> 1.7142857
A10: 0.083333333 | B10: ='Class 06 11 2024'!B10 -> 0 | C10: ='Class 07 11 2024'!B10 -> 0 | D10: ='Class 08 11 2024'!B10 -> 2 | E10: ='Class 09 11 2024'!B10 -> 0 | F10: ='Class 10 11 2024'!B10 -> 0 | G10: ='Class 11 11 2024'!B10 -> 0 | H10: ='Class 12 11 2024'!B10 -> 0 | I10: =SUM(IF(WEEKDAY(B$6,2)<6,B10,0),IF(WEEKDAY(C$6,2)<6,C10,0),IF(WEEKDAY(D$6,2)<6,D10,0),IF(WEEKDAY(E$6,2)<6,E10,0),IF(WEEKDAY(F$6,2)<6,F10,0),IF(WEEKDAY(G$6,2)<6,G10,0),IF(WEEKDAY(H$6,2)<6,H10,0))/5 -> 0.4 | J10: =SUM(B10:H10)/7 -> 0.28571429 | L10: 0.083333333 | M10: ='Class 06 11 2024'!I10 -> 0 | N10: ='Class 07 11 2024'!I10 -> 0 | O10: ='Class 08 11 2024'!I10 -> 2 | P10: ='Class 09 11 2024'!I10 -> 1 | Q10: ='Class 10 11 2024'!I10 -> 1 | R10: ='Class 11 11 2024'!I10 -> 0 | S10: ='Class 12 11 2024'!I10 -> 0 | T10: =SUM(IF(WEEKDAY(M$6,2)<6,M10,0),IF(WEEKDAY(N$6,2)<6,N10,0),IF(WEEKDAY(O$6,2)<6,O10,0),IF(WEEKDAY(P$6,2)<6,P10,0),IF(WEEKDAY(Q$6,2)<6,Q10,0),IF(WEEKDAY(R$6,2)<6,R10,0),IF(WEEKDAY(S$6,2)<6,S10,0))/5 -> 0.4 | U10: =SUM(M10:S10)/7 -> 0.57142857 | W10: 0.083333333 | X10: =B10+M10 -> 0 | Y10: =C10+N10 -> 0 | Z10: =D10+O10 -> 4 | AA10: =E10+P10 -> 1 | AB10: =F10+Q10 -> 1 | AC10: =G10+R10 -> 0 | AD10: =H10+S10 -> 0 | AE10: =SUM(IF(WEEKDAY(X$6,2)<6,X10,0),IF(WEEKDAY(Y$6,2)<6,Y10,0),IF(WEEKDAY(Z$6,2)<6,Z10,0),IF(WEEKDAY(AA$6,2)<6,AA10,0),IF(WEEKDAY(AB$6,2)<6,AB10,0),IF(WEEKDAY(AC$6,2)<6,AC10,0),IF(WEEKDAY(AD$6,2)<6,AD10,0))/5 -> 0.8 | AF10: =SUM(X10:AD10)/7 -> 0.85714286
A11: 0.125 | B11: ='Class 06 11 2024'!B11 -> 0 | C11: ='Class 07 11 2024'!B11 -> 0 | D11: ='Class 08 11 2024'!B11 -> 0 | E11: ='Class 09 11 2024'!B11 -> 1 | F11: ='Class 10 11 2024'!B11 -> 1 | G11: ='Class 11 11 2024'!B11 -> 0 | H11: ='Class 12 11 2024'!B11 -> 1 | I11: =SUM(IF(WEEKDAY(B$6,2)<6,B11,0),IF(WEEKDAY(C$6,2)<6,C11,0),IF(WEEKDAY(D$6,2)<6,D11,0),IF(WEEKDAY(E$6,2)<6,E11,0),IF(WEEKDAY(F$6,2)<6,F11,0),IF(WEEKDAY(G$6,2)<6,G11,0),IF(WEEKDAY(H$6,2)<6,H11,0))/5 -> 0.2 | J11: =SUM(B11:H11)/7 -> 0.42857143 | L11: 0.125 | M11: ='Class 06 11 2024'!I11 -> 0 | N11: ='Class 07 11 2024'!I11 -> 0 | O11: ='Class 08 11 2024'!I11 -> 0 | P11: ='Class 09 11 2024'!I11 -> 0 | Q11: ='Class 10 11 2024'!I11 -> 0 | R11: ='Class 11 11 2024'!I11 -> 0 | S11: ='Class 12 11 2024'!I11 -> 0 | T11: =SUM(IF(WEEKDAY(M$6,2)<6,M11,0),IF(WEEKDAY(N$6,2)<6,N11,0),IF(WEEKDAY(O$6,2)<6,O11,0),IF(WEEKDAY(P$6,2)<6,P11,0),IF(WEEKDAY(Q$6,2)<6,Q11,0),IF(WEEKDAY(R$6,2)<6,R11,0),IF(WEEKDAY(S$6,2)<6,S11,0))/5 -> 0 | U11: =SUM(M11:S11)/7 -> 0 | W11: 0.125 | X11: =B11+M11 -> 0 | Y11: =C11+N11 -> 0 | Z11: =D11+O11 -> 0 | AA11: =E11+P11 -> 1 | AB11: =F11+Q11 -> 1 | AC11: =G11+R11 -> 0 | AD11: =H11+S11 -> 1 | AE11: =SUM(IF(WEEKDAY(X$6,2)<6,X11,0),IF(WEEKDAY(Y$6,2)<6,Y11,0),IF(WEEKDAY(Z$6,2)<6,Z11,0),IF(WEEKDAY(AA$6,2)<6,AA11,0),IF(WEEKDAY(AB$6,2)<6,AB11,0),IF(WEEKDAY(AC$6,2)<6,AC11,0),IF(WEEKDAY(AD$6,2)<6,AD11,0))/5 -> 0.2 | AF11: =SUM(X11:AD11)/7 -> 0.42857143
A12: 0.16666667 | B12: ='Class 06 11 2024'!B12 -> 0 | C12: ='Class 07 11 2024'!B12 -> 0 | D12: ='Class 08 11 2024'!B12 -> 1 | E12: ='Class 09 11 2024'!B12 -> 0 | F12: ='Class 10 11 2024'!B12 -> 2 | G12: ='Class 11 11 2024'!B12 -> 0 | H12: ='Class 12 11 2024'!B12 -> 0 | I12: =SUM(IF(WEEKDAY(B$6,2)<6,B12,0),IF(WEEKDAY(C$6,2)<6,C12,0),IF(WEEKDAY(D$6,2)<6,D12,0),IF(WEEKDAY(E$6,2)<6,E12,0),IF(WEEKDAY(F$6,2)<6,F12,0),IF(WEEKDAY(G$6,2)<6,G12,0),IF(WEEKDAY(H$6,2)<6,H12,0))/5 -> 0.2 | J12: =SUM(B12:H12)/7 -> 0.42857143 | L12: 0.16666667 | M12: ='Class 06 11 2024'!I12 -> 0 | N12: ='Class 07 11 2024'!I12 -> 0 | O12: ='Class 08 11 2024'!I12 -> 0 | P12: ='Class 09 11 2024'!I12 -> 1 | Q12: ='Class 10 11 2024'!I12 -> 0 | R12: ='Class 11 11 2024'!I12 -> 0 | S12: ='Class 12 11 2024'!I12 -> 0 | T12: =SUM(IF(WEEKDAY(M$6,2)<6,M12,0),IF(WEEKDAY(N$6,2)<6,N12,0),IF(WEEKDAY(O$6,2)<6,O12,0),IF(WEEKDAY(P$6,2)<6,P12,0),IF(WEEKDAY(Q$6,2)<6,Q12,0),IF(WEEKDAY(R$6,2)<6,R12,0),IF(WEEKDAY(S$6,2)<6,S12,0))/5 -> 0 | U12: =SUM(M12:S12)/7 -> 0.14285714 | W12: 0.16666667 | X12: =B12+M12 -> 0 | Y12: =C12+N12 -> 0 | Z12: =D12+O12 -> 1 | AA12: =E12+P12 -> 1 | AB12: =F12+Q12 -> 2 | AC12: =G12+R12 -> 0 | AD12: =H12+S12 -> 0 | AE12: =SUM(IF(WEEKDAY(X$6,2)<6,X12,0),IF(WEEKDAY(Y$6,2)<6,Y12,0),IF(WEEKDAY(Z$6,2)<6,Z12,0),IF(WEEKDAY(AA$6,2)<6,AA12,0),IF(WEEKDAY(AB$6,2)<6,AB12,0),IF(WEEKDAY(AC$6,2)<6,AC12,0),IF(WEEKDAY(AD$6,2)<6,AD12,0))/5 -> 0.2 | AF12: =SUM(X12:AD12)/7 -> 0.57142857
A13: 0.20833333 | B13: ='Class 06 11 2024'!B13 -> 1 | C13: ='Class 07 11 2024'!B13 -> 2 | D13: ='Class 08 11 2024'!B13 -> 1 | E13: ='Class 09 11 2024'!B13 -> 0 | F13: ='Class 10 11 2024'!B13 -> 0 | G13: ='Class 11 11 2024'!B13 -> 4 | H13: ='Class 12 11 2024'!B13 -> 1 | I13: =SUM(IF(WEEKDAY(B$6,2)<6,B13,0),IF(WEEKDAY(C$6,2)<6,C13,0),IF(WEEKDAY(D$6,2)<6,D13,0),IF(WEEKDAY(E$6,2)<6,E13,0),IF(WEEKDAY(F$6,2)<6,F13,0),IF(WEEKDAY(G$6,2)<6,G13,0),IF(WEEKDAY(H$6,2)<6,H13,0))/5 -> 1.8 | J13: =SUM(B13:H13)/7 -> 1.2857143 | L13: 0.20833333 | M13: ='Class 06 11 2024'!I13 -> 0 | N13: ='Class 07 11 2024'!I13 -> 0 | O13: ='Class 08 11 2024'!I13 -> 0 | P13: ='Class 09 11 2024'!I13 -> 1 | Q13: ='Class 10 11 2024'!I13 -> 0 | R13: ='Class 11 11 2024'!I13 -> 0 | S13: ='Class 12 11 2024'!I13 -> 0 | T13: =SUM(IF(WEEKDAY(M$6,2)<6,M13,0),IF(WEEKDAY(N$6,2)<6,N13,0),IF(WEEKDAY(O$6,2)<6,O13,0),IF(WEEKDAY(P$6,2)<6,P13,0),IF(WEEKDAY(Q$6,2)<6,Q13,0),IF(WEEKDAY(R$6,2)<6,R13,0),IF(WEEKDAY(S$6,2)<6,S13,0))/5 -> 0 | U13: =SUM(M13:S13)/7 -> 0.14285714 | W13: 0.20833333 | X13: =B13+M13 -> 1 | Y13: =C13+N13 -> 2 | Z13: =D13+O13 -> 1 | AA13: =E13+P13 -> 1 | AB13: =F13+Q13 -> 0 | AC13: =G13+R13 -> 4 | AD13: =H13+S13 -> 1 | AE13: =SUM(IF(WEEKDAY(X$6,2)<6,X13,0),IF(WEEKDAY(Y$6,2)<6,Y13,0),IF(WEEKDAY(Z$6,2)<6,Z13,0),IF(WEEKDAY(AA$6,2)<6,AA13,0),IF(WEEKDAY(AB$6,2)<6,AB13,0),IF(WEEKDAY(AC$6,2)<6,AC13,0),IF(WEEKDAY(AD$6,2)<6,AD13,0))/5 -> 1.8 | AF13: =SUM(X13:AD13)/7 -> 1.4285714
A14: 0.25 | B14: ='Class 06 11 2024'!B14 -> 3 | C14: ='Class 07 11 2024'!B14 -> 3 | D14: ='Class 08 11 2024'!B14 -> 2 | E14: ='Class 09 11 2024'!B14 -> 5 | F14: ='Class 10 11 2024'!B14 -> 1 | G14: ='Class 11 11 2024'!B14 -> 1 | H14: ='Class 12 11 2024'!B14 -> 1 | I14: =SUM(IF(WEEKDAY(B$6,2)<6,B14,0),IF(WEEKDAY(C$6,2)<6,C14,0),IF(WEEKDAY(D$6,2)<6,D14,0),IF(WEEKDAY(E$6,2)<6,E14,0),IF(WEEKDAY(F$6,2)<6,F14,0),IF(WEEKDAY(G$6,2)<6,G14,0),IF(WEEKDAY(H$6,2)<6,H14,0))/5 -> 2 | J14: =SUM(B14:H14)/7 -> 2.2857143 | L14: 0.25 | M14: ='Class 06 11 2024'!I14 -> 0 | N14: ='Class 07 11 2024'!I14 -> 0 | O14: ='Class 08 11 2024'!I14 -> 0 | P14: ='Class 09 11 2024'!I14 -> 0 | Q14: ='Class 10 11 2024'!I14 -> 0 | R14: ='Class 11 11 2024'!I14 -> 0 | S14: ='Class 12 11 2024'!I14 -> 1 | T14: =SUM(IF(WEEKDAY(M$6,2)<6,M14,0),IF(WEEKDAY(N$6,2)<6,N14,0),IF(WEEKDAY(O$6,2)<6,O14,0),IF(WEEKDAY(P$6,2)<6,P14,0),IF(WEEKDAY(Q$6,2)<6,Q14,0),IF(WEEKDAY(R$6,2)<6,R14,0),IF(WEEKDAY(S$6,2)<6,S14,0))/5 -> 0.2 | U14: =SUM(M14:S14)/7 -> 0.14285714 | W14: 0.25 | X14: =B14+M14 -> 3 | Y14: =C14+N14 -> 3 | Z14: =D14+O14 -> 2 | AA14: =E14+P14 -> 5 | AB14: =F14+Q14 -> 1 | AC14: =G14+R14 -> 1 | AD14: =H14+S14 -> 2 | AE14: =SUM(IF(WEEKDAY(X$6,2)<6,X14,0),IF(WEEKDAY(Y$6,2)<6,Y14,0),IF(WEEKDAY(Z$6,2)<6,Z14,0),IF(WEEKDAY(AA$6,2)<6,AA14,0),IF(WEEKDAY(AB$6,2)<6,AB14,0),IF(WEEKDAY(AC$6,2)<6,AC14,0),IF(WEEKDAY(AD$6,2)<6,AD14,0))/5 -> 2.2 | AF14: =SUM(X14:AD14)/7 -> 2.4285714
A15: 0.29166667 | B15: ='Class 06 11 2024'!B15 -> 7 | C15: ='Class 07 11 2024'!B15 -> 6 | D15: ='Class 08 11 2024'!B15 -> 8 | E15: ='Class 09 11 2024'!B15 -> 1 | F15: ='Class 10 11 2024'!B15 -> 4 | G15: ='Class 11 11 2024'!B15 -> 5 | H15: ='Class 12 11 2024'!B15 -> 7 | I15: =SUM(IF(WEEKDAY(B$6,2)<6,B15,0),IF(WEEKDAY(C$6,2)<6,C15,0),IF(WEEKDAY(D$6,2)<6,D15,0),IF(WEEKDAY(E$6,2)<6,E15,0),IF(WEEKDAY(F$6,2)<6,F15,0),IF(WEEKDAY(G$6,2)<6,G15,0),IF(WEEKDAY(H$6,2)<6,H15,0))/5 -> 6.6 | J15: =SUM(B15:H15)/7 -> 5.4285714 | L15: 0.29166667 | M15: ='Class 06 11 2024'!I15 -> 6 | N15: ='Class 07 11 2024'!I15 -> 4 | O15: ='Class 08 11 2024'!I15 -> 3 | P15: ='Class 09 11 2024'!I15 -> 0 | Q15: ='Class 10 11 2024'!I15 -> 0 | R15: ='Class 11 11 2024'!I15 -> 3 | S15: ='Class 12 11 2024'!I15 -> 2 | T15: =SUM(IF(WEEKDAY(M$6,2)<6,M15,0),IF(WEEKDAY(N$6,2)<6,N15,0),IF(WEEKDAY(O$6,2)<6,O15,0),IF(WEEKDAY(P$6,2)<6,P15,0),IF(WEEKDAY(Q$6,2)<6,Q15,0),IF(WEEKDAY(R$6,2)<6,R15,0),IF(WEEKDAY(S$6,2)<6,S15,0))/5 -> 3.6 | U15: =SUM(M15:S15)/7 -> 2.5714286 | W15: 0.29166667 | X15: =B15+M15 -> 13 | Y15: =C15+N15 -> 10 | Z15: =D15+O15 -> 11 | AA15: =E15+P15 -> 1 | AB15: =F15+Q15 -> 4 | AC15: =G15+R15 -> 8 | AD15: =H15+S15 -> 9 | AE15: =SUM(IF(WEEKDAY(X$6,2)<6,X15,0),IF(WEEKDAY(Y$6,2)<6,Y15,0),IF(WEEKDAY(Z$6,2)<6,Z15,0),IF(WEEKDAY(AA$6,2)<6,AA15,0),IF(WEEKDAY(AB$6,2)<6,AB15,0),IF(WEEKDAY(AC$6,2)<6,AC15,0),IF(WEEKDAY(AD$6,2)<6,AD15,0))/5 -> 10.2 | AF15: =SUM(X15:AD15)/7 -> 8
A16: 0.33333333 | B16: ='Class 06 11 2024'!B16 -> 11 | C16: ='Class 07 11 2024'!B16 -> 14 | D16: ='Class 08 11 2024'!B16 -> 11 | E16: ='Class 09 11 2024'!B16 -> 3 | F16: ='Class 10 11 2024'!B16 -> 2 | G16: ='Class 11 11 2024'!B16 -> 14 | H16: ='Class 12 11 2024'!B16 -> 14 | I16: =SUM(IF(WEEKDAY(B$6,2)<6,B16,0),IF(WEEKDAY(C$6,2)<6,C16,0),IF(WEEKDAY(D$6,2)<6,D16,0),IF(WEEKDAY(E$6,2)<6,E16,0),IF(WEEKDAY(F$6,2)<6,F16,0),IF(WEEKDAY(G$6,2)<6,G16,0),IF(WEEKDAY(H$6,2)<6,H16,0))/5 -> 12.8 | J16: =SUM(B16:H16)/7 -> 9.8571429 | L16: 0.33333333 | M16: ='Class 06 11 2024'!I16 -> 6 | N16: ='Class 07 11 2024'!I16 -> 6 | O16: ='Class 08 11 2024'!I16 -> 3 | P16: ='Class 09 11 2024'!I16 -> 0 | Q16: ='Class 10 11 2024'!I16 -> 1 | R16: ='Class 11 11 2024'!I16 -> 10 | S16: ='Class 12 11 2024'!I16 -> 11 | T16: =SUM(IF(WEEKDAY(M$6,2)<6,M16,0),IF(WEEKDAY(N$6,2)<6,N16,0),IF(WEEKDAY(O$6,2)<6,O16,0),IF(WEEKDAY(P$6,2)<6,P16,0),IF(WEEKDAY(Q$6,2)<6,Q16,0),IF(WEEKDAY(R$6,2)<6,R16,0),IF(WEEKDAY(S$6,2)<6,S16,0))/5 -> 7.2 | U16: =SUM(M16:S16)/7 -> 5.2857143 | W16: 0.33333333 | X16: =B16+M16 -> 17 | Y16: =C16+N16 -> 20 | Z16: =D16+O16 -> 14 | AA16: =E16+P16 -> 3 | AB16: =F16+Q16 -> 3 | AC16: =G16+R16 -> 24 | AD16: =H16+S16 -> 25 | AE16: =SUM(IF(WEEKDAY(X$6,2)<6,X16,0),IF(WEEKDAY(Y$6,2)<6,Y16,0),IF(WEEKDAY(Z$6,2)<6,Z16,0),IF(WEEKDAY(AA$6,2)<6,AA16,0),IF(WEEKDAY(AB$6,2)<6,AB16,0),IF(WEEKDAY(AC$6,2)<6,AC16,0),IF(WEEKDAY(AD$6,2)<6,AD16,0))/5 -> 20 | AF16: =SUM(X16:AD16)/7 -> 15.142857
A17: 0.375 | B17: ='Class 06 11 2024'!B17 -> 43 | C17: ='Class 07 11 2024'!B17 -> 36 | D17: ='Class 08 11 2024'!B17 -> 35 | E17: ='Class 09 11 2024'!B17 -> 9 | F17: ='Class 10 11 2024'!B17 -> 9 | G17: ='Class 11 11 2024'!B17 -> 37 | H17: ='Class 12 11 2024'!B17 -> 39 | I17: =SUM(IF(WEEKDAY(B$6,2)<6,B17,0),IF(WEEKDAY(C$6,2)<6,C17,0),IF(WEEKDAY(D$6,2)<6,D17,0),IF(WEEKDAY(E$6,2)<6,E17,0),IF(WEEKDAY(F$6,2)<6,F17,0),IF(WEEKDAY(G$6,2)<6,G17,0),IF(WEEKDAY(H$6,2)<6,H17,0))/5 -> 38 | J17: =SUM(B17:H17)/7 -> 29.714286 | L17: 0.375 | M17: ='Class 06 11 2024'!I17 -> 13 | N17: ='Class 07 11 2024'!I17 -> 14 | O17: ='Class 08 11 2024'!I17 -> 13 | P17: ='Class 09 11 2024'!I17 -> 6 | Q17: ='Class 10 11 2024'!I17 -> 4 | R17: ='Class 11 11 2024'!I17 -> 16 | S17: ='Class 12 11 2024'!I17 -> 22 | T17: =SUM(IF(WEEKDAY(M$6,2)<6,M17,0),IF(WEEKDAY(N$6,2)<6,N17,0),IF(WEEKDAY(O$6,2)<6,O17,0),IF(WEEKDAY(P$6,2)<6,P17,0),IF(WEEKDAY(Q$6,2)<6,Q17,0),IF(WEEKDAY(R$6,2)<6,R17,0),IF(WEEKDAY(S$6,2)<6,S17,0))/5 -> 15.6 | U17: =SUM(M17:S17)/7 -> 12.571429 | W17: 0.375 | X17: =B17+M17 -> 56 | Y17: =C17+N17 -> 50 | Z17: =D17+O17 -> 48 | AA17: =E17+P17 -> 15 | AB17: =F17+Q17 -> 13 | AC17: =G17+R17 -> 53 | AD17: =H17+S17 -> 61 | AE17: =SUM(IF(WEEKDAY(X$6,2)<6,X17,0),IF(WEEKDAY(Y$6,2)<6,Y17,0),IF(WEEKDAY(Z$6,2)<6,Z17,0),IF(WEEKDAY(AA$6,2)<6,AA17,0),IF(WEEKDAY(AB$6,2)<6,AB17,0),IF(WEEKDAY(AC$6,2)<6,AC17,0),IF(WEEKDAY(AD$6,2)<6,AD17,0))/5 -> 53.6 | AF17: =SUM(X17:AD17)/7 -> 42.285714
A18: 0.41666667 | B18: ='Class 06 11 2024'!B18 -> 16 | C18: ='Class 07 11 2024'!B18 -> 18 | D18: ='Class 08 11 2024'!B18 -> 16 | E18: ='Class 09 11 2024'!B18 -> 15 | F18: ='Class 10 11 2024'!B18 -> 21 | G18: ='Class 11 11 2024'!B18 -> 10 | H18: ='Class 12 11 2024'!B18 -> 20 | I18: =SUM(IF(WEEKDAY(B$6,2)<6,B18,0),IF(WEEKDAY(C$6,2)<6,C18,0),IF(WEEKDAY(D$6,2)<6,D18,0),IF(WEEKDAY(E$6,2)<6,E18,0),IF(WEEKDAY(F$6,2)<6,F18,0),IF(WEEKDAY(G$6,2)<6,G18,0),IF(WEEKDAY(H$6,2)<6,H18,0))/5 -> 16 | J18: =SUM(B18:H18)/7 -> 16.571429 | L18: 0.41666667 | M18: ='Class 06 11 2024'!I18 -> 13 | N18: ='Class 07 11 2024'!I18 -> 11 | O18: ='Class 08 11 2024'!I18 -> 9 | P18: ='Class 09 11 2024'!I18 -> 12 | Q18: ='Class 10 11 2024'!I18 -> 15 | R18: ='Class 11 11 2024'!I18 -> 12 | S18: ='Class 12 11 2024'!I18 -> 14 | T18: =SUM(IF(WEEKDAY(M$6,2)<6,M18,0),IF(WEEKDAY(N$6,2)<6,N18,0),IF(WEEKDAY(O$6,2)<6,O18,0),IF(WEEKDAY(P$6,2)<6,P18,0),IF(WEEKDAY(Q$6,2)<6,Q18,0),IF(WEEKDAY(R$6,2)<6,R18,0),IF(WEEKDAY(S$6,2)<6,S18,0))/5 -> 11.8 | U18: =SUM(M18:S18)/7 -> 12.285714 | W18: 0.41666667 | X18: =B18+M18 -> 29 | Y18: =C18+N18 -> 29 | Z18: =D18+O18 -> 25 | AA18: =E18+P18 -> 27 | AB18: =F18+Q18 -> 36 | AC18: =G18+R18 -> 22 | AD18: =H18+S18 -> 34 | AE18: =SUM(IF(WEEKDAY(X$6,2)<6,X18,0),IF(WEEKDAY(Y$6,2)<6,Y18,0),IF(WEEKDAY(Z$6,2)<6,Z18,0),IF(WEEKDAY(AA$6,2)<6,AA18,0),IF(WEEKDAY(AB$6,2)<6,AB18,0),IF(WEEKDAY(AC$6,2)<6,AC18,0),IF(WEEKDAY(AD$6,2)<6,AD18,0))/5 -> 27.8 | AF18: =SUM(X18:AD18)/7 -> 28.857143
A19: 0.45833333 | B19: ='Class 06 11 2024'!B19 -> 16 | C19: ='Class 07 11 2024'!B19 -> 19 | D19: ='Class 08 11 2024'!B19 -> 19 | E19: ='Class 09 11 2024'!B19 -> 18 | F19: ='Class 10 11 2024'!B19 -> 11 | G19: ='Class 11 11 2024'!B19 -> 14 | H19: ='Class 12 11 2024'!B19 -> 13 | I19: =SUM(IF(WEEKDAY(B$6,2)<6,B19,0),IF(WEEKDAY(C$6,2)<6,C19,0),IF(WEEKDAY(D$6,2)<6,D19,0),IF(WEEKDAY(E$6,2)<6,E19,0),IF(WEEKDAY(F$6,2)<6,F19,0),IF(WEEKDAY(G$6,2)<6,G19,0),IF(WEEKDAY(H$6,2)<6,H19,0))/5 -> 16.2 | J19: =SUM(B19:H19)/7 -> 15.714286 | L19: 0.45833333 | M19: ='Class 06 11 2024'!I19 -> 12 | N19: ='Class 07 11 2024'!I19 -> 12 | O19: ='Class 08 11 2024'!I19 -> 13 | P19: ='Class 09 11 2024'!I19 -> 15 | Q19: ='Class 10 11 2024'!I19 -> 19 | R19: ='Class 11 11 2024'!I19 -> 14 | S19: ='Class 12 11 2024'!I19 -> 13 | T19: =SUM(IF(WEEKDAY(M$6,2)<6,M19,0),IF(WEEKDAY(N$6,2)<6,N19,0),IF(WEEKDAY(O$6,2)<6,O19,0),IF(WEEKDAY(P$6,2)<6,P19,0),IF(WEEKDAY(Q$6,2)<6,Q19,0),IF(WEEKDAY(R$6,2)<6,R19,0),IF(WEEKDAY(S$6,2)<6,S19,0))/5 -> 12.8 | U19: =SUM(M19:S19)/7 -> 14 | W19: 0.45833333 | X19: =B19+M19 -> 28 | Y19: =C19+N19 -> 31 | Z19: =D19+O19 -> 32 | AA19: =E19+P19 -> 33 | AB19: =F19+Q19 -> 30 | AC19: =G19+R19 -> 28 | AD19: =H19+S19 -> 26 | AE19: =SUM(IF(WEEKDAY(X$6,2)<6,X19,0),IF(WEEKDAY(Y$6,2)<6,Y19,0),IF(WEEKDAY(Z$6,2)<6,Z19,0),IF(WEEKDAY(AA$6,2)<6,AA19,0),IF(WEEKDAY(AB$6,2)<6,AB19,0),IF(WEEKDAY(AC$6,2)<6,AC19,0),IF(WEEKDAY(AD$6,2)<6,AD19,0))/5 -> 29 | AF19: =SUM(X19:AD19)/7 -> 29.714286
... A31: 0.95833333 | B31: ='Class 06 11 2024'!B31 -> 1 | C31: ='Class 07 11 2024'!B31 -> 2 | D31: ='Class 08 11 2024'!B31 -> 5 | E31: ='Class 09 11 2024'!B31 -> 2 | F31: ='Class 10 11 2024'!B31 -> 1 | G31: ='Class 11 11 2024'!B31 -> 4 | H31: ='Class 12 11 2024'!B31 -> 2 | I31: =SUM(IF(WEEKDAY(B$6,2)<6,B31,0),IF(WEEKDAY(C$6,2)<6,C31,0),IF(WEEKDAY(D$6,2)<6,D31,0),IF(WEEKDAY(E$6,2)<6,E31,0),IF(WEEKDAY(F$6,2)<6,F31,0),IF(WEEKDAY(G$6,2)<6,G31,0),IF(WEEKDAY(H$6,2)<6,H31,0))/5 -> 2.8 | J31: =SUM(B31:H31)/7 -> 2.4285714 | L31: 0.95833333 | M31: ='Class 06 11 2024'!I31 -> 3 | N31: ='Class 07 11 2024'!I31 -> 5 | O31: ='Class 08 11 2024'!I31 -> 5 | P31: ='Class 09 11 2024'!I31 -> 8 | Q31: ='Class 10 11 2024'!I31 -> 1 | R31: ='Class 11 11 2024'!I31 -> 8 | S31: ='Class 12 11 2024'!I31 -> 7 | T31: =SUM(IF(WEEKDAY(M$6,2)<6,M31,0),IF(WEEKDAY(N$6,2)<6,N31,0),IF(WEEKDAY(O$6,2)<6,O31,0),IF(WEEKDAY(P$6,2)<6,P31,0),IF(WEEKDAY(Q$6,2)<6,Q31,0),IF(WEEKDAY(R$6,2)<6,R31,0),IF(WEEKDAY(S$6,2)<6,S31,0))/5 -> 5.6 | U31: =SUM(M31:S31)/7 -> 5.2857143 | W31: 0.95833333 | X31: =B31+M31 -> 4 | Y31: =C31+N31 -> 7 | Z31: =D31+O31 -> 10 | AA31: =E31+P31 -> 10 | AB31: =F31+Q31 -> 2 | AC31: =G31+R31 -> 12 | AD31: =H31+S31 -> 9 | AE31: =SUM(IF(WEEKDAY(X$6,2)<6,X31,0),IF(WEEKDAY(Y$6,2)<6,Y31,0),IF(WEEKDAY(Z$6,2)<6,Z31,0),IF(WEEKDAY(AA$6,2)<6,AA31,0),IF(WEEKDAY(AB$6,2)<6,AB31,0),IF(WEEKDAY(AC$6,2)<6,AC31,0),IF(WEEKDAY(AD$6,2)<6,AD31,0))/5 -> 8.4 | AF31: =SUM(X31:AD31)/7 -> 7.7142857
A33: Total | L33: Total | W33: Total
A34: 12H(7-19) | B34: =SUM(B15:B26) -> 232 | C34: =SUM(C15:C26) -> 248 | D34: =SUM(D15:D26) -> 263 | E34: =SUM(E15:E26) -> 203 | F34: =SUM(F15:F26) -> 178 | G34: =SUM(G15:G26) -> 248 | H34: =SUM(H15:H26) -> 244 | I34: =SUM(IF(WEEKDAY(B$6,2)<6,B34,0),IF(WEEKDAY(C$6,2)<6,C34,0),IF(WEEKDAY(D$6,2)<6,D34,0),IF(WEEKDAY(E$6,2)<6,E34,0),IF(WEEKDAY(F$6,2)<6,F34,0),IF(WEEKDAY(G$6,2)<6,G34,0),IF(WEEKDAY(H$6,2)<6,H34,0))/5 -> 247 | J34: =SUM(B34:H34)/7 -> 230.85714 | L34: 12H(7-19) | M34: =SUM(M15:M26) -> 205 | N34: =SUM(N15:N26) -> 207 | O34: =SUM(O15:O26) -> 214 | P34: =SUM(P15:P26) -> 190 | Q34: =SUM(Q15:Q26) -> 172 | R34: =SUM(R15:R26) -> 196 | S34: =SUM(S15:S26) -> 230 | T34: =SUM(IF(WEEKDAY(M$6,2)<6,M34,0),IF(WEEKDAY(N$6,2)<6,N34,0),IF(WEEKDAY(O$6,2)<6,O34,0),IF(WEEKDAY(P$6,2)<6,P34,0),IF(WEEKDAY(Q$6,2)<6,Q34,0),IF(WEEKDAY(R$6,2)<6,R34,0),IF(WEEKDAY(S$6,2)<6,S34,0))/5 -> 210.4 | U34: =SUM(M34:S34)/7 -> 202 | W34: 12H(7-19) | X34: =SUM(X15:X26) -> 437 | Y34: =SUM(Y15:Y26) -> 455 | Z34: =SUM(Z15:Z26) -> 477 | AA34: =SUM(AA15:AA26) -> 393 | AB34: =SUM(AB15:AB26) -> 350 | AC34: =SUM(AC15:AC26) -> 444 | AD34: =SUM(AD15:AD26) -> 474 | AE34: =SUM(IF(WEEKDAY(X$6,2)<6,X34,0),IF(WEEKDAY(Y$6,2)<6,Y34,0),IF(WEEKDAY(Z$6,2)<6,Z34,0),IF(WEEKDAY(AA$6,2)<6,AA34,0),IF(WEEKDAY(AB$6,2)<6,AB34,0),IF(WEEKDAY(AC$6,2)<6,AC34,0),IF(WEEKDAY(AD$6,2)<6,AD34,0))/5 -> 457.4 | AF34: =SUM(X34:AD34)/7 -> 432.85714
A35: 16H(6-22) | B35: =SUM(B14:B29) -> 284 | C35: =SUM(C14:C29) -> 301 | D35: =SUM(D14:D29) -> 333 | E35: =SUM(E14:E29) -> 248 | F35: =SUM(F14:F29) -> 205 | G35: =SUM(G14:G29) -> 281 | H35: =SUM(H14:H29) -> 281 | I35: =SUM(IF(WEEKDAY(B$6,2)<6,B35,0),IF(WEEKDAY(C$6,2)<6,C35,0),IF(WEEKDAY(D$6,2)<6,D35,0),IF(WEEKDAY(E$6,2)<6,E35,0),IF(WEEKDAY(F$6,2)<6,F35,0),IF(WEEKDAY(G$6,2)<6,G35,0),IF(WEEKDAY(H$6,2)<6,H35,0))/5 -> 296 | J35: =SUM(B35:H35)/7 -> 276.14286 | L35: 16H(6-22) | M35: =SUM(M14:M29) -> 258 | N35: =SUM(N14:N29) -> 261 | O35: =SUM(O14:O29) -> 262 | P35: =SUM(P14:P29) -> 218 | Q35: =SUM(Q14:Q29) -> 202 | R35: =SUM(R14:R29) -> 230 | S35: =SUM(S14:S29) -> 277 | T35: =SUM(IF(WEEKDAY(M$6,2)<6,M35,0),IF(WEEKDAY(N$6,2)<6,N35,0),IF(WEEKDAY(O$6,2)<6,O35,0),IF(WEEKDAY(P$6,2)<6,P35,0),IF(WEEKDAY(Q$6,2)<6,Q35,0),IF(WEEKDAY(R$6,2)<6,R35,0),IF(WEEKDAY(S$6,2)<6,S35,0))/5 -> 257.6 | U35: =SUM(M35:S35)/7 -> 244 | W35: 16H(6-22) | X35: =SUM(X14:X29) -> 542 | Y35: =SUM(Y14:Y29) -> 562 | Z35: =SUM(Z14:Z29) -> 595 | AA35: =SUM(AA14:AA29) -> 466 | AB35: =SUM(AB14:AB29) -> 407 | AC35: =SUM(AC14:AC29) -> 511 | AD35: =SUM(AD14:AD29) -> 558 | AE35: =SUM(IF(WEEKDAY(X$6,2)<6,X35,0),IF(WEEKDAY(Y$6,2)<6,Y35,0),IF(WEEKDAY(Z$6,2)<6,Z35,0),IF(WEEKDAY(AA$6,2)<6,AA35,0),IF(WEEKDAY(AB$6,2)<6,AB35,0),IF(WEEKDAY(AC$6,2)<6,AC35,0),IF(WEEKDAY(AD$6,2)<6,AD35,0))/5 -> 553.6 | AF35: =SUM(X35:AD35)/7 -> 520.14286
A36: 18H(6-24) | B36: =SUM(B14:B31) -> 288 | C36: =SUM(C14:C31) -> 309 | D36: =SUM(D14:D31) -> 351 | E36: =SUM(E14:E31) -> 254 | F36: =SUM(F14:F31) -> 209 | G36: =SUM(G14:G31) -> 293 | H36: =SUM(H14:H31) -> 290 | I36: =SUM(IF(WEEKDAY(B$6,2)<6,B36,0),IF(WEEKDAY(C$6,2)<6,C36,0),IF(WEEKDAY(D$6,2)<6,D36,0),IF(WEEKDAY(E$6,2)<6,E36,0),IF(WEEKDAY(F$6,2)<6,F36,0),IF(WEEKDAY(G$6,2)<6,G36,0),IF(WEEKDAY(H$6,2)<6,H36,0))/5 -> 306.2 | J36: =SUM(B36:H36)/7 -> 284.85714 | L36: 18H(6-24) | M36: =SUM(M14:M31) -> 269 | N36: =SUM(N14:N31) -> 277 | O36: =SUM(O14:O31) -> 280 | P36: =SUM(P14:P31) -> 232 | Q36: =SUM(Q14:Q31) -> 211 | R36: =SUM(R14:R31) -> 246 | S36: =SUM(S14:S31) -> 293 | T36: =SUM(IF(WEEKDAY(M$6,2)<6,M36,0),IF(WEEKDAY(N$6,2)<6,N36,0),IF(WEEKDAY(O$6,2)<6,O36,0),IF(WEEKDAY(P$6,2)<6,P36,0),IF(WEEKDAY(Q$6,2)<6,Q36,0),IF(WEEKDAY(R$6,2)<6,R36,0),IF(WEEKDAY(S$6,2)<6,S36,0))/5 -> 273 | U36: =SUM(M36:S36)/7 -> 258.28571 | W36: 18H(6-24) | X36: =SUM(X14:X31) -> 557 | Y36: =SUM(Y14:Y31) -> 586 | Z36: =SUM(Z14:Z31) -> 631 | AA36: =SUM(AA14:AA31) -> 486 | AB36: =SUM(AB14:AB31) -> 420 | AC36: =SUM(AC14:AC31) -> 539 | AD36: =SUM(AD14:AD31) -> 583 | AE36: =SUM(IF(WEEKDAY(X$6,2)<6,X36,0),IF(WEEKDAY(Y$6,2)<6,Y36,0),IF(WEEKDAY(Z$6,2)<6,Z36,0),IF(WEEKDAY(AA$6,2)<6,AA36,0),IF(WEEKDAY(AB$6,2)<6,AB36,0),IF(WEEKDAY(AC$6,2)<6,AC36,0),IF(WEEKDAY(AD$6,2)<6,AD36,0))/5 -> 579.2 | AF36: =SUM(X36:AD36)/7 -> 543.14286
A37: 24H(0-24) | B37: =SUM(B8:B31) -> 290 | C37: =SUM(C8:C31) -> 311 | D37: =SUM(D8:D31) -> 355 | E37: =SUM(E8:E31) -> 257 | F37: =SUM(F8:F31) -> 218 | G37: =SUM(G8:G31) -> 298 | H37: =SUM(H8:H31) -> 293 | I37: =SUM(IF(WEEKDAY(B$6,2)<6,B37,0),IF(WEEKDAY(C$6,2)<6,C37,0),IF(WEEKDAY(D$6,2)<6,D37,0),IF(WEEKDAY(E$6,2)<6,E37,0),IF(WEEKDAY(F$6,2)<6,F37,0),IF(WEEKDAY(G$6,2)<6,G37,0),IF(WEEKDAY(H$6,2)<6,H37,0))/5 -> 309.4 | J37: =SUM(B37:H37)/7 -> 288.85714 | L37: 24H(0-24) | M37: =SUM(M8:M31) -> 270 | N37: =SUM(N8:N31) -> 279 | O37: =SUM(O8:O31) -> 285 | P37: =SUM(P8:P31) -> 240 | Q37: =SUM(Q8:Q31) -> 219 | R37: =SUM(R8:R31) -> 247 | S37: =SUM(S8:S31) -> 295 | T37: =SUM(IF(WEEKDAY(M$6,2)<6,M37,0),IF(WEEKDAY(N$6,2)<6,N37,0),IF(WEEKDAY(O$6,2)<6,O37,0),IF(WEEKDAY(P$6,2)<6,P37,0),IF(WEEKDAY(Q$6,2)<6,Q37,0),IF(WEEKDAY(R$6,2)<6,R37,0),IF(WEEKDAY(S$6,2)<6,S37,0))/5 -> 275.2 | U37: =SUM(M37:S37)/7 -> 262.14286 | W37: 24H(0-24) | X37: =SUM(X8:X31) -> 560 | Y37: =SUM(Y8:Y31) -> 590 | Z37: =SUM(Z8:Z31) -> 640 | AA37: =SUM(AA8:AA31) -> 497 | AB37: =SUM(AB8:AB31) -> 437 | AC37: =SUM(AC8:AC31) -> 545 | AD37: =SUM(AD8:AD31) -> 588 | AE37: =SUM(IF(WEEKDAY(X$6,2)<6,X37,0),IF(WEEKDAY(Y$6,2)<6,Y37,0),IF(WEEKDAY(Z$6,2)<6,Z37,0),IF(WEEKDAY(AA$6,2)<6,AA37,0),IF(WEEKDAY(AB$6,2)<6,AB37,0),IF(WEEKDAY(AC$6,2)<6,AC37,0),IF(WEEKDAY(AD$6,2)<6,AD37,0))/5 -> 584.6 | AF37: =SUM(X37:AD37)/7 -> 551
A39: AM Peak | B39: =INDEX(($A8:$J19),MATCH(B40,B8:B19,0),1) -> 0.375 | C39: =INDEX(($A8:$J19),MATCH(C40,C8:C19,0),1) -> 0.375 | D39: =INDEX(($A8:$J19),MATCH(D40,D8:D19,0),1) -> 0.375 | E39: =INDEX(($A8:$J19),MATCH(E40,E8:E19,0),1) -> 0.45833333 | F39: =INDEX(($A8:$J19),MATCH(F40,F8:F19,0),1) -> 0.41666667 | G39: =INDEX(($A8:$J19),MATCH(G40,G8:G19,0),1) -> 0.375 | H39: =INDEX(($A8:$J19),MATCH(H40,H8:H19,0),1) -> 0.375 | I39: =INDEX(($A8:$J19),MATCH(I40,I8:I19,0),1) -> 0.375 | J39: =INDEX(($A8:$J19),MATCH(J40,J8:J19,0),1) -> 0.375 | L39: AM Peak | M39: =INDEX(($L8:$U19),MATCH(M40,M8:M19,0),1) -> 0.375 | N39: =INDEX(($L8:$U19),MATCH(N40,N8:N19,0),1) -> 0.375 | O39: =INDEX(($L8:$U19),MATCH(O40,O8:O19,0),1) -> 0.375 | P39: =INDEX(($L8:$U19),MATCH(P40,P8:P19,0),1) -> 0.45833333 | Q39: =INDEX(($L8:$U19),MATCH(Q40,Q8:Q19,0),1) -> 0.45833333 | R39: =INDEX(($L8:$U19),MATCH(R40,R8:R19,0),1) -> 0.375 | S39: =INDEX(($L8:$U19),MATCH(S40,S8:S19,0),1) -> 0.375 | T39: =INDEX(($L8:$U19),MATCH(T40,T8:T19,0),1) -> 0.375 | U39: =INDEX(($L8:$U19),MATCH(U40,U8:U19,0),1) -> 0.45833333 | W39: AM Peak | X39: =INDEX(($W8:$AF19),MATCH(X40,X8:X19,0),1) -> 0.375 | Y39: =INDEX(($W8:$AF19),MATCH(Y40,Y8:Y19,0),1) -> 0.375 | Z39: =INDEX(($W8:$AF19),MATCH(Z40,Z8:Z19,0),1) -> 0.375 | AA39: =INDEX(($W8:$AF19),MATCH(AA40,AA8:AA19,0),1) -> 0.45833333 | AB39: =INDEX(($W8:$AF19),MATCH(AB40,AB8:AB19,0),1) -> 0.41666667 | AC39: =INDEX(($W8:$AF19),MATCH(AC40,AC8:AC19,0),1) -> 0.375 | AD39: =INDEX(($W8:$AF19),MATCH(AD40,AD8:AD19,0),1) -> 0.375 | AE39: =INDEX(($W8:$AF19),MATCH(AE40,AE8:AE19,0),1) -> 0.375 | AF39: =INDEX(($W8:$AF19),MATCH(AF40,AF8:AF19,0),1) -> 0.375
B40: =MAX(B8:B19) -> 43 | C40: =MAX(C8:C19) -> 36 | D40: =MAX(D8:D19) -> 35 | E40: =MAX(E8:E19) -> 18 | F40: =MAX(F8:F19) -> 21 | G40: =MAX(G8:G19) -> 37 | H40: =MAX(H8:H19) -> 39 | I40: =MAX(I8:I19) -> 38 | J40: =MAX(J8:J19) -> 29.714286 | M40: =MAX(M8:M19) -> 13 | N40: =MAX(N8:N19) -> 14 | O40: =MAX(O8:O19) -> 13 | P40: =MAX(P8:P19) -> 15 | Q40: =MAX(Q8:Q19) -> 19 | R40: =MAX(R8:R19) -> 16 | S40: =MAX(S8:S19) -> 22 | T40: =MAX(T8:T19) -> 15.6 | U40: =MAX(U8:U19) -> 14 | X40: =MAX(X8:X19) -> 56 | Y40: =MAX(Y8:Y19) -> 50 | Z40: =MAX(Z8:Z19) -> 48 | AA40: =MAX(AA8:AA19) -> 33 | AB40: =MAX(AB8:AB19) -> 36 | AC40: =MAX(AC8:AC19) -> 53 | AD40: =MAX(AD8:AD19) -> 61 | AE40: =MAX(AE8:AE19) -> 53.6 | AF40: =MAX(AF8:AF19) -> 42.285714
A42: PM Peak | B42: =INDEX(($A20:$J31),MATCH(B43,B20:B31,0),1) -> 0.75 | C42: =INDEX(($A20:$J31),MATCH(C43,C20:C31,0),1) -> 0.625 | D42: =INDEX(($A20:$J31),MATCH(D43,D20:D31,0),1) -> 0.70833333 | E42: =INDEX(($A20:$J31),MATCH(E43,E20:E31,0),1) -> 0.625 | F42: =INDEX(($A20:$J31),MATCH(F43,F20:F31,0),1) -> 0.58333333 | G42: =INDEX(($A20:$J31),MATCH(G43,G20:G31,0),1) -> 0.70833333 | H42: =INDEX(($A20:$J31),MATCH(H43,H20:H31,0),1) -> 0.70833333 | I42: =INDEX(($A20:$J31),MATCH(I43,I20:I31,0),1) -> 0.75 | J42: =INDEX(($A20:$J31),MATCH(J43,J20:J31,0),1) -> 0.70833333 | L42: PM Peak | M42: =INDEX(($L20:$U31),MATCH(M43,M20:M31,0),1) -> 0.66666667 | N42: =INDEX(($L20:$U31),MATCH(N43,N20:N31,0),1) -> 0.66666667 | O42: =INDEX(($L20:$U31),MATCH(O43,O20:O31,0),1) -> 0.66666667 | P42: =INDEX(($L20:$U31),MATCH(P43,P20:P31,0),1) -> 0.625 | Q42: =INDEX(($L20:$U31),MATCH(Q43,Q20:Q31,0),1) -> 0.66666667 | R42: =INDEX(($L20:$U31),MATCH(R43,R20:R31,0),1) -> 0.66666667 | S42: =INDEX(($L20:$U31),MATCH(S43,S20:S31,0),1) -> 0.70833333 | T42: =INDEX(($L20:$U31),MATCH(T43,T20:T31,0),1) -> 0.66666667 | U42: =INDEX(($L20:$U31),MATCH(U43,U20:U31,0),1) -> 0.66666667 | W42: PM Peak | X42: =INDEX(($W20:$AF31),MATCH(X43,X20:X31,0),1) -> 0.66666667 | Y42: =INDEX(($W20:$AF31),MATCH(Y43,Y20:Y31,0),1) -> 0.70833333 | Z42: =INDEX(($W20:$AF31),MATCH(Z43,Z20:Z31,0),1) -> 0.70833333 | AA42: =INDEX(($W20:$AF31),MATCH(AA43,AA20:AA31,0),1) -> 0.625 | AB42: =INDEX(($W20:$AF31),MATCH(AB43,AB20:AB31,0),1) -> 0.54166667 | AC42: =INDEX(($W20:$AF31),MATCH(AC43,AC20:AC31,0),1) -> 0.66666667 | AD42: =INDEX(($W20:$AF31),MATCH(AD43,AD20:AD31,0),1) -> 0.70833333 | AE42: =INDEX(($W20:$AF31),MATCH(AE43,AE20:AE31,0),1) -> 0.70833333 | AF42: =INDEX(($W20:$AF31),MATCH(AF43,AF20:AF31,0),1) -> 0.66666667
B43: =MAX(B20:B31) -> 27 | C43: =MAX(C20:C31) -> 33 | D43: =MAX(D20:D31) -> 32 | E43: =MAX(E20:E31) -> 32 | F43: =MAX(F20:F31) -> 23 | G43: =MAX(G20:G31) -> 32 | H43: =MAX(H20:H31) -> 31 | I43: =MAX(I20:I31) -> 28.4 | J43: =MAX(J20:J31) -> 24.857143 | M43: =MAX(M20:M31) -> 33 | N43: =MAX(N20:N31) -> 35 | O43: =MAX(O20:O31) -> 37 | P43: =MAX(P20:P31) -> 31 | Q43: =MAX(Q20:Q31) -> 25 | R43: =MAX(R20:R31) -> 32 | S43: =MAX(S20:S31) -> 38 | T43: =MAX(T20:T31) -> 33.2 | U43: =MAX(U20:U31) -> 30 | X43: =MAX(X20:X31) -> 58 | Y43: =MAX(Y20:Y31) -> 61 | Z43: =MAX(Z20:Z31) -> 69 | AA43: =MAX(AA20:AA31) -> 63 | AB43: =MAX(AB20:AB31) -> 46 | AC43: =MAX(AC20:AC31) -> 56 | AD43: =MAX(AD20:AD31) -> 69 | AE43: =MAX(AE20:AE31) -> 58 | AF43: =MAX(AF20:AF31) -> 53.857143
A44: Paul Castle Associates | L44: Paul Castle Associates | W44: Paul Castle Associates

Sheet Class Summary
A1: ='Flow Summary'!A1 -> Wrexham ATC, Cristionydd Lane
A4: Direction: | B4: ='Flow Summary'!B4 -> Southbound | H4: Direction: | I4: ='Flow Summary'!M4 -> Northbound | O4: Direction: | P4: Total Flow
B5: Total Volume | C5: LIGHT | D5: OGV1 | E5: OGV2 | F5: BUS | I5: Total Volume | J5: LIGHT | K5: OGV1 | L5: OGV2 | M5: BUS | P5: Total Volume | Q5: LIGHT | R5: OGV1 | S5: OGV2 | T5: BUS
A6: 45602 | B6: =SUM(C6:F6) -> 290 | C6: ='Class 06 11 2024'!C37 -> 208 | D6: ='Class 06 11 2024'!D37 -> 80 | E6: ='Class 06 11 2024'!E37 -> 0 | F6: ='Class 06 11 2024'!F37 -> 2 | H6: =A6 -> 45602 | I6: =SUM(J6:M6) -> 270 | J6: ='Class 06 11 2024'!J37 -> 254 | K6: ='Class 06 11 2024'!K37 -> 15 | L6: ='Class 06 11 2024'!L37 -> 1 | M6: ='Class 06 11 2024'!M37 -> 0 | O6: =A6 -> 45602 | P6: =SUM(Q6:T6) -> 560 | Q6: =C6+J6 -> 462 | R6: =D6+K6 -> 95 | S6: =E6+L6 -> 1 | T6: =F6+M6 -> 2
A7: =A6+1 -> 45603 | B7: =SUM(C7:F7) -> 311 | C7: ='Class 07 11 2024'!C37 -> 232 | D7: ='Class 07 11 2024'!D37 -> 73 | E7: ='Class 07 11 2024'!E37 -> 0 | F7: ='Class 07 11 2024'!F37 -> 6 | H7: =A7 -> 45603 | I7: =SUM(J7:M7) -> 279 | J7: ='Class 07 11 2024'!J37 -> 267 | K7: ='Class 07 11 2024'!K37 -> 12 | L7: ='Class 07 11 2024'!L37 -> 0 | M7: ='Class 07 11 2024'!M37 -> 0 | O7: =A7 -> 45603 | P7: =SUM(Q7:T7) -> 590 | Q7: =C7+J7 -> 499 | R7: =D7+K7 -> 85 | S7: =E7+L7 -> 0 | T7: =F7+M7 -> 6
A8: =A7+1 -> 45604 | B8: =SUM(C8:F8) -> 355 | C8: ='Class 08 11 2024'!C37 -> 248 | D8: ='Class 08 11 2024'!D37 -> 105 | E8: ='Class 08 11 2024'!E37 -> 0 | F8: ='Class 08 11 2024'!F37 -> 2 | H8: =A8 -> 45604 | I8: =SUM(J8:M8) -> 285 | J8: ='Class 08 11 2024'!J37 -> 272 | K8: ='Class 08 11 2024'!K37 -> 13 | L8: ='Class 08 11 2024'!L37 -> 0 | M8: ='Class 08 11 2024'!M37 -> 0 | O8: =A8 -> 45604 | P8: =SUM(Q8:T8) -> 640 | Q8: =C8+J8 -> 520 | R8: =D8+K8 -> 118 | S8: =E8+L8 -> 0 | T8: =F8+M8 -> 2
A9: =A8+1 -> 45605 | B9: =SUM(C9:F9) -> 257 | C9: ='Class 09 11 2024'!C37 -> 189 | D9: ='Class 09 11 2024'!D37 -> 68 | E9: ='Class 09 11 2024'!E37 -> 0 | F9: ='Class 09 11 2024'!F37 -> 0 | H9: =A9 -> 45605 | I9: =SUM(J9:M9) -> 240 | J9: ='Class 09 11 2024'!J37 -> 230 | K9: ='Class 09 11 2024'!K37 -> 10 | L9: ='Class 09 11 2024'!L37 -> 0 | M9: ='Class 09 11 2024'!M37 -> 0 | O9: =A9 -> 45605 | P9: =SUM(Q9:T9) -> 497 | Q9: =C9+J9 -> 419 | R9: =D9+K9 -> 78 | S9: =E9+L9 -> 0 | T9: =F9+M9 -> 0
A10: =A9+1 -> 45606 | B10: =SUM(C10:F10) -> 218 | C10: ='Class 10 11 2024'!C37 -> 164 | D10: ='Class 10 11 2024'!D37 -> 53 | E10: ='Class 10 11 2024'!E37 -> 0 | F10: ='Class 10 11 2024'!F37 -> 1 | H10: =A10 -> 45606 | I10: =SUM(J10:M10) -> 219 | J10: ='Class 10 11 2024'!J37 -> 212 | K10: ='Class 10 11 2024'!K37 -> 7 | L10: ='Class 10 11 2024'!L37 -> 0 | M10: ='Class 10 11 2024'!M37 -> 0 | O10: =A10 -> 45606 | P10: =SUM(Q10:T10) -> 437 | Q10: =C10+J10 -> 376 | R10: =D10+K10 -> 60 | S10: =E10+L10 -> 0 | T10: =F10+M10 -> 1
A11: =A10+1 -> 45607 | B11: =SUM(C11:F11) -> 298 | C11: ='Class 11 11 2024'!C37 -> 213 | D11: ='Class 11 11 2024'!D37 -> 81 | E11: ='Class 11 11 2024'!E37 -> 0 | F11: ='Class 11 11 2024'!F37 -> 4 | H11: =A11 -> 45607 | I11: =SUM(J11:M11) -> 247 | J11: ='Class 11 11 2024'!J37 -> 229 | K11: ='Class 11 11 2024'!K37 -> 17 | L11: ='Class 11 11 2024'!L37 -> 0 | M11: ='Class 11 11 2024'!M37 -> 1 | O11: =A11 -> 45607 | P11: =SUM(Q11:T11) -> 545 | Q11: =C11+J11 -> 442 | R11: =D11+K11 -> 98 | S11: =E11+L11 -> 0 | T11: =F11+M11 -> 5
A12: =A11+1 -> 45608 | B12: =SUM(C12:F12) -> 293 | C12: ='Class 12 11 2024'!C37 -> 214 | D12: ='Class 12 11 2024'!D37 -> 77 | E12: ='Class 12 11 2024'!E37 -> 0 | F12: ='Class 12 11 2024'!F37 -> 2 | H12: =A12 -> 45608 | I12: =SUM(J12:M12) -> 295 | J12: ='Class 12 11 2024'!J37 -> 278 | K12: ='Class 12 11 2024'!K37 -> 16 | L12: ='Class 12 11 2024'!L37 -> 1 | M12: ='Class 12 11 2024'!M37 -> 0 | O12: =A12 -> 45608 | P12: =SUM(Q12:T12) -> 588 | Q12: =C12+J12 -> 492 | R12: =D12+K12 -> 93 | S12: =E12+L12 -> 1 | T12: =F12+M12 -> 2
A13: 5 Day Ave. | B13: =SUM(IF(WEEKDAY($A6,2)<6,B6,0),IF(WEEKDAY($A7,2)<6,B7,0),IF(WEEKDAY($A8,2)<6,B8,0),IF(WEEKDAY($A9,2)<6,B9,0),IF(WEEKDAY($A10,2)<6,B10,0),IF(WEEKDAY($A11,2)<6,B11,0),IF(WEEKDAY($A12,2)<6,B12,0))/5 -> 309.4 | C13: =SUM(IF(WEEKDAY($A6,2)<6,C6,0),IF(WEEKDAY($A7,2)<6,C7,0),IF(WEEKDAY($A8,2)<6,C8,0),IF(WEEKDAY($A9,2)<6,C9,0),IF(WEEKDAY($A10,2)<6,C10,0),IF(WEEKDAY($A11,2)<6,C11,0),IF(WEEKDAY($A12,2)<6,C12,0))/5 -> 223 | D13: =SUM(IF(WEEKDAY($A6,2)<6,D6,0),IF(WEEKDAY($A7,2)<6,D7,0),IF(WEEKDAY($A8,2)<6,D8,0),IF(WEEKDAY($A9,2)<6,D9,0),IF(WEEKDAY($A10,2)<6,D10,0),IF(WEEKDAY($A11,2)<6,D11,0),IF(WEEKDAY($A12,2)<6,D12,0))/5 -> 83.2 | E13: =SUM(IF(WEEKDAY($A6,2)<6,E6,0),IF(WEEKDAY($A7,2)<6,E7,0),IF(WEEKDAY($A8,2)<6,E8,0),IF(WEEKDAY($A9,2)<6,E9,0),IF(WEEKDAY($A10,2)<6,E10,0),IF(WEEKDAY($A11,2)<6,E11,0),IF(WEEKDAY($A12,2)<6,E12,0))/5 -> 0 | F13: =SUM(IF(WEEKDAY($A6,2)<6,F6,0),IF(WEEKDAY($A7,2)<6,F7,0),IF(WEEKDAY($A8,2)<6,F8,0),IF(WEEKDAY($A9,2)<6,F9,0),IF(WEEKDAY($A10,2)<6,F10,0),IF(WEEKDAY($A11,2)<6,F11,0),IF(WEEKDAY($A12,2)<6,F12,0))/5 -> 3.2 | H13: 5 Day Ave. | I13: =SUM(IF(WEEKDAY($A6,2)<6,I6,0),IF(WEEKDAY($A7,2)<6,I7,0),IF(WEEKDAY($A8,2)<6,I8,0),IF(WEEKDAY($A9,2)<6,I9,0),IF(WEEKDAY($A10,2)<6,I10,0),IF(WEEKDAY($A11,2)<6,I11,0),IF(WEEKDAY($A12,2)<6,I12,0))/5 -> 275.2 | J13: =SUM(IF(WEEKDAY($A6,2)<6,J6,0),IF(WEEKDAY($A7,2)<6,J7,0),IF(WEEKDAY($A8,2)<6,J8,0),IF(WEEKDAY($A9,2)<6,J9,0),IF(WEEKDAY($A10,2)<6,J10,0),IF(WEEKDAY($A11,2)<6,J11,0),IF(WEEKDAY($A12,2)<6,J12,0))/5 -> 260 | K13: =SUM(IF(WEEKDAY($A6,2)<6,K6,0),IF(WEEKDAY($A7,2)<6,K7,0),IF(WEEKDAY($A8,2)<6,K8,0),IF(WEEKDAY($A9,2)<6,K9,0),IF(WEEKDAY($A10,2)<6,K10,0),IF(WEEKDAY($A11,2)<6,K11,0),IF(WEEKDAY($A12,2)<6,K12,0))/5 -> 14.6 | L13: =SUM(IF(WEEKDAY($A6,2)<6,L6,0),IF(WEEKDAY($A7,2)<6,L7,0),IF(WEEKDAY($A8,2)<6,L8,0),IF(WEEKDAY($A9,2)<6,L9,0),IF(WEEKDAY($A10,2)<6,L10,0),IF(WEEKDAY($A11,2)<6,L11,0),IF(WEEKDAY($A12,2)<6,L12,0))/5 -> 0.4 | M13: =SUM(IF(WEEKDAY($A6,2)<6,M6,0),IF(WEEKDAY($A7,2)<6,M7,0),IF(WEEKDAY($A8,2)<6,M8,0),IF(WEEKDAY($A9,2)<6,M9,0),IF(WEEKDAY($A10,2)<6,M10,0),IF(WEEKDAY($A11,2)<6,M11,0),IF(WEEKDAY($A12,2)<6,M12,0))/5 -> 0.2 | O13: 5 Day Ave. | P13: =SUM(IF(WEEKDAY($A6,2)<6,P6,0),IF(WEEKDAY($A7,2)<6,P7,0),IF(WEEKDAY($A8,2)<6,P8,0),IF(WEEKDAY($A9,2)<6,P9,0),IF(WEEKDAY($A10,2)<6,P10,0),IF(WEEKDAY($A11,2)<6,P11,0),IF(WEEKDAY($A12,2)<6,P12,0))/5 -> 584.6 | Q13: =SUM(IF(WEEKDAY($A6,2)<6,Q6,0),IF(WEEKDAY($A7,2)<6,Q7,0),IF(WEEKDAY($A8,2)<6,Q8,0),IF(WEEKDAY($A9,2)<6,Q9,0),IF(WEEKDAY($A10,2)<6,Q10,0),IF(WEEKDAY($A11,2)<6,Q11,0),IF(WEEKDAY($A12,2)<6,Q12,0))/5 -> 483 | R13: =SUM(IF(WEEKDAY($A6,2)<6,R6,0),IF(WEEKDAY($A7,2)<6,R7,0),IF(WEEKDAY($A8,2)<6,R8,0),IF(WEEKDAY($A9,2)<6,R9,0),IF(WEEKDAY($A10,2)<6,R10,0),IF(WEEKDAY($A11,2)<6,R11,0),IF(WEEKDAY($A12,2)<6,R12,0))/5 -> 97.8 | S13: =SUM(IF(WEEKDAY($A6,2)<6,S6,0),IF(WEEKDAY($A7,2)<6,S7,0),IF(WEEKDAY($A8,2)<6,S8,0),IF(WEEKDAY($A9,2)<6,S9,0),IF(WEEKDAY($A10,2)<6,S10,0),IF(WEEKDAY($A11,2)<6,S11,0),IF(WEEKDAY($A12,2)<6,S12,0))/5 -> 0.4 | T13: =SUM(IF(WEEKDAY($A6,2)<6,T6,0),IF(WEEKDAY($A7,2)<6,T7,0),IF(WEEKDAY($A8,2)<6,T8,0),IF(WEEKDAY($A9,2)<6,T9,0),IF(WEEKDAY($A10,2)<6,T10,0),IF(WEEKDAY($A11,2)<6,T11,0),IF(WEEKDAY($A12,2)<6,T12,0))/5 -> 3.4
A14: 7 Day Ave. | B14: =SUM(B6:B12)/7 -> 288.85714 | C14: =SUM(C6:C12)/7 -> 209.71429 | D14: =SUM(D6:D12)/7 -> 76.714286 | E14: =SUM(E6:E12)/7 -> 0 | F14: =SUM(F6:F12)/7 -> 2.4285714 | H14: 7 Day Ave. | I14: =SUM(I6:I12)/7 -> 262.14286 | J14: =SUM(J6:J12)/7 -> 248.85714 | K14: =SUM(K6:K12)/7 -> 12.857143 | L14: =SUM(L6:L12)/7 -> 0.28571429 | M14: =SUM(M6:M12)/7 -> 0.14285714 | O14: 7 Day Ave. | P14: =SUM(P6:P12)/7 -> 551 | Q14: =SUM(Q6:Q12)/7 -> 458.57143 | R14: =SUM(R6:R12)/7 -> 89.571429 | S14: =SUM(S6:S12)/7 -> 0.28571429 | T14: =SUM(T6:T12)/7 -> 2.5714286
B17: Total Volume | C17: LIGHT | D17: OGV1 | E17: OGV2 | F17: BUS | I17: Total Volume | J17: LIGHT | K17: OGV1 | L17: OGV2 | M17: BUS | P17: Total Volume | Q17: LIGHT | R17: OGV1 | S17: OGV2 | T17: BUS
A18: =A6 -> 45602 | B18: =SUM(C18:F18) -> 1 | C18: =C6/$B6 -> 0.71724138 | D18: =D6/$B6 -> 0.27586207 | E18: =E6/$B6 -> 0 | F18: =F6/$B6 -> 0.0068965517 | H18: =A18 -> 45602 | I18: =SUM(J18:M18) -> 1 | J18: =J6/$I6 -> 0.94074074 | K18: =K6/$I6 -> 0.055555556 | L18: =L6/$I6 -> 0.0037037037 | M18: =M6/$I6 -> 0 | O18: =A18 -> 45602 | P18: =SUM(Q18:T18) -> 1 | Q18: =Q6/$P6 -> 0.825 | R18: =R6/$P6 -> 0.16964286 | S18: =S6/$P6 -> 0.0017857143 | T18: =T6/$P6 -> 0.0035714286
A19: =A7 -> 45603 | B19: =SUM(C19:F19) -> 1 | C19: =C7/$B7 -> 0.74598071 | D19: =D7/$B7 -> 0.23472669 | E19: =E7/$B7 -> 0 | F19: =F7/$B7 -> 0.019292605 | H19: =A19 -> 45603 | I19: =SUM(J19:M19) -> 1 | J19: =J7/$I7 -> 0.95698925 | K19: =K7/$I7 -> 0.043010753 | L19: =L7/$I7 -> 0 | M19: =M7/$I7 -> 0 | O19: =A19 -> 45603 | P19: =SUM(Q19:T19) -> 1 | Q19: =Q7/$P7 -> 0.84576271 | R19: =R7/$P7 -> 0.1440678 | S19: =S7/$P7 -> 0 | T19: =T7/$P7 -> 0.010169492
A20: =A8 -> 45604 | B20: =SUM(C20:F20) -> 1 | C20: =C8/$B8 -> 0.69859155 | D20: =D8/$B8 -> 0.29577465 | E20: =E8/$B8 -> 0 | F20: =F8/$B8 -> 0.0056338028 | H20: =A20 -> 45604 | I20: =SUM(J20:M20) -> 1 | J20: =J8/$I8 -> 0.95438596 | K20: =K8/$I8 -> 0.045614035 | L20: =L8/$I8 -> 0 | M20: =M8/$I8 -> 0 | O20: =A20 -> 45604 | P20: =SUM(Q20:T20) -> 1 | Q20: =Q8/$P8 -> 0.8125 | R20: =R8/$P8 -> 0.184375 | S20: =S8/$P8 -> 0 | T20: =T8/$P8 -> 0.003125
A21: =A9 -> 45605 | B21: =SUM(C21:F21) -> 1 | C21: =C9/$B9 -> 0.73540856 | D21: =D9/$B9 -> 0.26459144 | E21: =E9/$B9 -> 0 | F21: =F9/$B9 -> 0 | H21: =A21 -> 45605 | I21: =SUM(J21:M21) -> 1 | J21: =J9/$I9 -> 0.95833333 | K21: =K9/$I9 -> 0.041666667 | L21: =L9/$I9 -> 0 | M21: =M9/$I9 -> 0 | O21: =A21 -> 45605 | P21: =SUM(Q21:T21) -> 1 | Q21: =Q9/$P9 -> 0.84305835 | R21: =R9/$P9 -> 0.15694165 | S21: =S9/$P9 -> 0 | T21: =T9/$P9 -> 0
A22: =A10 -> 45606 | B22: =SUM(C22:F22) -> 1 | C22: =C10/$B10 -> 0.75229358 | D22: =D10/$B10 -> 0.24311927 | E22: =E10/$B10 -> 0 | F22: =F10/$B10 -> 0.004587156 | H22: =A22 -> 45606 | I22: =SUM(J22:M22) -> 1 | J22: =J10/$I10 -> 0.96803653 | K22: =K10/$I10 -> 0.03196347 | L22: =L10/$I10 -> 0 | M22: =M10/$I10 -> 0 | O22: =A22 -> 45606 | P22: =SUM(Q22:T22) -> 1 | Q22: =Q10/$P10 -> 0.8604119 | R22: =R10/$P10 -> 0.13729977 | S22: =S10/$P10 -> 0 | T22: =T10/$P10 -> 0.0022883295
A23: =A11 -> 45607 | B23: =SUM(C23:F23) -> 1 | C23: =C11/$B11 -> 0.7147651 | D23: =D11/$B11 -> 0.27181208 | E23: =E11/$B11 -> 0 | F23: =F11/$B11 -> 0.013422819 | H23: =A23 -> 45607 | I23: =SUM(J23:M23) -> 1 | J23: =J11/$I11 -> 0.92712551 | K23: =K11/$I11 -> 0.068825911 | L23: =L11/$I11 -> 0 | M23: =M11/$I11 -> 0.004048583 | O23: =A23 -> 45607 | P23: =SUM(Q23:T23) -> 1 | Q23: =Q11/$P11 -> 0.81100917 | R23: =R11/$P11 -> 0.17981651 | S23: =S11/$P11 -> 0 | T23: =T11/$P11 -> 0.0091743119
A24: =A12 -> 45608 | B24: =SUM(C24:F24) -> 1 | C24: =C12/$B12 -> 0.73037543 | D24: =D12/$B12 -> 0.26279863 | E24: =E12/$B12 -> 0 | F24: =F12/$B12 -> 0.0068259386 | H24: =A24 -> 45608 | I24: =SUM(J24:M24) -> 1 | J24: =J12/$I12 -> 0.94237288 | K24: =K12/$I12 -> 0.054237288 | L24: =L12/$I12 -> 0.0033898305 | M24: =M12/$I12 -> 0 | O24: =A24 -> 45608 | P24: =SUM(Q24:T24) -> 1 | Q24: =Q12/$P12 -> 0.83673469 | R24: =R12/$P12 -> 0.15816327 | S24: =S12/$P12 -> 0.0017006803 | T24: =T12/$P12 -> 0.0034013605
A25: 5 Day Ave. | B25: =SUM(C25:F25) -> 1 | C25: =C13/$B13 -> 0.72074984 | D25: =D13/$B13 -> 0.26890756 | E25: =E13/$B13 -> 0 | F25: =F13/$B13 -> 0.010342599 | H25: 5 Day Ave. | I25: =SUM(J25:M25) -> 1 | J25: =J13/$I13 -> 0.94476744 | K25: =K13/$I13 -> 0.053052326 | L25: =L13/$I13 -> 0.0014534884 | M25: =M13/$I13 -> 0.00072674419 | O25: 5 Day Ave. | P25: =SUM(Q25:T25) -> 1 | Q25: =Q13/$P13 -> 0.82620595 | R25: =R13/$P13 -> 0.16729388 | S25: =S13/$P13 -> 0.00068422853 | T25: =T13/$P13 -> 0.0058159425
A26: 7 Day Ave. | B26: =SUM(C26:F26) -> 1 | C26: =C14/$B14 -> 0.72601385 | D26: =D14/$B14 -> 0.26557864 | E26: =E14/$B14 -> 0 | F26: =F14/$B14 -> 0.0084075173 | H26: 7 Day Ave. | I26: =SUM(J26:M26) -> 1 | J26: =J14/$I14 -> 0.9493188 | K26: =K14/$I14 -> 0.049046322 | L26: =L14/$I14 -> 0.0010899183 | M26: =M14/$I14 -> 0.00054495913 | O26: 7 Day Ave. | P26: =SUM(Q26:T26) -> 1 | Q26: =Q14/$P14 -> 0.83225305 | R26: =R14/$P14 -> 0.16256158 | S26: =S14/$P14 -> 0.00051853772 | T26: =T14/$P14 -> 0.0046668395
A27: Paul Castle Associates | H27: Paul Castle Associates | O27: Paul Castle Associates

Sheet (0-24) Speed Summary
A1: ='Flow Summary'!A1 -> Wrexham ATC, Cristionydd Lane
A4: Direction: | B4: ='Flow Summary'!B4 -> Southbound
B7: Total Volume | C7: 85th Percentile | D7: Mean Average | E7: Standard Deviation | F7: ='Speed 06 11 2024'!F7 -> Bin 1 <10mph | G7: ='Speed 06 11 2024'!G7 -> Bin 2 10<15 | H7: ='Speed 06 11 2024'!H7 -> Bin 3 15<20 | I7: ='Speed 06 11 2024'!I7 -> Bin 4 20<25 | J7: ='Speed 06 11 2024'!J7 -> Bin 5 25<30 | K7: ='Speed 06 11 2024'!K7 -> Bin 6 30<35 | L7: ='Speed 06 11 2024'!L7 -> Bin 7 35<40 | M7: ='Speed 06 11 2024'!M7 -> Bin 8 40<45 | ... Q7: ='Speed 06 11 2024'!Q7 -> Bin 12 >=60
A8: ='Class Summary'!A6 -> 45602 | B8: =SUM(F8:Q8) -> 290 | C8: ='Speed 06 11 2024'!C37 -> 35.806968 | D8: ='Speed 06 11 2024'!D37 -> 28.753448 | E8: ='Speed 06 11 2024'!E37 -> 6.8057887 | F8: ='Speed 06 11 2024'!F37 -> 2 | G8: ='Speed 06 11 2024'!G37 -> 7 | H8: ='Speed 06 11 2024'!H37 -> 14 | I8: ='Speed 06 11 2024'!I37 -> 47 | J8: ='Speed 06 11 2024'!J37 -> 94 | ... Q8: ='Speed 06 11 2024'!Q37 -> 1
A9: ='Class Summary'!A7 -> 45603 | B9: =SUM(F9:Q9) -> 311 | C9: ='Speed 07 11 2024'!C37 -> 34.824643 | D9: ='Speed 07 11 2024'!D37 -> 27.823151 | E9: ='Speed 07 11 2024'!E37 -> 6.7555887 | F9: ='Speed 07 11 2024'!F37 -> 1 | G9: ='Speed 07 11 2024'!G37 -> 13 | H9: ='Speed 07 11 2024'!H37 -> 18 | I9: ='Speed 07 11 2024'!I37 -> 58 | J9: ='Speed 07 11 2024'!J37 -> 112 | ... Q9: ='Speed 07 11 2024'!Q37 -> 0
A10: ='Class Summary'!A8 -> 45604 | B10: =SUM(F10:Q10) -> 355 | C10: ='Speed 08 11 2024'!C37 -> 34.79054 | D10: ='Speed 08 11 2024'!D37 -> 28.13662 | E10: ='Speed 08 11 2024'!E37 -> 6.420224 | F10: ='Speed 08 11 2024'!F37 -> 2 | G10: ='Speed 08 11 2024'!G37 -> 13 | H10: ='Speed 08 11 2024'!H37 -> 13 | I10: ='Speed 08 11 2024'!I37 -> 65 | J10: ='Speed 08 11 2024'!J37 -> 128 | ... Q10: ='Speed 08 11 2024'!Q37 -> 0
A11: ='Class Summary'!A9 -> 45605 | B11: =SUM(F11:Q11) -> 257 | C11: ='Speed 09 11 2024'!C37 -> 35.905945 | D11: ='Speed 09 11 2024'!D37 -> 28.628405 | E11: ='Speed 09 11 2024'!E37 -> 7.0219418 | F11: ='Speed 09 11 2024'!F37 -> 0 | G11: ='Speed 09 11 2024'!G37 -> 9 | H11: ='Speed 09 11 2024'!H37 -> 15 | I11: ='Speed 09 11 2024'!I37 -> 44 | J11: ='Speed 09 11 2024'!J37 -> 85 | ... Q11: ='Speed 09 11 2024'!Q37 -> 0
A12: ='Class Summary'!A10 -> 45606 | B12: =SUM(F12:Q12) -> 218 | C12: ='Speed 10 11 2024'!C37 -> 34.99262 | D12: ='Speed 10 11 2024'!D37 -> 27.889908 | E12: ='Speed 10 11 2024'!E37 -> 6.8532537 | F12: ='Speed 10 11 2024'!F37 -> 0 | G12: ='Speed 10 11 2024'!G37 -> 12 | H12: ='Speed 10 11 2024'!H37 -> 10 | I12: ='Speed 10 11 2024'!I37 -> 37 | J12: ='Speed 10 11 2024'!J37 -> 83 | ... Q12: ='Speed 10 11 2024'!Q37 -> 0
A13: ='Class Summary'!A11 -> 45607 | B13: =SUM(F13:Q13) -> 298 | C13: ='Speed 11 11 2024'!C37 -> 34.758108 | D13: ='Speed 11 11 2024'!D37 -> 28.525168 | E13: ='Speed 11 11 2024'!E37 -> 6.01403 | F13: ='Speed 11 11 2024'!F37 -> 1 | G13: ='Speed 11 11 2024'!G37 -> 9 | H13: ='Speed 11 11 2024'!H37 -> 12 | I13: ='Speed 11 11 2024'!I37 -> 47 | J13: ='Speed 11 11 2024'!J37 -> 103 | ... Q13: ='Speed 11 11 2024'!Q37 -> 0
A14: ='Class Summary'!A12 -> 45608 | B14: =SUM(F14:Q14) -> 293 | C14: ='Speed 12 11 2024'!C37 -> 35.092993 | D14: ='Speed 12 11 2024'!D37 -> 28.44198 | E14: ='Speed 12 11 2024'!E37 -> 6.4174189 | F14: ='Speed 12 11 2024'!F37 -> 2 | G14: ='Speed 12 11 2024'!G37 -> 7 | H14: ='Speed 12 11 2024'!H37 -> 13 | I14: ='Speed 12 11 2024'!I37 -> 49 | J14: ='Speed 12 11 2024'!J37 -> 107 | ... Q14: ='Speed 12 11 2024'!Q37 -> 0
A15: 5 Day Ave. | B15: =SUM(IF(WEEKDAY($A8,2)<6,B8,0),IF(WEEKDAY($A9,2)<6,B9,0),IF(WEEKDAY($A10,2)<6,B10,0),IF(WEEKDAY($A11,2)<6,B11,0),IF(WEEKDAY($A12,2)<6,B12,0),IF(WEEKDAY($A13,2)<6,B13,0),IF(WEEKDAY($A14,2)<6,B14,0))/5 -> 309.4 | C15: =SUM(IF(WEEKDAY($A8,2)<6,C8,0),IF(WEEKDAY($A9,2)<6,C9,0),IF(WEEKDAY($A10,2)<6,C10,0),IF(WEEKDAY($A11,2)<6,C11,0),IF(WEEKDAY($A12,2)<6,C12,0),IF(WEEKDAY($A13,2)<6,C13,0),IF(WEEKDAY($A14,2)<6,C14,0))/5 -> 35.05465 | D15: =SUM(IF(WEEKDAY($A8,2)<6,D8,0),IF(WEEKDAY($A9,2)<6,D9,0),IF(WEEKDAY($A10,2)<6,D10,0),IF(WEEKDAY($A11,2)<6,D11,0),IF(WEEKDAY($A12,2)<6,D12,0),IF(WEEKDAY($A13,2)<6,D13,0),IF(WEEKDAY($A14,2)<6,D14,0))/5 -> 28.336073 | E15: =SUM(IF(WEEKDAY($A8,2)<6,E8,0),IF(WEEKDAY($A9,2)<6,E9,0),IF(WEEKDAY($A10,2)<6,E10,0),IF(WEEKDAY($A11,2)<6,E11,0),IF(WEEKDAY($A12,2)<6,E12,0),IF(WEEKDAY($A13,2)<6,E13,0),IF(WEEKDAY($A14,2)<6,E14,0))/5 -> 6.4826101 | F15: =SUM(IF(WEEKDAY($A8,2)<6,F8,0),IF(WEEKDAY($A9,2)<6,F9,0),IF(WEEKDAY($A10,2)<6,F10,0),IF(WEEKDAY($A11,2)<6,F11,0),IF(WEEKDAY($A12,2)<6,F12,0),IF(WEEKDAY($A13,2)<6,F13,0),IF(WEEKDAY($A14,2)<6,F14,0))/5 -> 1.6 | G15: =SUM(IF(WEEKDAY($A8,2)<6,G8,0),IF(WEEKDAY($A9,2)<6,G9,0),IF(WEEKDAY($A10,2)<6,G10,0),IF(WEEKDAY($A11,2)<6,G11,0),IF(WEEKDAY($A12,2)<6,G12,0),IF(WEEKDAY($A13,2)<6,G13,0),IF(WEEKDAY($A14,2)<6,G14,0))/5 -> 9.8 | H15: =SUM(IF(WEEKDAY($A8,2)<6,H8,0),IF(WEEKDAY($A9,2)<6,H9,0),IF(WEEKDAY($A10,2)<6,H10,0),IF(WEEKDAY($A11,2)<6,H11,0),IF(WEEKDAY($A12,2)<6,H12,0),IF(WEEKDAY($A13,2)<6,H13,0),IF(WEEKDAY($A14,2)<6,H14,0))/5 -> 14 | I15: =SUM(IF(WEEKDAY($A8,2)<6,I8,0),IF(WEEKDAY($A9,2)<6,I9,0),IF(WEEKDAY($A10,2)<6,I10,0),IF(WEEKDAY($A11,2)<6,I11,0),IF(WEEKDAY($A12,2)<6,I12,0),IF(WEEKDAY($A13,2)<6,I13,0),IF(WEEKDAY($A14,2)<6,I14,0))/5 -> 53.2 | ... Q15: =SUM(IF(WEEKDAY($A8,2)<6,Q8,0),IF(WEEKDAY($A9,2)<6,Q9,0),IF(WEEKDAY($A10,2)<6,Q10,0),IF(WEEKDAY($A11,2)<6,Q11,0),IF(WEEKDAY($A12,2)<6,Q12,0),IF(WEEKDAY($A13,2)<6,Q13,0),IF(WEEKDAY($A14,2)<6,Q14,0))/5 -> 0.2
A16: 7 Day Ave. | B16: =SUM(B8:B14)/7 -> 288.85714 | C16: =SUM(C8:C14)/7 -> 35.167402 | D16: =SUM(D8:D14)/7 -> 28.314097 | E16: =SUM(E8:E14)/7 -> 6.6126065 | F16: =SUM(F8:F14)/7 -> 1.1428571 | G16: =SUM(G8:G14)/7 -> 10 | H16: =SUM(H8:H14)/7 -> 13.571429 | I16: =SUM(I8:I14)/7 -> 49.571429 | ... Q16: =SUM(Q8:Q14)/7 -> 0.14285714
A17: Paul Castle Associates
A22: Direction: | B22: ='Flow Summary'!M4 -> Northbound
B25: Total Volume | C25: 85th Percentile | D25: Mean Average | E25: Standard Deviation | F25: =F7 -> Bin 1 <10mph | G25: =G7 -> Bin 2 10<15 | H25: =H7 -> Bin 3 15<20 | I25: =I7 -> Bin 4 20<25 | J25: =J7 -> Bin 5 25<30 | K25: =K7 -> Bin 6 30<35 | L25: =L7 -> Bin 7 35<40 | M25: =M7 -> Bin 8 40<45 | ... Q25: =Q7 -> Bin 12 >=60
A26: =A8 -> 45602 | B26: =SUM(F26:Q26) -> 270 | C26: ='Speed 06 11 2024'!C83 -> 29.518783 | D26: ='Speed 06 11 2024'!D83 -> 24.261111 | E26: ='Speed 06 11 2024'!E83 -> 5.073014 | F26: ='Speed 06 11 2024'!F83 -> 1 | G26: ='Speed 06 11 2024'!G83 -> 12 | H26: ='Speed 06 11 2024'!H83 -> 25 | I26: ='Speed 06 11 2024'!I83 -> 119 | J26: ='Speed 06 11 2024'!J83 -> 85 | ... Q26: ='Speed 06 11 2024'!Q83 -> 0
A27: =A9 -> 45603 | B27: =SUM(F27:Q27) -> 279 | C27: ='Speed 07 11 2024'!C83 -> 28.57006 | D27: ='Speed 07 11 2024'!D83 -> 23.351254 | E27: ='Speed 07 11 2024'!E83 -> 5.0355131 | F27: ='Speed 07 11 2024'!F83 -> 5 | G27: ='Speed 07 11 2024'!G83 -> 9 | H27: ='Speed 07 11 2024'!H83 -> 40 | I27: ='Speed 07 11 2024'!I83 -> 128 | J27: ='Speed 07 11 2024'!J83 -> 77 | ... Q27: ='Speed 07 11 2024'!Q83 -> 0
A28: =A10 -> 45604 | B28: =SUM(F28:Q28) -> 285 | C28: ='Speed 08 11 2024'!C83 -> 28.525501 | D28: ='Speed 08 11 2024'!D83 -> 23.578947 | E28: ='Speed 08 11 2024'!E83 -> 4.7728227 | F28: ='Speed 08 11 2024'!F83 -> 5 | G28: ='Speed 08 11 2024'!G83 -> 7 | H28: ='Speed 08 11 2024'!H83 -> 30 | I28: ='Speed 08 11 2024'!I83 -> 145 | J28: ='Speed 08 11 2024'!J83 -> 80 | ... Q28: ='Speed 08 11 2024'!Q83 -> 0
A29: =A11 -> 45605 | B29: =SUM(F29:Q29) -> 240 | C29: ='Speed 09 11 2024'!C83 -> 29.126823 | D29: ='Speed 09 11 2024'!D83 -> 23.966667 | E29: ='Speed 09 11 2024'!E83 -> 4.9789235 | F29: ='Speed 09 11 2024'!F83 -> 4 | G29: ='Speed 09 11 2024'!G83 -> 9 | H29: ='Speed 09 11 2024'!H83 -> 20 | I29: ='Speed 09 11 2024'!I83 -> 107 | J29: ='Speed 09 11 2024'!J83 -> 83 | ... Q29: ='Speed 09 11 2024'!Q83 -> 0
A30: =A12 -> 45606 | B30: =SUM(F30:Q30) -> 219 | C30: ='Speed 10 11 2024'!C83 -> 28.77254 | D30: ='Speed 10 11 2024'!D83 -> 23.920091 | E30: ='Speed 10 11 2024'!E83 -> 4.6820228 | F30: ='Speed 10 11 2024'!F83 -> 2 | G30: ='Speed 10 11 2024'!G83 -> 6 | H30: ='Speed 10 11 2024'!H83 -> 26 | I30: ='Speed 10 11 2024'!I83 -> 96 | J30: ='Speed 10 11 2024'!J83 -> 73 | ... Q30: ='Speed 10 11 2024'!Q83 -> 0
A31: =A13 -> 45607 | B31: =SUM(F31:Q31) -> 247 | C31: ='Speed 11 11 2024'!C83 -> 28.926326 | D31: ='Speed 11 11 2024'!D83 -> 24.325911 | E31: ='Speed 11 11 2024'!E83 -> 4.438841 | F31: ='Speed 11 11 2024'!F83 -> 2 | G31: ='Speed 11 11 2024'!G83 -> 7 | H31: ='Speed 11 11 2024'!H83 -> 17 | I31: ='Speed 11 11 2024'!I83 -> 112 | J31: ='Speed 11 11 2024'!J83 -> 92 | ... Q31: ='Speed 11 11 2024'!Q83 -> 0
A32: =A14 -> 45608 | B32: =SUM(F32:Q32) -> 295 | C32: ='Speed 12 11 2024'!C83 -> 28.657282 | D32: ='Speed 12 11 2024'!D83 -> 23.944068 | E32: ='Speed 12 11 2024'!E83 -> 4.5476791 | F32: ='Speed 12 11 2024'!F83 -> 2 | G32: ='Speed 12 11 2024'!G83 -> 9 | H32: ='Speed 12 11 2024'!H83 -> 31 | I32: ='Speed 12 11 2024'!I83 -> 131 | J32: ='Speed 12 11 2024'!J83 -> 108 | ... Q32: ='Speed 12 11 2024'!Q83 -> 0
A33: 5 Day Ave. | B33: =SUM(IF(WEEKDAY($A26,2)<6,B26,0),IF(WEEKDAY($A27,2)<6,B27,0),IF(WEEKDAY($A28,2)<6,B28,0),IF(WEEKDAY($A29,2)<6,B29,0),IF(WEEKDAY($A30,2)<6,B30,0),IF(WEEKDAY($A31,2)<6,B31,0),IF(WEEKDAY($A32,2)<6,B32,0))/5 -> 275.2 | C33: =SUM(IF(WEEKDAY($A26,2)<6,C26,0),IF(WEEKDAY($A27,2)<6,C27,0),IF(WEEKDAY($A28,2)<6,C28,0),IF(WEEKDAY($A29,2)<6,C29,0),IF(WEEKDAY($A30,2)<6,C30,0),IF(WEEKDAY($A31,2)<6,C31,0),IF(WEEKDAY($A32,2)<6,C32,0))/5 -> 28.83959 | D33: =SUM(IF(WEEKDAY($A26,2)<6,D26,0),IF(WEEKDAY($A27,2)<6,D27,0),IF(WEEKDAY($A28,2)<6,D28,0),IF(WEEKDAY($A29,2)<6,D29,0),IF(WEEKDAY($A30,2)<6,D30,0),IF(WEEKDAY($A31,2)<6,D31,0),IF(WEEKDAY($A32,2)<6,D32,0))/5 -> 23.892258 | E33: =SUM(IF(WEEKDAY($A26,2)<6,E26,0),IF(WEEKDAY($A27,2)<6,E27,0),IF(WEEKDAY($A28,2)<6,E28,0),IF(WEEKDAY($A29,2)<6,E29,0),IF(WEEKDAY($A30,2)<6,E30,0),IF(WEEKDAY($A31,2)<6,E31,0),IF(WEEKDAY($A32,2)<6,E32,0))/5 -> 4.773574 | F33: =SUM(IF(WEEKDAY($A26,2)<6,F26,0),IF(WEEKDAY($A27,2)<6,F27,0),IF(WEEKDAY($A28,2)<6,F28,0),IF(WEEKDAY($A29,2)<6,F29,0),IF(WEEKDAY($A30,2)<6,F30,0),IF(WEEKDAY($A31,2)<6,F31,0),IF(WEEKDAY($A32,2)<6,F32,0))/5 -> 3 | G33: =SUM(IF(WEEKDAY($A26,2)<6,G26,0),IF(WEEKDAY($A27,2)<6,G27,0),IF(WEEKDAY($A28,2)<6,G28,0),IF(WEEKDAY($A29,2)<6,G29,0),IF(WEEKDAY($A30,2)<6,G30,0),IF(WEEKDAY($A31,2)<6,G31,0),IF(WEEKDAY($A32,2)<6,G32,0))/5 -> 8.8 | H33: =SUM(IF(WEEKDAY($A26,2)<6,H26,0),IF(WEEKDAY($A27,2)<6,H27,0),IF(WEEKDAY($A28,2)<6,H28,0),IF(WEEKDAY($A29,2)<6,H29,0),IF(WEEKDAY($A30,2)<6,H30,0),IF(WEEKDAY($A31,2)<6,H31,0),IF(WEEKDAY($A32,2)<6,H32,0))/5 -> 28.6 | I33: =SUM(IF(WEEKDAY($A26,2)<6,I26,0),IF(WEEKDAY($A27,2)<6,I27,0),IF(WEEKDAY($A28,2)<6,I28,0),IF(WEEKDAY($A29,2)<6,I29,0),IF(WEEKDAY($A30,2)<6,I30,0),IF(WEEKDAY($A31,2)<6,I31,0),IF(WEEKDAY($A32,2)<6,I32,0))/5 -> 127 | ... Q33: =SUM(IF(WEEKDAY($A26,2)<6,Q26,0),IF(WEEKDAY($A27,2)<6,Q27,0),IF(WEEKDAY($A28,2)<6,Q28,0),IF(WEEKDAY($A29,2)<6,Q29,0),IF(WEEKDAY($A30,2)<6,Q30,0),IF(WEEKDAY($A31,2)<6,Q31,0),IF(WEEKDAY($A32,2)<6,Q32,0))/5 -> 0
A34: 7 Day Ave. | B34: =SUM(B26:B32)/7 -> 262.14286 | C34: =SUM(C26:C32)/7 -> 28.871045 | D34: =SUM(D26:D32)/7 -> 23.906864 | E34: =SUM(E26:E32)/7 -> 4.7898309 | F34: =SUM(F26:F32)/7 -> 3 | G34: =SUM(G26:G32)/7 -> 8.4285714 | H34: =SUM(H26:H32)/7 -> 27 | I34: =SUM(I26:I32)/7 -> 119.71429 | ... Q34: =SUM(Q26:Q32)/7 -> 0
A35: Paul Castle Associates
A40: Direction: | B40: Total Flow
B43: Total Volume | C43: 85th Percentile | D43: Mean Average | E43: Standard Deviation | F43: =F7 -> Bin 1 <10mph | G43: =G7 -> Bin 2 10<15 | H43: =H7 -> Bin 3 15<20 | I43: =I7 -> Bin 4 20<25 | J43: =J7 -> Bin 5 25<30 | K43: =K7 -> Bin 6 30<35 | L43: =L7 -> Bin 7 35<40 | M43: =M7 -> Bin 8 40<45 | ... Q43: =Q7 -> Bin 12 >=60
A44: =A8 -> 45602 | B44: =SUM(F44:Q44) -> 560 | C44: ='Speed 06 11 2024'!C129 -> 33.254278 | D44: ='Speed 06 11 2024'!D129 -> 26.5875 | E44: ='Speed 06 11 2024'!E129 -> 6.4326304 | F44: ='Speed 06 11 2024'!F129 -> 3 | G44: ='Speed 06 11 2024'!G129 -> 19 | H44: ='Speed 06 11 2024'!H129 -> 39 | I44: ='Speed 06 11 2024'!I129 -> 166 | J44: ='Speed 06 11 2024'!J129 -> 179 | ... Q44: ='Speed 06 11 2024'!Q129 -> 1
A45: =A9 -> 45603 | B45: =SUM(F45:Q45) -> 590 | C45: ='Speed 07 11 2024'!C129 -> 32.343141 | D45: ='Speed 07 11 2024'!D129 -> 25.708475 | E45: ='Speed 07 11 2024'!E129 -> 6.4016469 | F45: ='Speed 07 11 2024'!F129 -> 6 | G45: ='Speed 07 11 2024'!G129 -> 22 | H45: ='Speed 07 11 2024'!H129 -> 58 | I45: ='Speed 07 11 2024'!I129 -> 186 | J45: ='Speed 07 11 2024'!J129 -> 189 | ... Q45: ='Speed 07 11 2024'!Q129 -> 0
A46: =A10 -> 45604 | B46: =SUM(F46:Q46) -> 640 | C46: ='Speed 08 11 2024'!C129 -> 32.504102 | D46: ='Speed 08 11 2024'!D129 -> 26.107031 | E46: ='Speed 08 11 2024'!E129 -> 6.1723953 | F46: ='Speed 08 11 2024'!F129 -> 7 | G46: ='Speed 08 11 2024'!G129 -> 20 | H46: ='Speed 08 11 2024'!H129 -> 43 | I46: ='Speed 08 11 2024'!I129 -> 210 | J46: ='Speed 08 11 2024'!J129 -> 208 | ... Q46: ='Speed 08 11 2024'!Q129 -> 0
A47: =A11 -> 45605 | B47: =SUM(F47:Q47) -> 497 | C47: ='Speed 09 11 2024'!C129 -> 33.160078 | D47: ='Speed 09 11 2024'!D129 -> 26.377264 | E47: ='Speed 09 11 2024'!E129 -> 6.5445916 | F47: ='Speed 09 11 2024'!F129 -> 4 | G47: ='Speed 09 11 2024'!G129 -> 18 | H47: ='Speed 09 11 2024'!H129 -> 35 | I47: ='Speed 09 11 2024'!I129 -> 151 | J47: ='Speed 09 11 2024'!J129 -> 168 | ... Q47: ='Speed 09 11 2024'!Q129 -> 0
A48: =A12 -> 45606 | B48: =SUM(F48:Q48) -> 437 | C48: ='Speed 10 11 2024'!C129 -> 32.3132 | D48: ='Speed 10 11 2024'!D129 -> 25.900458 | E48: ='Speed 10 11 2024'!E129 -> 6.187517 | F48: ='Speed 10 11 2024'!F129 -> 2 | G48: ='Speed 10 11 2024'!G129 -> 18 | H48: ='Speed 10 11 2024'!H129 -> 36 | I48: ='Speed 10 11 2024'!I129 -> 133 | J48: ='Speed 10 11 2024'!J129 -> 156 | ... Q48: ='Speed 10 11 2024'!Q129 -> 0
A49: =A13 -> 45607 | B49: =SUM(F49:Q49) -> 545 | C49: ='Speed 11 11 2024'!C129 -> 32.578772 | D49: ='Speed 11 11 2024'!D129 -> 26.622018 | E49: ='Speed 11 11 2024'!E129 -> 5.7475436 | F49: ='Speed 11 11 2024'!F129 -> 3 | G49: ='Speed 11 11 2024'!G129 -> 16 | H49: ='Speed 11 11 2024'!H129 -> 29 | I49: ='Speed 11 11 2024'!I129 -> 159 | J49: ='Speed 11 11 2024'!J129 -> 195 | ... Q49: ='Speed 11 11 2024'!Q129 -> 0
A50: =A14 -> 45608 | B50: =SUM(F50:Q50) -> 588 | C50: ='Speed 12 11 2024'!C129 -> 32.396088 | D50: ='Speed 12 11 2024'!D129 -> 26.185374 | E50: ='Speed 12 11 2024'!E129 -> 5.992584 | F50: ='Speed 12 11 2024'!F129 -> 4 | G50: ='Speed 12 11 2024'!G129 -> 16 | H50: ='Speed 12 11 2024'!H129 -> 44 | I50: ='Speed 12 11 2024'!I129 -> 180 | J50: ='Speed 12 11 2024'!J129 -> 215 | ... Q50: ='Speed 12 11 2024'!Q129 -> 0
A51: 5 Day Ave. | B51: =SUM(IF(WEEKDAY($A44,2)<6,B44,0),IF(WEEKDAY($A45,2)<6,B45,0),IF(WEEKDAY($A46,2)<6,B46,0),IF(WEEKDAY($A47,2)<6,B47,0),IF(WEEKDAY($A48,2)<6,B48,0),IF(WEEKDAY($A49,2)<6,B49,0),IF(WEEKDAY($A50,2)<6,B50,0))/5 -> 584.6 | C51: =SUM(IF(WEEKDAY($A44,2)<6,C44,0),IF(WEEKDAY($A45,2)<6,C45,0),IF(WEEKDAY($A46,2)<6,C46,0),IF(WEEKDAY($A47,2)<6,C47,0),IF(WEEKDAY($A48,2)<6,C48,0),IF(WEEKDAY($A49,2)<6,C49,0),IF(WEEKDAY($A50,2)<6,C50,0))/5 -> 32.615276 | D51: =SUM(IF(WEEKDAY($A44,2)<6,D44,0),IF(WEEKDAY($A45,2)<6,D45,0),IF(WEEKDAY($A46,2)<6,D46,0),IF(WEEKDAY($A47,2)<6,D47,0),IF(WEEKDAY($A48,2)<6,D48,0),IF(WEEKDAY($A49,2)<6,D49,0),IF(WEEKDAY($A50,2)<6,D50,0))/5 -> 26.24208 | E51: =SUM(IF(WEEKDAY($A44,2)<6,E44,0),IF(WEEKDAY($A45,2)<6,E45,0),IF(WEEKDAY($A46,2)<6,E46,0),IF(WEEKDAY($A47,2)<6,E47,0),IF(WEEKDAY($A48,2)<6,E48,0),IF(WEEKDAY($A49,2)<6,E49,0),IF(WEEKDAY($A50,2)<6,E50,0))/5 -> 6.14936 | F51: =SUM(IF(WEEKDAY($A44,2)<6,F44,0),IF(WEEKDAY($A45,2)<6,F45,0),IF(WEEKDAY($A46,2)<6,F46,0),IF(WEEKDAY($A47,2)<6,F47,0),IF(WEEKDAY($A48,2)<6,F48,0),IF(WEEKDAY($A49,2)<6,F49,0),IF(WEEKDAY($A50,2)<6,F50,0))/5 -> 4.6 | G51: =SUM(IF(WEEKDAY($A44,2)<6,G44,0),IF(WEEKDAY($A45,2)<6,G45,0),IF(WEEKDAY($A46,2)<6,G46,0),IF(WEEKDAY($A47,2)<6,G47,0),IF(WEEKDAY($A48,2)<6,G48,0),IF(WEEKDAY($A49,2)<6,G49,0),IF(WEEKDAY($A50,2)<6,G50,0))/5 -> 18.6 | H51: =SUM(IF(WEEKDAY($A44,2)<6,H44,0),IF(WEEKDAY($A45,2)<6,H45,0),IF(WEEKDAY($A46,2)<6,H46,0),IF(WEEKDAY($A47,2)<6,H47,0),IF(WEEKDAY($A48,2)<6,H48,0),IF(WEEKDAY($A49,2)<6,H49,0),IF(WEEKDAY($A50,2)<6,H50,0))/5 -> 42.6 | I51: =SUM(IF(WEEKDAY($A44,2)<6,I44,0),IF(WEEKDAY($A45,2)<6,I45,0),IF(WEEKDAY($A46,2)<6,I46,0),IF(WEEKDAY($A47,2)<6,I47,0),IF(WEEKDAY($A48,2)<6,I48,0),IF(WEEKDAY($A49,2)<6,I49,0),IF(WEEKDAY($A50,2)<6,I50,0))/5 -> 180.2 | ... Q51: =SUM(IF(WEEKDAY($A44,2)<6,Q44,0),IF(WEEKDAY($A45,2)<6,Q45,0),IF(WEEKDAY($A46,2)<6,Q46,0),IF(WEEKDAY($A47,2)<6,Q47,0),IF(WEEKDAY($A48,2)<6,Q48,0),IF(WEEKDAY($A49,2)<6,Q49,0),IF(WEEKDAY($A50,2)<6,Q50,0))/5 -> 0.2
A52: 7 Day Ave. | B52: =SUM(B44:B50)/7 -> 551 | C52: =SUM(C44:C50)/7 -> 32.649952 | D52: =SUM(D44:D50)/7 -> 26.212589 | E52: =SUM(E44:E50)/7 -> 6.2112727 | F52: =SUM(F44:F50)/7 -> 4.1428571 | G52: =SUM(G44:G50)/7 -> 18.428571 | H52: =SUM(H44:H50)/7 -> 40.571429 | I52: =SUM(I44:I50)/7 -> 169.28571 | ... Q52: =SUM(Q44:Q50)/7 -> 0.14285714
A53: Paul Castle Associates

Sheet (10-12) Speed Summary
A1: ='Flow Summary'!A1 -> Wrexham ATC, Cristionydd Lane
A4: Direction: | B4: ='Flow Summary'!B4 -> Southbound
B7: Total Volume | C7: 85th Percentile | D7: Mean Average | E7: Standard Deviation | F7: ='Speed 06 11 2024'!F7 -> Bin 1 <10mph | G7: ='Speed 06 11 2024'!G7 -> Bin 2 10<15 | H7: ='Speed 06 11 2024'!H7 -> Bin 3 15<20 | I7: ='Speed 06 11 2024'!I7 -> Bin 4 20<25 | J7: ='Speed 06 11 2024'!J7 -> Bin 5 25<30 | K7: ='Speed 06 11 2024'!K7 -> Bin 6 30<35 | L7: ='Speed 06 11 2024'!L7 -> Bin 7 35<40 | M7: ='Speed 06 11 2024'!M7 -> Bin 8 40<45 | ... Q7: ='Speed 06 11 2024'!Q7 -> Bin 12 >=60
A8: ='Class Summary'!A6 -> 45602 | B8: =SUM(F8:Q8) -> 32 | C8: ='Speed 06 11 2024'!C34 -> 34.054183 | D8: ='Speed 06 11 2024'!D34 -> 26.875 | E8: ='Speed 06 11 2024'!E34 -> 6.9270391 | F8: ='Speed 06 11 2024'!F34 -> 0 | G8: ='Speed 06 11 2024'!G34 -> 2 | H8: ='Speed 06 11 2024'!H34 -> 3 | I8: ='Speed 06 11 2024'!I34 -> 7 | J8: ='Speed 06 11 2024'!J34 -> 9 | ... Q8: ='Speed 06 11 2024'!Q34 -> 0
A9: ='Class Summary'!A7 -> 45603 | B9: =SUM(F9:Q9) -> 37 | C9: ='Speed 07 11 2024'!C34 -> 33.015594 | D9: ='Speed 07 11 2024'!D34 -> 26.013514 | E9: ='Speed 07 11 2024'!E34 -> 6.7561561 | F9: ='Speed 07 11 2024'!F34 -> 0 | G9: ='Speed 07 11 2024'!G34 -> 2 | H9: ='Speed 07 11 2024'!H34 -> 3 | I9: ='Speed 07 11 2024'!I34 -> 11 | J9: ='Speed 07 11 2024'!J34 -> 14 | ... Q9: ='Speed 07 11 2024'!Q34 -> 0
A10: ='Class Summary'!A8 -> 45604 | B10: =SUM(F10:Q10) -> 35 | C10: ='Speed 08 11 2024'!C34 -> 33.540351 | D10: ='Speed 08 11 2024'!D34 -> 26.8 | E10: ='Speed 08 11 2024'!E34 -> 6.5036189 | F10: ='Speed 08 11 2024'!F34 -> 1 | G10: ='Speed 08 11 2024'!G34 -> 2 | H10: ='Speed 08 11 2024'!H34 -> 1 | I10: ='Speed 08 11 2024'!I34 -> 4 | J10: ='Speed 08 11 2024'!J34 -> 18 | ... Q10: ='Speed 08 11 2024'!Q34 -> 0
A11: ='Class Summary'!A9 -> 45605 | B11: =SUM(F11:Q11) -> 33 | C11: ='Speed 09 11 2024'!C34 -> 35.03528 | D11: ='Speed 09 11 2024'!D34 -> 27.651515 | E11: ='Speed 09 11 2024'!E34 -> 7.1244351 | F11: ='Speed 09 11 2024'!F34 -> 0 | G11: ='Speed 09 11 2024'!G34 -> 3 | H11: ='Speed 09 11 2024'!H34 -> 0 | I11: ='Speed 09 11 2024'!I34 -> 7 | J11: ='Speed 09 11 2024'!J34 -> 12 | ... Q11: ='Speed 09 11 2024'!Q34 -> 0
A12: ='Class Summary'!A10 -> 45606 | B12: =SUM(F12:Q12) -> 32 | C12: ='Speed 10 11 2024'!C34 -> 34.051862 | D12: ='Speed 10 11 2024'!D34 -> 27.96875 | E12: ='Speed 10 11 2024'!E34 -> 5.8694638 | F12: ='Speed 10 11 2024'!F34 -> 0 | G12: ='Speed 10 11 2024'!G34 -> 2 | H12: ='Speed 10 11 2024'!H34 -> 0 | I12: ='Speed 10 11 2024'!I34 -> 7 | J12: ='Speed 10 11 2024'!J34 -> 8 | ... Q12: ='Speed 10 11 2024'!Q34 -> 0
A13: ='Class Summary'!A11 -> 45607 | B13: =SUM(F13:Q13) -> 24 | C13: ='Speed 11 11 2024'!C34 -> 34.65004 | D13: ='Speed 11 11 2024'!D34 -> 28.541667 | E13: ='Speed 11 11 2024'!E34 -> 5.8938374 | F13: ='Speed 11 11 2024'!F34 -> 0 | G13: ='Speed 11 11 2024'!G34 -> 0 | H13: ='Speed 11 11 2024'!H34 -> 3 | I13: ='Speed 11 11 2024'!I34 -> 1 | J13: ='Speed 11 11 2024'!J34 -> 11 | ... Q13: ='Speed 11 11 2024'!Q34 -> 0
A14: ='Class Summary'!A12 -> 45608 | B14: =SUM(F14:Q14) -> 33 | C14: ='Speed 12 11 2024'!C34 -> 31.870679 | D14: ='Speed 12 11 2024'!D34 -> 26.893939 | E14: ='Speed 12 11 2024'!E34 -> 4.8019488 | F14: ='Speed 12 11 2024'!F34 -> 0 | G14: ='Speed 12 11 2024'!G34 -> 1 | H14: ='Speed 12 11 2024'!H34 -> 0 | I14: ='Speed 12 11 2024'!I34 -> 10 | J14: ='Speed 12 11 2024'!J34 -> 14 | ... Q14: ='Speed 12 11 2024'!Q34 -> 0
A15: 5 Day Ave. | B15: =SUM(IF(WEEKDAY($A8,2)<6,B8,0),IF(WEEKDAY($A9,2)<6,B9,0),IF(WEEKDAY($A10,2)<6,B10,0),IF(WEEKDAY($A11,2)<6,B11,0),IF(WEEKDAY($A12,2)<6,B12,0),IF(WEEKDAY($A13,2)<6,B13,0),IF(WEEKDAY($A14,2)<6,B14,0))/5 -> 32.2 | C15: =SUM(IF(WEEKDAY($A8,2)<6,C8,0),IF(WEEKDAY($A9,2)<6,C9,0),IF(WEEKDAY($A10,2)<6,C10,0),IF(WEEKDAY($A11,2)<6,C11,0),IF(WEEKDAY($A12,2)<6,C12,0),IF(WEEKDAY($A13,2)<6,C13,0),IF(WEEKDAY($A14,2)<6,C14,0))/5 -> 33.426169 | D15: =SUM(IF(WEEKDAY($A8,2)<6,D8,0),IF(WEEKDAY($A9,2)<6,D9,0),IF(WEEKDAY($A10,2)<6,D10,0),IF(WEEKDAY($A11,2)<6,D11,0),IF(WEEKDAY($A12,2)<6,D12,0),IF(WEEKDAY($A13,2)<6,D13,0),IF(WEEKDAY($A14,2)<6,D14,0))/5 -> 27.024824 | E15: =SUM(IF(WEEKDAY($A8,2)<6,E8,0),IF(WEEKDAY($A9,2)<6,E9,0),IF(WEEKDAY($A10,2)<6,E10,0),IF(WEEKDAY($A11,2)<6,E11,0),IF(WEEKDAY($A12,2)<6,E12,0),IF(WEEKDAY($A13,2)<6,E13,0),IF(WEEKDAY($A14,2)<6,E14,0))/5 -> 6.1765201 | F15: =SUM(IF(WEEKDAY($A8,2)<6,F8,0),IF(WEEKDAY($A9,2)<6,F9,0),IF(WEEKDAY($A10,2)<6,F10,0),IF(WEEKDAY($A11,2)<6,F11,0),IF(WEEKDAY($A12,2)<6,F12,0),IF(WEEKDAY($A13,2)<6,F13,0),IF(WEEKDAY($A14,2)<6,F14,0))/5 -> 0.2 | G15: =SUM(IF(WEEKDAY($A8,2)<6,G8,0),IF(WEEKDAY($A9,2)<6,G9,0),IF(WEEKDAY($A10,2)<6,G10,0),IF(WEEKDAY($A11,2)<6,G11,0),IF(WEEKDAY($A12,2)<6,G12,0),IF(WEEKDAY($A13,2)<6,G13,0),IF(WEEKDAY($A14,2)<6,G14,0))/5 -> 1.4 | H15: =SUM(IF(WEEKDAY($A8,2)<6,H8,0),IF(WEEKDAY($A9,2)<6,H9,0),IF(WEEKDAY($A10,2)<6,H10,0),IF(WEEKDAY($A11,2)<6,H11,0),IF(WEEKDAY($A12,2)<6,H12,0),IF(WEEKDAY($A13,2)<6,H13,0),IF(WEEKDAY($A14,2)<6,H14,0))/5 -> 2 | I15: =SUM(IF(WEEKDAY($A8,2)<6,I8,0),IF(WEEKDAY($A9,2)<6,I9,0),IF(WEEKDAY($A10,2)<6,I10,0),IF(WEEKDAY($A11,2)<6,I11,0),IF(WEEKDAY($A12,2)<6,I12,0),IF(WEEKDAY($A13,2)<6,I13,0),IF(WEEKDAY($A14,2)<6,I14,0))/5 -> 6.6 | ... Q15: =SUM(IF(WEEKDAY($A8,2)<6,Q8,0),IF(WEEKDAY($A9,2)<6,Q9,0),IF(WEEKDAY($A10,2)<6,Q10,0),IF(WEEKDAY($A11,2)<6,Q11,0),IF(WEEKDAY($A12,2)<6,Q12,0),IF(WEEKDAY($A13,2)<6,Q13,0),IF(WEEKDAY($A14,2)<6,Q14,0))/5 -> 0
A16: 7 Day Ave. | B16: =SUM(B8:B14)/7 -> 32.285714 | C16: =SUM(C8:C14)/7 -> 33.745427 | D16: =SUM(D8:D14)/7 -> 27.249198 | E16: =SUM(E8:E14)/7 -> 6.2680713 | F16: =SUM(F8:F14)/7 -> 0.14285714 | G16: =SUM(G8:G14)/7 -> 1.7142857 | H16: =SUM(H8:H14)/7 -> 1.4285714 | I16: =SUM(I8:I14)/7 -> 6.7142857 | ... Q16: =SUM(Q8:Q14)/7 -> 0
A17: Paul Castle Associates
A22: Direction: | B22: ='Flow Summary'!M4 -> Northbound
B25: Total Volume | C25: 85th Percentile | D25: Mean Average | E25: Standard Deviation | F25: =F7 -> Bin 1 <10mph | G25: =G7 -> Bin 2 10<15 | H25: =H7 -> Bin 3 15<20 | I25: =I7 -> Bin 4 20<25 | J25: =J7 -> Bin 5 25<30 | K25: =K7 -> Bin 6 30<35 | L25: =L7 -> Bin 7 35<40 | M25: =M7 -> Bin 8 40<45 | ... Q25: =Q7 -> Bin 12 >=60
A26: =A8 -> 45602 | B26: =SUM(F26:Q26) -> 25 | C26: ='Speed 06 11 2024'!C80 -> 28.988575 | D26: ='Speed 06 11 2024'!D80 -> 25.3 | E26: ='Speed 06 11 2024'!E80 -> 3.5590261 | F26: ='Speed 06 11 2024'!F80 -> 0 | G26: ='Speed 06 11 2024'!G80 -> 0 | H26: ='Speed 06 11 2024'!H80 -> 1 | I26: ='Speed 06 11 2024'!I80 -> 11 | J26: ='Speed 06 11 2024'!J80 -> 11 | ... Q26: ='Speed 06 11 2024'!Q80 -> 0
A27: =A9 -> 45603 | B27: =SUM(F27:Q27) -> 23 | C27: ='Speed 07 11 2024'!C80 -> 28.339939 | D27: ='Speed 07 11 2024'!D80 -> 21.456522 | E27: ='Speed 07 11 2024'!E80 -> 6.6416609 | F27: ='Speed 07 11 2024'!F80 -> 2 | G27: ='Speed 07 11 2024'!G80 -> 2 | H27: ='Speed 07 11 2024'!H80 -> 4 | I27: ='Speed 07 11 2024'!I80 -> 7 | J27: ='Speed 07 11 2024'!J80 -> 7 | ... Q27: ='Speed 07 11 2024'!Q80 -> 0
A28: =A10 -> 45604 | B28: =SUM(F28:Q28) -> 22 | C28: ='Speed 08 11 2024'!C80 -> 27.451992 | D28: ='Speed 08 11 2024'!D80 -> 22.954545 | E28: ='Speed 08 11 2024'!E80 -> 4.3394895 | F28: ='Speed 08 11 2024'!F80 -> 0 | G28: ='Speed 08 11 2024'!G80 -> 2 | H28: ='Speed 08 11 2024'!H80 -> 1 | I28: ='Speed 08 11 2024'!I80 -> 12 | J28: ='Speed 08 11 2024'!J80 -> 7 | ... Q28: ='Speed 08 11 2024'!Q80 -> 0
A29: =A11 -> 45605 | B29: =SUM(F29:Q29) -> 27 | C29: ='Speed 09 11 2024'!C80 -> 28.454414 | D29: ='Speed 09 11 2024'!D80 -> 24.351852 | E29: ='Speed 09 11 2024'!E80 -> 3.9584739 | F29: ='Speed 09 11 2024'!F80 -> 0 | G29: ='Speed 09 11 2024'!G80 -> 1 | H29: ='Speed 09 11 2024'!H80 -> 1 | I29: ='Speed 09 11 2024'!I80 -> 13 | J29: ='Speed 09 11 2024'!J80 -> 11 | ... Q29: ='Speed 09 11 2024'!Q80 -> 0
A30: =A12 -> 45606 | B30: =SUM(F30:Q30) -> 34 | C30: ='Speed 10 11 2024'!C80 -> 28.485119 | D30: ='Speed 10 11 2024'!D80 -> 24.117647 | E30: ='Speed 10 11 2024'!E80 -> 4.2140796 | F30: ='Speed 10 11 2024'!F80 -> 0 | G30: ='Speed 10 11 2024'!G80 -> 1 | H30: ='Speed 10 11 2024'!H80 -> 3 | I30: ='Speed 10 11 2024'!I80 -> 16 | J30: ='Speed 10 11 2024'!J80 -> 12 | ... Q30: ='Speed 10 11 2024'!Q80 -> 0
A31: =A13 -> 45607 | B31: =SUM(F31:Q31) -> 26 | C31: ='Speed 11 11 2024'!C80 -> 29.054536 | D31: ='Speed 11 11 2024'!D80 -> 24.615385 | E31: ='Speed 11 11 2024'!E80 -> 4.283241 | F31: ='Speed 11 11 2024'!F80 -> 0 | G31: ='Speed 11 11 2024'!G80 -> 0 | H31: ='Speed 11 11 2024'!H80 -> 4 | I31: ='Speed 11 11 2024'!I80 -> 9 | J31: ='Speed 11 11 2024'!J80 -> 11 | ... Q31: ='Speed 11 11 2024'!Q80 -> 0
A32: =A14 -> 45608 | B32: =SUM(F32:Q32) -> 27 | C32: ='Speed 12 11 2024'!C80 -> 28.248577 | D32: ='Speed 12 11 2024'!D80 -> 23.981481 | E32: ='Speed 12 11 2024'!E80 -> 4.1172281 | F32: ='Speed 12 11 2024'!F80 -> 0 | G32: ='Speed 12 11 2024'!G80 -> 1 | H32: ='Speed 12 11 2024'!H80 -> 3 | I32: ='Speed 12 11 2024'!I80 -> 10 | J32: ='Speed 12 11 2024'!J80 -> 13 | ... Q32: ='Speed 12 11 2024'!Q80 -> 0
A33: 5 Day Ave. | B33: =SUM(IF(WEEKDAY($A26,2)<6,B26,0),IF(WEEKDAY($A27,2)<6,B27,0),IF(WEEKDAY($A28,2)<6,B28,0),IF(WEEKDAY($A29,2)<6,B29,0),IF(WEEKDAY($A30,2)<6,B30,0),IF(WEEKDAY($A31,2)<6,B31,0),IF(WEEKDAY($A32,2)<6,B32,0))/5 -> 24.6 | C33: =SUM(IF(WEEKDAY($A26,2)<6,C26,0),IF(WEEKDAY($A27,2)<6,C27,0),IF(WEEKDAY($A28,2)<6,C28,0),IF(WEEKDAY($A29,2)<6,C29,0),IF(WEEKDAY($A30,2)<6,C30,0),IF(WEEKDAY($A31,2)<6,C31,0),IF(WEEKDAY($A32,2)<6,C32,0))/5 -> 28.416724 | D33: =SUM(IF(WEEKDAY($A26,2)<6,D26,0),IF(WEEKDAY($A27,2)<6,D27,0),IF(WEEKDAY($A28,2)<6,D28,0),IF(WEEKDAY($A29,2)<6,D29,0),IF(WEEKDAY($A30,2)<6,D30,0),IF(WEEKDAY($A31,2)<6,D31,0),IF(WEEKDAY($A32,2)<6,D32,0))/5 -> 23.661587 | E33: =SUM(IF(WEEKDAY($A26,2)<6,E26,0),IF(WEEKDAY($A27,2)<6,E27,0),IF(WEEKDAY($A28,2)<6,E28,0),IF(WEEKDAY($A29,2)<6,E29,0),IF(WEEKDAY($A30,2)<6,E30,0),IF(WEEKDAY($A31,2)<6,E31,0),IF(WEEKDAY($A32,2)<6,E32,0))/5 -> 4.5881291 | F33: =SUM(IF(WEEKDAY($A26,2)<6,F26,0),IF(WEEKDAY($A27,2)<6,F27,0),IF(WEEKDAY($A28,2)<6,F28,0),IF(WEEKDAY($A29,2)<6,F29,0),IF(WEEKDAY($A30,2)<6,F30,0),IF(WEEKDAY($A31,2)<6,F31,0),IF(WEEKDAY($A32,2)<6,F32,0))/5 -> 0.4 | G33: =SUM(IF(WEEKDAY($A26,2)<6,G26,0),IF(WEEKDAY($A27,2)<6,G27,0),IF(WEEKDAY($A28,2)<6,G28,0),IF(WEEKDAY($A29,2)<6,G29,0),IF(WEEKDAY($A30,2)<6,G30,0),IF(WEEKDAY($A31,2)<6,G31,0),IF(WEEKDAY($A32,2)<6,G32,0))/5 -> 1 | H33: =SUM(IF(WEEKDAY($A26,2)<6,H26,0),IF(WEEKDAY($A27,2)<6,H27,0),IF(WEEKDAY($A28,2)<6,H28,0),IF(WEEKDAY($A29,2)<6,H29,0),IF(WEEKDAY($A30,2)<6,H30,0),IF(WEEKDAY($A31,2)<6,H31,0),IF(WEEKDAY($A32,2)<6,H32,0))/5 -> 2.6 | I33: =SUM(IF(WEEKDAY($A26,2)<6,I26,0),IF(WEEKDAY($A27,2)<6,I27,0),IF(WEEKDAY($A28,2)<6,I28,0),IF(WEEKDAY($A29,2)<6,I29,0),IF(WEEKDAY($A30,2)<6,I30,0),IF(WEEKDAY($A31,2)<6,I31,0),IF(WEEKDAY($A32,2)<6,I32,0))/5 -> 9.8 | ... Q33: =SUM(IF(WEEKDAY($A26,2)<6,Q26,0),IF(WEEKDAY($A27,2)<6,Q27,0),IF(WEEKDAY($A28,2)<6,Q28,0),IF(WEEKDAY($A29,2)<6,Q29,0),IF(WEEKDAY($A30,2)<6,Q30,0),IF(WEEKDAY($A31,2)<6,Q31,0),IF(WEEKDAY($A32,2)<6,Q32,0))/5 -> 0
A34: 7 Day Ave. | B34: =SUM(B26:B32)/7 -> 26.285714 | C34: =SUM(C26:C32)/7 -> 28.431879 | D34: =SUM(D26:D32)/7 -> 23.825347 | E34: =SUM(E26:E32)/7 -> 4.4447427 | F34: =SUM(F26:F32)/7 -> 0.28571429 | G34: =SUM(G26:G32)/7 -> 1 | H34: =SUM(H26:H32)/7 -> 2.4285714 | I34: =SUM(I26:I32)/7 -> 11.142857 | ... Q34: =SUM(Q26:Q32)/7 -> 0
A35: Paul Castle Associates
A40: Direction: | B40: Total Flow
B43: Total Volume | C43: 85th Percentile | D43: Mean Average | E43: Standard Deviation | F43: =F7 -> Bin 1 <10mph | G43: =G7 -> Bin 2 10<15 | H43: =H7 -> Bin 3 15<20 | I43: =I7 -> Bin 4 20<25 | J43: =J7 -> Bin 5 25<30 | K43: =K7 -> Bin 6 30<35 | L43: =L7 -> Bin 7 35<40 | M43: =M7 -> Bin 8 40<45 | ... Q43: =Q7 -> Bin 12 >=60
A44: =A8 -> 45602 | B44: =SUM(F44:Q44) -> 57 | C44: ='Speed 06 11 2024'!C126 -> 32.102842 | D44: ='Speed 06 11 2024'!D126 -> 26.184211 | E44: ='Speed 06 11 2024'!E126 -> 5.7107602 | F44: ='Speed 06 11 2024'!F126 -> 0 | G44: ='Speed 06 11 2024'!G126 -> 2 | H44: ='Speed 06 11 2024'!H126 -> 4 | I44: ='Speed 06 11 2024'!I126 -> 18 | J44: ='Speed 06 11 2024'!J126 -> 20 | ... Q44: ='Speed 06 11 2024'!Q126 -> 0
A45: =A9 -> 45603 | B45: =SUM(F45:Q45) -> 60 | C45: ='Speed 07 11 2024'!C126 -> 31.543058 | D45: ='Speed 07 11 2024'!D126 -> 24.266667 | E45: ='Speed 07 11 2024'!E126 -> 7.0208326 | F45: ='Speed 07 11 2024'!F126 -> 2 | G45: ='Speed 07 11 2024'!G126 -> 4 | H45: ='Speed 07 11 2024'!H126 -> 7 | I45: ='Speed 07 11 2024'!I126 -> 18 | J45: ='Speed 07 11 2024'!J126 -> 21 | ... Q45: ='Speed 07 11 2024'!Q126 -> 0
A46: =A10 -> 45604 | B46: =SUM(F46:Q46) -> 57 | C46: ='Speed 08 11 2024'!C126 -> 31.560838 | D46: ='Speed 08 11 2024'!D126 -> 25.315789 | E46: ='Speed 08 11 2024'!E126 -> 6.0257124 | F46: ='Speed 08 11 2024'!F126 -> 1 | G46: ='Speed 08 11 2024'!G126 -> 4 | H46: ='Speed 08 11 2024'!H126 -> 2 | I46: ='Speed 08 11 2024'!I126 -> 16 | J46: ='Speed 08 11 2024'!J126 -> 25 | ... Q46: ='Speed 08 11 2024'!Q126 -> 0
A47: =A11 -> 45605 | B47: =SUM(F47:Q47) -> 60 | C47: ='Speed 09 11 2024'!C126 -> 32.485745 | D47: ='Speed 09 11 2024'!D126 -> 26.166667 | E47: ='Speed 09 11 2024'!E126 -> 6.0971421 | F47: ='Speed 09 11 2024'!F126 -> 0 | G47: ='Speed 09 11 2024'!G126 -> 4 | H47: ='Speed 09 11 2024'!H126 -> 1 | I47: ='Speed 09 11 2024'!I126 -> 20 | J47: ='Speed 09 11 2024'!J126 -> 23 | ... Q47: ='Speed 09 11 2024'!Q126 -> 0
A48: =A12 -> 45606 | B48: =SUM(F48:Q48) -> 66 | C48: ='Speed 10 11 2024'!C126 -> 31.585961 | D48: ='Speed 10 11 2024'!D126 -> 25.984848 | E48: ='Speed 10 11 2024'!E126 -> 5.4043926 | F48: ='Speed 10 11 2024'!F126 -> 0 | G48: ='Speed 10 11 2024'!G126 -> 3 | H48: ='Speed 10 11 2024'!H126 -> 3 | I48: ='Speed 10 11 2024'!I126 -> 23 | J48: ='Speed 10 11 2024'!J126 -> 20 | ... Q48: ='Speed 10 11 2024'!Q126 -> 0
A49: =A13 -> 45607 | B49: =SUM(F49:Q49) -> 50 | C49: ='Speed 11 11 2024'!C126 -> 32.137848 | D49: ='Speed 11 11 2024'!D126 -> 26.5 | E49: ='Speed 11 11 2024'!E126 -> 5.4398379 | F49: ='Speed 11 11 2024'!F126 -> 0 | G49: ='Speed 11 11 2024'!G126 -> 0 | H49: ='Speed 11 11 2024'!H126 -> 7 | I49: ='Speed 11 11 2024'!I126 -> 10 | J49: ='Speed 11 11 2024'!J126 -> 22 | ... Q49: ='Speed 11 11 2024'!Q126 -> 0
A50: =A14 -> 45608 | B50: =SUM(F50:Q50) -> 60 | C50: ='Speed 12 11 2024'!C126 -> 30.456792 | D50: ='Speed 12 11 2024'!D126 -> 25.583333 | E50: ='Speed 12 11 2024'!E126 -> 4.7022954 | F50: ='Speed 12 11 2024'!F126 -> 0 | G50: ='Speed 12 11 2024'!G126 -> 2 | H50: ='Speed 12 11 2024'!H126 -> 3 | I50: ='Speed 12 11 2024'!I126 -> 20 | J50: ='Speed 12 11 2024'!J126 -> 27 | ... Q50: ='Speed 12 11 2024'!Q126 -> 0
A51: 5 Day Ave. | B51: =SUM(IF(WEEKDAY($A44,2)<6,B44,0),IF(WEEKDAY($A45,2)<6,B45,0),IF(WEEKDAY($A46,2)<6,B46,0),IF(WEEKDAY($A47,2)<6,B47,0),IF(WEEKDAY($A48,2)<6,B48,0),IF(WEEKDAY($A49,2)<6,B49,0),IF(WEEKDAY($A50,2)<6,B50,0))/5 -> 56.8 | C51: =SUM(IF(WEEKDAY($A44,2)<6,C44,0),IF(WEEKDAY($A45,2)<6,C45,0),IF(WEEKDAY($A46,2)<6,C46,0),IF(WEEKDAY($A47,2)<6,C47,0),IF(WEEKDAY($A48,2)<6,C48,0),IF(WEEKDAY($A49,2)<6,C49,0),IF(WEEKDAY($A50,2)<6,C50,0))/5 -> 31.560276 | D51: =SUM(IF(WEEKDAY($A44,2)<6,D44,0),IF(WEEKDAY($A45,2)<6,D45,0),IF(WEEKDAY($A46,2)<6,D46,0),IF(WEEKDAY($A47,2)<6,D47,0),IF(WEEKDAY($A48,2)<6,D48,0),IF(WEEKDAY($A49,2)<6,D49,0),IF(WEEKDAY($A50,2)<6,D50,0))/5 -> 25.57 | E51: =SUM(IF(WEEKDAY($A44,2)<6,E44,0),IF(WEEKDAY($A45,2)<6,E45,0),IF(WEEKDAY($A46,2)<6,E46,0),IF(WEEKDAY($A47,2)<6,E47,0),IF(WEEKDAY($A48,2)<6,E48,0),IF(WEEKDAY($A49,2)<6,E49,0),IF(WEEKDAY($A50,2)<6,E50,0))/5 -> 5.7798877 | F51: =SUM(IF(WEEKDAY($A44,2)<6,F44,0),IF(WEEKDAY($A45,2)<6,F45,0),IF(WEEKDAY($A46,2)<6,F46,0),IF(WEEKDAY($A47,2)<6,F47,0),IF(WEEKDAY($A48,2)<6,F48,0),IF(WEEKDAY($A49,2)<6,F49,0),IF(WEEKDAY($A50,2)<6,F50,0))/5 -> 0.6 | G51: =SUM(IF(WEEKDAY($A44,2)<6,G44,0),IF(WEEKDAY($A45,2)<6,G45,0),IF(WEEKDAY($A46,2)<6,G46,0),IF(WEEKDAY($A47,2)<6,G47,0),IF(WEEKDAY($A48,2)<6,G48,0),IF(WEEKDAY($A49,2)<6,G49,0),IF(WEEKDAY($A50,2)<6,G50,0))/5 -> 2.4 | H51: =SUM(IF(WEEKDAY($A44,2)<6,H44,0),IF(WEEKDAY($A45,2)<6,H45,0),IF(WEEKDAY($A46,2)<6,H46,0),IF(WEEKDAY($A47,2)<6,H47,0),IF(WEEKDAY($A48,2)<6,H48,0),IF(WEEKDAY($A49,2)<6,H49,0),IF(WEEKDAY($A50,2)<6,H50,0))/5 -> 4.6 | I51: =SUM(IF(WEEKDAY($A44,2)<6,I44,0),IF(WEEKDAY($A45,2)<6,I45,0),IF(WEEKDAY($A46,2)<6,I46,0),IF(WEEKDAY($A47,2)<6,I47,0),IF(WEEKDAY($A48,2)<6,I48,0),IF(WEEKDAY($A49,2)<6,I49,0),IF(WEEKDAY($A50,2)<6,I50,0))/5 -> 16.4 | ... Q51: =SUM(IF(WEEKDAY($A44,2)<6,Q44,0),IF(WEEKDAY($A45,2)<6,Q45,0),IF(WEEKDAY($A46,2)<6,Q46,0),IF(WEEKDAY($A47,2)<6,Q47,0),IF(WEEKDAY($A48,2)<6,Q48,0),IF(WEEKDAY($A49,2)<6,Q49,0),IF(WEEKDAY($A50,2)<6,Q50,0))/5 -> 0
A52: 7 Day Ave. | B52: =SUM(B44:B50)/7 -> 58.571429 | C52: =SUM(C44:C50)/7 -> 31.696155 | D52: =SUM(D44:D50)/7 -> 25.714502 | E52: =SUM(E44:E50)/7 -> 5.7715676 | F52: =SUM(F44:F50)/7 -> 0.42857143 | G52: =SUM(G44:G50)/7 -> 2.7142857 | H52: =SUM(H44:H50)/7 -> 3.8571429 | I52: =SUM(I44:I50)/7 -> 17.857143 | ... Q52: =SUM(Q44:Q50)/7 -> 0
A53: Paul Castle Associates

Sheet (14-16) Speed Summary
A1: ='Flow Summary'!A1 -> Wrexham ATC, Cristionydd Lane
A4: Direction: | B4: ='Flow Summary'!B4 -> Southbound
B7: Total Volume | C7: 85th Percentile | D7: Mean Average | E7: Standard Deviation | F7: ='Speed 06 11 2024'!F7 -> Bin 1 <10mph | G7: ='Speed 06 11 2024'!G7 -> Bin 2 10<15 | H7: ='Speed 06 11 2024'!H7 -> Bin 3 15<20 | I7: ='Speed 06 11 2024'!I7 -> Bin 4 20<25 | J7: ='Speed 06 11 2024'!J7 -> Bin 5 25<30 | K7: ='Speed 06 11 2024'!K7 -> Bin 6 30<35 | L7: ='Speed 06 11 2024'!L7 -> Bin 7 35<40 | M7: ='Speed 06 11 2024'!M7 -> Bin 8 40<45 | ... Q7: ='Speed 06 11 2024'!Q7 -> Bin 12 >=60
A8: ='Class Summary'!A6 -> 45602 | B8: =SUM(F8:Q8) -> 36 | C8: ='Speed 06 11 2024'!C35 -> 40.277879 | D8: ='Speed 06 11 2024'!D35 -> 29.236111 | E8: ='Speed 06 11 2024'!E35 -> 10.653964 | F8: ='Speed 06 11 2024'!F35 -> 0 | G8: ='Speed 06 11 2024'!G35 -> 2 | H8: ='Speed 06 11 2024'!H35 -> 3 | I8: ='Speed 06 11 2024'!I35 -> 7 | J8: ='Speed 06 11 2024'!J35 -> 9 | ... Q8: ='Speed 06 11 2024'!Q35 -> 1
A9: ='Class Summary'!A7 -> 45603 | B9: =SUM(F9:Q9) -> 54 | C9: ='Speed 07 11 2024'!C35 -> 32.773901 | D9: ='Speed 07 11 2024'!D35 -> 25.287037 | E9: ='Speed 07 11 2024'!E35 -> 7.2239133 | F9: ='Speed 07 11 2024'!F35 -> 1 | G9: ='Speed 07 11 2024'!G35 -> 6 | H9: ='Speed 07 11 2024'!H35 -> 2 | I9: ='Speed 07 11 2024'!I35 -> 16 | J9: ='Speed 07 11 2024'!J35 -> 15 | ... Q9: ='Speed 07 11 2024'!Q35 -> 0
A10: ='Class Summary'!A8 -> 45604 | B10: =SUM(F10:Q10) -> 45 | C10: ='Speed 08 11 2024'!C35 -> 33.911585 | D10: ='Speed 08 11 2024'!D35 -> 25.733333 | E10: ='Speed 08 11 2024'!E35 -> 7.8910191 | F10: ='Speed 08 11 2024'!F35 -> 1 | G10: ='Speed 08 11 2024'!G35 -> 6 | H10: ='Speed 08 11 2024'!H35 -> 1 | I10: ='Speed 08 11 2024'!I35 -> 10 | J10: ='Speed 08 11 2024'!J35 -> 15 | ... Q10: ='Speed 08 11 2024'!Q35 -> 0
A11: ='Class Summary'!A9 -> 45605 | B11: =SUM(F11:Q11) -> 55 | C11: ='Speed 09 11 2024'!C35 -> 34.931193 | D11: ='Speed 09 11 2024'!D35 -> 28.045455 | E11: ='Speed 09 11 2024'!E35 -> 6.6439005 | F11: ='Speed 09 11 2024'!F35 -> 0 | G11: ='Speed 09 11 2024'!G35 -> 2 | H11: ='Speed 09 11 2024'!H35 -> 4 | I11: ='Speed 09 11 2024'!I35 -> 11 | J11: ='Speed 09 11 2024'!J35 -> 15 | ... Q11: ='Speed 09 11 2024'!Q35 -> 0
A12: ='Class Summary'!A10 -> 45606 | B12: =SUM(F12:Q12) -> 41 | C12: ='Speed 10 11 2024'!C35 -> 36.269403 | D12: ='Speed 10 11 2024'!D35 -> 29.085366 | E12: ='Speed 10 11 2024'!E35 -> 6.9317228 | F12: ='Speed 10 11 2024'!F35 -> 0 | G12: ='Speed 10 11 2024'!G35 -> 0 | H12: ='Speed 10 11 2024'!H35 -> 4 | I12: ='Speed 10 11 2024'!I35 -> 6 | J12: ='Speed 10 11 2024'!J35 -> 14 | ... Q12: ='Speed 10 11 2024'!Q35 -> 0
A13: ='Class Summary'!A11 -> 45607 | B13: =SUM(F13:Q13) -> 44 | C13: ='Speed 11 11 2024'!C35 -> 32.153026 | D13: ='Speed 11 11 2024'!D35 -> 24.897727 | E13: ='Speed 11 11 2024'!E35 -> 7.0004813 | F13: ='Speed 11 11 2024'!F35 -> 1 | G13: ='Speed 11 11 2024'!G35 -> 5 | H13: ='Speed 11 11 2024'!H35 -> 2 | I13: ='Speed 11 11 2024'!I35 -> 13 | J13: ='Speed 11 11 2024'!J35 -> 11 | ... Q13: ='Speed 11 11 2024'!Q35 -> 0
A14: ='Class Summary'!A12 -> 45608 | B14: =SUM(F14:Q14) -> 34 | C14: ='Speed 12 11 2024'!C35 -> 35.894961 | D14: ='Speed 12 11 2024'!D35 -> 26.485294 | E14: ='Speed 12 11 2024'!E35 -> 9.0791847 | F14: ='Speed 12 11 2024'!F35 -> 1 | G14: ='Speed 12 11 2024'!G35 -> 3 | H14: ='Speed 12 11 2024'!H35 -> 2 | I14: ='Speed 12 11 2024'!I35 -> 8 | J14: ='Speed 12 11 2024'!J35 -> 12 | ... Q14: ='Speed 12 11 2024'!Q35 -> 0
A15: 5 Day Ave. | B15: =SUM(IF(WEEKDAY($A8,2)<6,B8,0),IF(WEEKDAY($A9,2)<6,B9,0),IF(WEEKDAY($A10,2)<6,B10,0),IF(WEEKDAY($A11,2)<6,B11,0),IF(WEEKDAY($A12,2)<6,B12,0),IF(WEEKDAY($A13,2)<6,B13,0),IF(WEEKDAY($A14,2)<6,B14,0))/5 -> 42.6 | C15: =SUM(IF(WEEKDAY($A8,2)<6,C8,0),IF(WEEKDAY($A9,2)<6,C9,0),IF(WEEKDAY($A10,2)<6,C10,0),IF(WEEKDAY($A11,2)<6,C11,0),IF(WEEKDAY($A12,2)<6,C12,0),IF(WEEKDAY($A13,2)<6,C13,0),IF(WEEKDAY($A14,2)<6,C14,0))/5 -> 35.002271 | D15: =SUM(IF(WEEKDAY($A8,2)<6,D8,0),IF(WEEKDAY($A9,2)<6,D9,0),IF(WEEKDAY($A10,2)<6,D10,0),IF(WEEKDAY($A11,2)<6,D11,0),IF(WEEKDAY($A12,2)<6,D12,0),IF(WEEKDAY($A13,2)<6,D13,0),IF(WEEKDAY($A14,2)<6,D14,0))/5 -> 26.327901 | E15: =SUM(IF(WEEKDAY($A8,2)<6,E8,0),IF(WEEKDAY($A9,2)<6,E9,0),IF(WEEKDAY($A10,2)<6,E10,0),IF(WEEKDAY($A11,2)<6,E11,0),IF(WEEKDAY($A12,2)<6,E12,0),IF(WEEKDAY($A13,2)<6,E13,0),IF(WEEKDAY($A14,2)<6,E14,0))/5 -> 8.3697124 | F15: =SUM(IF(WEEKDAY($A8,2)<6,F8,0),IF(WEEKDAY($A9,2)<6,F9,0),IF(WEEKDAY($A10,2)<6,F10,0),IF(WEEKDAY($A11,2)<6,F11,0),IF(WEEKDAY($A12,2)<6,F12,0),IF(WEEKDAY($A13,2)<6,F13,0),IF(WEEKDAY($A14,2)<6,F14,0))/5 -> 0.8 | G15: =SUM(IF(WEEKDAY($A8,2)<6,G8,0),IF(WEEKDAY($A9,2)<6,G9,0),IF(WEEKDAY($A10,2)<6,G10,0),IF(WEEKDAY($A11,2)<6,G11,0),IF(WEEKDAY($A12,2)<6,G12,0),IF(WEEKDAY($A13,2)<6,G13,0),IF(WEEKDAY($A14,2)<6,G14,0))/5 -> 4.4 | H15: =SUM(IF(WEEKDAY($A8,2)<6,H8,0),IF(WEEKDAY($A9,2)<6,H9,0),IF(WEEKDAY($A10,2)<6,H10,0),IF(WEEKDAY($A11,2)<6,H11,0),IF(WEEKDAY($A12,2)<6,H12,0),IF(WEEKDAY($A13,2)<6,H13,0),IF(WEEKDAY($A14,2)<6,H14,0))/5 -> 2 | I15: =SUM(IF(WEEKDAY($A8,2)<6,I8,0),IF(WEEKDAY($A9,2)<6,I9,0),IF(WEEKDAY($A10,2)<6,I10,0),IF(WEEKDAY($A11,2)<6,I11,0),IF(WEEKDAY($A12,2)<6,I12,0),IF(WEEKDAY($A13,2)<6,I13,0),IF(WEEKDAY($A14,2)<6,I14,0))/5 -> 10.8 | ... Q15: =SUM(IF(WEEKDAY($A8,2)<6,Q8,0),IF(WEEKDAY($A9,2)<6,Q9,0),IF(WEEKDAY($A10,2)<6,Q10,0),IF(WEEKDAY($A11,2)<6,Q11,0),IF(WEEKDAY($A12,2)<6,Q12,0),IF(WEEKDAY($A13,2)<6,Q13,0),IF(WEEKDAY($A14,2)<6,Q14,0))/5 -> 0.2
A16: 7 Day Ave. | B16: =SUM(B8:B14)/7 -> 44.142857 | C16: =SUM(C8:C14)/7 -> 35.173136 | D16: =SUM(D8:D14)/7 -> 26.967189 | E16: =SUM(E8:E14)/7 -> 7.9177408 | F16: =SUM(F8:F14)/7 -> 0.57142857 | G16: =SUM(G8:G14)/7 -> 3.4285714 | H16: =SUM(H8:H14)/7 -> 2.5714286 | I16: =SUM(I8:I14)/7 -> 10.142857 | ... Q16: =SUM(Q8:Q14)/7 -> 0.14285714
A17: Paul Castle Associates
A22: Direction: | B22: ='Flow Summary'!M4 -> Northbound
B25: Total Volume | C25: 85th Percentile | D25: Mean Average | E25: Standard Deviation | F25: =F7 -> Bin 1 <10mph | G25: =G7 -> Bin 2 10<15 | H25: =H7 -> Bin 3 15<20 | I25: =I7 -> Bin 4 20<25 | J25: =J7 -> Bin 5 25<30 | K25: =K7 -> Bin 6 30<35 | L25: =L7 -> Bin 7 35<40 | M25: =M7 -> Bin 8 40<45 | ... Q25: =Q7 -> Bin 12 >=60
A26: =A8 -> 45602 | B26: =SUM(F26:Q26) -> 33 | C26: ='Speed 06 11 2024'!C81 -> 27.864411 | D26: ='Speed 06 11 2024'!D81 -> 22.954545 | E26: ='Speed 06 11 2024'!E81 -> 4.7374235 | F26: ='Speed 06 11 2024'!F81 -> 0 | G26: ='Speed 06 11 2024'!G81 -> 2 | H26: ='Speed 06 11 2024'!H81 -> 6 | I26: ='Speed 06 11 2024'!I81 -> 13 | J26: ='Speed 06 11 2024'!J81 -> 11 | ... Q26: ='Speed 06 11 2024'!Q81 -> 0
A27: =A9 -> 45603 | B27: =SUM(F27:Q27) -> 34 | C27: ='Speed 07 11 2024'!C81 -> 27.395634 | D27: ='Speed 07 11 2024'!D81 -> 22.235294 | E27: ='Speed 07 11 2024'!E81 -> 4.9791007 | F27: ='Speed 07 11 2024'!F81 -> 2 | G27: ='Speed 07 11 2024'!G81 -> 1 | H27: ='Speed 07 11 2024'!H81 -> 2 | I27: ='Speed 07 11 2024'!I81 -> 22 | J27: ='Speed 07 11 2024'!J81 -> 6 | ... Q27: ='Speed 07 11 2024'!Q81 -> 0
A28: =A10 -> 45604 | B28: =SUM(F28:Q28) -> 53 | C28: ='Speed 08 11 2024'!C81 -> 27.048919 | D28: ='Speed 08 11 2024'!D81 -> 22.877358 | E28: ='Speed 08 11 2024'!E81 -> 4.0250486 | F28: ='Speed 08 11 2024'!F81 -> 0 | G28: ='Speed 08 11 2024'!G81 -> 2 | H28: ='Speed 08 11 2024'!H81 -> 7 | I28: ='Speed 08 11 2024'!I81 -> 31 | J28: ='Speed 08 11 2024'!J81 -> 11 | ... Q28: ='Speed 08 11 2024'!Q81 -> 0
A29: =A11 -> 45605 | B29: =SUM(F29:Q29) -> 54 | C29: ='Speed 09 11 2024'!C81 -> 29.41513 | D29: ='Speed 09 11 2024'!D81 -> 23.62963 | E29: ='Speed 09 11 2024'!E81 -> 5.5823046 | F29: ='Speed 09 11 2024'!F81 -> 2 | G29: ='Speed 09 11 2024'!G81 -> 3 | H29: ='Speed 09 11 2024'!H81 -> 3 | I29: ='Speed 09 11 2024'!I81 -> 24 | J29: ='Speed 09 11 2024'!J81 -> 17 | ... Q29: ='Speed 09 11 2024'!Q81 -> 0
A30: =A12 -> 45606 | B30: =SUM(F30:Q30) -> 31 | C30: ='Speed 10 11 2024'!C81 -> 30.00115 | D30: ='Speed 10 11 2024'!D81 -> 24.290323 | E30: ='Speed 10 11 2024'!E81 -> 5.5102544 | F30: ='Speed 10 11 2024'!F81 -> 1 | G30: ='Speed 10 11 2024'!G81 -> 0 | H30: ='Speed 10 11 2024'!H81 -> 4 | I30: ='Speed 10 11 2024'!I81 -> 13 | J30: ='Speed 10 11 2024'!J81 -> 8 | ... Q30: ='Speed 10 11 2024'!Q81 -> 0
A31: =A13 -> 45607 | B31: =SUM(F31:Q31) -> 35 | C31: ='Speed 11 11 2024'!C81 -> 27.949919 | D31: ='Speed 11 11 2024'!D81 -> 22.514286 | E31: ='Speed 11 11 2024'!E81 -> 5.2447252 | F31: ='Speed 11 11 2024'!F81 -> 1 | G31: ='Speed 11 11 2024'!G81 -> 2 | H31: ='Speed 11 11 2024'!H81 -> 4 | I31: ='Speed 11 11 2024'!I81 -> 20 | J31: ='Speed 11 11 2024'!J81 -> 5 | ... Q31: ='Speed 11 11 2024'!Q81 -> 0
A32: =A14 -> 45608 | B32: =SUM(F32:Q32) -> 38 | C32: ='Speed 12 11 2024'!C81 -> 28.736914 | D32: ='Speed 12 11 2024'!D81 -> 23.815789 | E32: ='Speed 12 11 2024'!E81 -> 4.7482871 | F32: ='Speed 12 11 2024'!F81 -> 0 | G32: ='Speed 12 11 2024'!G81 -> 2 | H32: ='Speed 12 11 2024'!H81 -> 5 | I32: ='Speed 12 11 2024'!I81 -> 14 | J32: ='Speed 12 11 2024'!J81 -> 15 | ... Q32: ='Speed 12 11 2024'!Q81 -> 0
A33: 5 Day Ave. | B33: =SUM(IF(WEEKDAY($A26,2)<6,B26,0),IF(WEEKDAY($A27,2)<6,B27,0),IF(WEEKDAY($A28,2)<6,B28,0),IF(WEEKDAY($A29,2)<6,B29,0),IF(WEEKDAY($A30,2)<6,B30,0),IF(WEEKDAY($A31,2)<6,B31,0),IF(WEEKDAY($A32,2)<6,B32,0))/5 -> 38.6 | C33: =SUM(IF(WEEKDAY($A26,2)<6,C26,0),IF(WEEKDAY($A27,2)<6,C27,0),IF(WEEKDAY($A28,2)<6,C28,0),IF(WEEKDAY($A29,2)<6,C29,0),IF(WEEKDAY($A30,2)<6,C30,0),IF(WEEKDAY($A31,2)<6,C31,0),IF(WEEKDAY($A32,2)<6,C32,0))/5 -> 27.799159 | D33: =SUM(IF(WEEKDAY($A26,2)<6,D26,0),IF(WEEKDAY($A27,2)<6,D27,0),IF(WEEKDAY($A28,2)<6,D28,0),IF(WEEKDAY($A29,2)<6,D29,0),IF(WEEKDAY($A30,2)<6,D30,0),IF(WEEKDAY($A31,2)<6,D31,0),IF(WEEKDAY($A32,2)<6,D32,0))/5 -> 22.879455 | E33: =SUM(IF(WEEKDAY($A26,2)<6,E26,0),IF(WEEKDAY($A27,2)<6,E27,0),IF(WEEKDAY($A28,2)<6,E28,0),IF(WEEKDAY($A29,2)<6,E29,0),IF(WEEKDAY($A30,2)<6,E30,0),IF(WEEKDAY($A31,2)<6,E31,0),IF(WEEKDAY($A32,2)<6,E32,0))/5 -> 4.746917 | F33: =SUM(IF(WEEKDAY($A26,2)<6,F26,0),IF(WEEKDAY($A27,2)<6,F27,0),IF(WEEKDAY($A28,2)<6,F28,0),IF(WEEKDAY($A29,2)<6,F29,0),IF(WEEKDAY($A30,2)<6,F30,0),IF(WEEKDAY($A31,2)<6,F31,0),IF(WEEKDAY($A32,2)<6,F32,0))/5 -> 0.6 | G33: =SUM(IF(WEEKDAY($A26,2)<6,G26,0),IF(WEEKDAY($A27,2)<6,G27,0),IF(WEEKDAY($A28,2)<6,G28,0),IF(WEEKDAY($A29,2)<6,G29,0),IF(WEEKDAY($A30,2)<6,G30,0),IF(WEEKDAY($A31,2)<6,G31,0),IF(WEEKDAY($A32,2)<6,G32,0))/5 -> 1.8 | H33: =SUM(IF(WEEKDAY($A26,2)<6,H26,0),IF(WEEKDAY($A27,2)<6,H27,0),IF(WEEKDAY($A28,2)<6,H28,0),IF(WEEKDAY($A29,2)<6,H29,0),IF(WEEKDAY($A30,2)<6,H30,0),IF(WEEKDAY($A31,2)<6,H31,0),IF(WEEKDAY($A32,2)<6,H32,0))/5 -> 4.8 | I33: =SUM(IF(WEEKDAY($A26,2)<6,I26,0),IF(WEEKDAY($A27,2)<6,I27,0),IF(WEEKDAY($A28,2)<6,I28,0),IF(WEEKDAY($A29,2)<6,I29,0),IF(WEEKDAY($A30,2)<6,I30,0),IF(WEEKDAY($A31,2)<6,I31,0),IF(WEEKDAY($A32,2)<6,I32,0))/5 -> 20 | ... Q33: =SUM(IF(WEEKDAY($A26,2)<6,Q26,0),IF(WEEKDAY($A27,2)<6,Q27,0),IF(WEEKDAY($A28,2)<6,Q28,0),IF(WEEKDAY($A29,2)<6,Q29,0),IF(WEEKDAY($A30,2)<6,Q30,0),IF(WEEKDAY($A31,2)<6,Q31,0),IF(WEEKDAY($A32,2)<6,Q32,0))/5 -> 0
A34: 7 Day Ave. | B34: =SUM(B26:B32)/7 -> 39.714286 | C34: =SUM(C26:C32)/7 -> 28.344583 | D34: =SUM(D26:D32)/7 -> 23.188175 | E34: =SUM(E26:E32)/7 -> 4.9753063 | F34: =SUM(F26:F32)/7 -> 0.85714286 | G34: =SUM(G26:G32)/7 -> 1.7142857 | H34: =SUM(H26:H32)/7 -> 4.4285714 | I34: =SUM(I26:I32)/7 -> 19.571429 | ... Q34: =SUM(Q26:Q32)/7 -> 0
A35: Paul Castle Associates
A40: Direction: | B40: Total Flow
B43: Total Volume | C43: 85th Percentile | D43: Mean Average | E43: Standard Deviation | F43: =F7 -> Bin 1 <10mph | G43: =G7 -> Bin 2 10<15 | H43: =H7 -> Bin 3 15<20 | I43: =I7 -> Bin 4 20<25 | J43: =J7 -> Bin 5 25<30 | K43: =K7 -> Bin 6 30<35 | L43: =L7 -> Bin 7 35<40 | M43: =M7 -> Bin 8 40<45 | ... Q43: =Q7 -> Bin 12 >=60
A44: =A8 -> 45602 | B44: =SUM(F44:Q44) -> 69 | C44: ='Speed 06 11 2024'!C127 -> 35.442142 | D44: ='Speed 06 11 2024'!D127 -> 26.231884 | E44: ='Speed 06 11 2024'!E127 -> 8.8867796 | F44: ='Speed 06 11 2024'!F127 -> 0 | G44: ='Speed 06 11 2024'!G127 -> 4 | H44: ='Speed 06 11 2024'!H127 -> 9 | I44: ='Speed 06 11 2024'!I127 -> 20 | J44: ='Speed 06 11 2024'!J127 -> 20 | ... Q44: ='Speed 06 11 2024'!Q127 -> 1
A45: =A9 -> 45603 | B45: =SUM(F45:Q45) -> 88 | C45: ='Speed 07 11 2024'!C127 -> 30.937812 | D45: ='Speed 07 11 2024'!D127 -> 24.107955 | E45: ='Speed 07 11 2024'!E127 -> 6.5899823 | F45: ='Speed 07 11 2024'!F127 -> 3 | G45: ='Speed 07 11 2024'!G127 -> 7 | H45: ='Speed 07 11 2024'!H127 -> 4 | I45: ='Speed 07 11 2024'!I127 -> 38 | J45: ='Speed 07 11 2024'!J127 -> 21 | ... Q45: ='Speed 07 11 2024'!Q127 -> 0
A46: =A10 -> 45604 | B46: =SUM(F46:Q46) -> 98 | C46: ='Speed 08 11 2024'!C127 -> 30.659173 | D46: ='Speed 08 11 2024'!D127 -> 24.188776 | E46: ='Speed 08 11 2024'!E127 -> 6.2431469 | F46: ='Speed 08 11 2024'!F127 -> 1 | G46: ='Speed 08 11 2024'!G127 -> 8 | H46: ='Speed 08 11 2024'!H127 -> 8 | I46: ='Speed 08 11 2024'!I127 -> 41 | J46: ='Speed 08 11 2024'!J127 -> 26 | ... Q46: ='Speed 08 11 2024'!Q127 -> 0
A47: =A11 -> 45605 | B47: =SUM(F47:Q47) -> 109 | C47: ='Speed 09 11 2024'!C127 -> 32.597015 | D47: ='Speed 09 11 2024'!D127 -> 25.857798 | E47: ='Speed 09 11 2024'!E127 -> 6.5025251 | F47: ='Speed 09 11 2024'!F127 -> 2 | G47: ='Speed 09 11 2024'!G127 -> 5 | H47: ='Speed 09 11 2024'!H127 -> 7 | I47: ='Speed 09 11 2024'!I127 -> 35 | J47: ='Speed 09 11 2024'!J127 -> 32 | ... Q47: ='Speed 09 11 2024'!Q127 -> 0
A48: =A12 -> 45606 | B48: =SUM(F48:Q48) -> 72 | C48: ='Speed 10 11 2024'!C127 -> 34.020621 | D48: ='Speed 10 11 2024'!D127 -> 27.020833 | E48: ='Speed 10 11 2024'!E127 -> 6.7539438 | F48: ='Speed 10 11 2024'!F127 -> 1 | G48: ='Speed 10 11 2024'!G127 -> 0 | H48: ='Speed 10 11 2024'!H127 -> 8 | I48: ='Speed 10 11 2024'!I127 -> 19 | J48: ='Speed 10 11 2024'!J127 -> 22 | ... Q48: ='Speed 10 11 2024'!Q127 -> 0
A49: =A13 -> 45607 | B49: =SUM(F49:Q49) -> 79 | C49: ='Speed 11 11 2024'!C127 -> 30.431399 | D49: ='Speed 11 11 2024'!D127 -> 23.841772 | E49: ='Speed 11 11 2024'!E127 -> 6.3581889 | F49: ='Speed 11 11 2024'!F127 -> 2 | G49: ='Speed 11 11 2024'!G127 -> 7 | H49: ='Speed 11 11 2024'!H127 -> 6 | I49: ='Speed 11 11 2024'!I127 -> 33 | J49: ='Speed 11 11 2024'!J127 -> 16 | ... Q49: ='Speed 11 11 2024'!Q127 -> 0
A50: =A14 -> 45608 | B50: =SUM(F50:Q50) -> 72 | C50: ='Speed 12 11 2024'!C127 -> 32.540182 | D50: ='Speed 12 11 2024'!D127 -> 25.076389 | E50: ='Speed 12 11 2024'!E127 -> 7.2016526 | F50: ='Speed 12 11 2024'!F127 -> 1 | G50: ='Speed 12 11 2024'!G127 -> 5 | H50: ='Speed 12 11 2024'!H127 -> 7 | I50: ='Speed 12 11 2024'!I127 -> 22 | J50: ='Speed 12 11 2024'!J127 -> 27 | ... Q50: ='Speed 12 11 2024'!Q127 -> 0
A51: 5 Day Ave. | B51: =SUM(IF(WEEKDAY($A44,2)<6,B44,0),IF(WEEKDAY($A45,2)<6,B45,0),IF(WEEKDAY($A46,2)<6,B46,0),IF(WEEKDAY($A47,2)<6,B47,0),IF(WEEKDAY($A48,2)<6,B48,0),IF(WEEKDAY($A49,2)<6,B49,0),IF(WEEKDAY($A50,2)<6,B50,0))/5 -> 81.2 | C51: =SUM(IF(WEEKDAY($A44,2)<6,C44,0),IF(WEEKDAY($A45,2)<6,C45,0),IF(WEEKDAY($A46,2)<6,C46,0),IF(WEEKDAY($A47,2)<6,C47,0),IF(WEEKDAY($A48,2)<6,C48,0),IF(WEEKDAY($A49,2)<6,C49,0),IF(WEEKDAY($A50,2)<6,C50,0))/5 -> 32.002142 | D51: =SUM(IF(WEEKDAY($A44,2)<6,D44,0),IF(WEEKDAY($A45,2)<6,D45,0),IF(WEEKDAY($A46,2)<6,D46,0),IF(WEEKDAY($A47,2)<6,D47,0),IF(WEEKDAY($A48,2)<6,D48,0),IF(WEEKDAY($A49,2)<6,D49,0),IF(WEEKDAY($A50,2)<6,D50,0))/5 -> 24.689355 | E51: =SUM(IF(WEEKDAY($A44,2)<6,E44,0),IF(WEEKDAY($A45,2)<6,E45,0),IF(WEEKDAY($A46,2)<6,E46,0),IF(WEEKDAY($A47,2)<6,E47,0),IF(WEEKDAY($A48,2)<6,E48,0),IF(WEEKDAY($A49,2)<6,E49,0),IF(WEEKDAY($A50,2)<6,E50,0))/5 -> 7.0559501 | F51: =SUM(IF(WEEKDAY($A44,2)<6,F44,0),IF(WEEKDAY($A45,2)<6,F45,0),IF(WEEKDAY($A46,2)<6,F46,0),IF(WEEKDAY($A47,2)<6,F47,0),IF(WEEKDAY($A48,2)<6,F48,0),IF(WEEKDAY($A49,2)<6,F49,0),IF(WEEKDAY($A50,2)<6,F50,0))/5 -> 1.4 | G51: =SUM(IF(WEEKDAY($A44,2)<6,G44,0),IF(WEEKDAY($A45,2)<6,G45,0),IF(WEEKDAY($A46,2)<6,G46,0),IF(WEEKDAY($A47,2)<6,G47,0),IF(WEEKDAY($A48,2)<6,G48,0),IF(WEEKDAY($A49,2)<6,G49,0),IF(WEEKDAY($A50,2)<6,G50,0))/5 -> 6.2 | H51: =SUM(IF(WEEKDAY($A44,2)<6,H44,0),IF(WEEKDAY($A45,2)<6,H45,0),IF(WEEKDAY($A46,2)<6,H46,0),IF(WEEKDAY($A47,2)<6,H47,0),IF(WEEKDAY($A48,2)<6,H48,0),IF(WEEKDAY($A49,2)<6,H49,0),IF(WEEKDAY($A50,2)<6,H50,0))/5 -> 6.8 | I51: =SUM(IF(WEEKDAY($A44,2)<6,I44,0),IF(WEEKDAY($A45,2)<6,I45,0),IF(WEEKDAY($A46,2)<6,I46,0),IF(WEEKDAY($A47,2)<6,I47,0),IF(WEEKDAY($A48,2)<6,I48,0),IF(WEEKDAY($A49,2)<6,I49,0),IF(WEEKDAY($A50,2)<6,I50,0))/5 -> 30.8 | ... Q51: =SUM(IF(WEEKDAY($A44,2)<6,Q44,0),IF(WEEKDAY($A45,2)<6,Q45,0),IF(WEEKDAY($A46,2)<6,Q46,0),IF(WEEKDAY($A47,2)<6,Q47,0),IF(WEEKDAY($A48,2)<6,Q48,0),IF(WEEKDAY($A49,2)<6,Q49,0),IF(WEEKDAY($A50,2)<6,Q50,0))/5 -> 0.2
A52: 7 Day Ave. | B52: =SUM(B44:B50)/7 -> 83.857143 | C52: =SUM(C44:C50)/7 -> 32.375478 | D52: =SUM(D44:D50)/7 -> 25.189344 | E52: =SUM(E44:E50)/7 -> 6.9337456 | F52: =SUM(F44:F50)/7 -> 1.4285714 | G52: =SUM(G44:G50)/7 -> 5.1428571 | H52: =SUM(H44:H50)/7 -> 7 | I52: =SUM(I44:I50)/7 -> 29.714286 | ... Q52: =SUM(Q44:Q50)/7 -> 0.14285714
A53: Paul Castle Associates

Sheet Class 06 11 2024
A1: ='Flow Summary'!A1 -> Wrexham ATC, Cristionydd Lane
A4: Direction: | B4: ='Flow Summary'!B4 -> Southbound | H4: Direction: | I4: ='Flow Summary'!M4 -> Northbound | O4: Direction: | P4: Total Flow
F6: ='(10-12) Speed Summary'!A8 -> 45602
A7: Hour Beginning | B7: Total Volume | C7: LIGHT | D7: OGV1 | E7: OGV2 | F7: BUS | H7: Hour Beginning | I7: Total Volume | J7: LIGHT | K7: OGV1 | L7: OGV2 | M7: BUS | O7: Hour Beginning | P7: Total Volume | Q7: LIGHT | R7: OGV1 | S7: OGV2 | T7: BUS
A8: 0 | B8: =SUM(C8:F8) -> 1 | C8: 1 | D8: 0 | E8: 0 | F8: 0 | H8: 0 | I8: =SUM(J8:M8) -> 1 | J8: 1 | K8: 0 | L8: 0 | M8: 0 | O8: 0 | P8: =SUM(Q8:T8) -> 2 | Q8: =C8+J8 -> 2 | R8: =D8+K8 -> 0 | S8: =E8+L8 -> 0 | T8: =F8+M8 -> 0
A9: 0.041666667 | B9: =SUM(C9:F9) -> 0 | C9: 0 | D9: 0 | E9: 0 | F9: 0 | H9: 0.041666667 | I9: =SUM(J9:M9) -> 0 | J9: 0 | K9: 0 | L9: 0 | M9: 0 | O9: 0.041666667 | P9: =SUM(Q9:T9) -> 0 | Q9: =C9+J9 -> 0 | R9: =D9+K9 -> 0 | S9: =E9+L9 -> 0 | T9: =F9+M9 -> 0
A10: 0.083333333 | B10: =SUM(C10:F10) -> 0 | C10: 0 | D10: 0 | E10: 0 | F10: 0 | H10: 0.083333333 | I10: =SUM(J10:M10) -> 0 | J10: 0 | K10: 0 | L10: 0 | M10: 0 | O10: 0.083333333 | P10: =SUM(Q10:T10) -> 0 | Q10: =C10+J10 -> 0 | R10: =D10+K10 -> 0 | S10: =E10+L10 -> 0 | T10: =F10+M10 -> 0
A11: 0.125 | B11: =SUM(C11:F11) -> 0 | C11: 0 | D11: 0 | E11: 0 | F11: 0 | H11: 0.125 | I11: =SUM(J11:M11) -> 0 | J11: 0 | K11: 0 | L11: 0 | M11: 0 | O11: 0.125 | P11: =SUM(Q11:T11) -> 0 | Q11: =C11+J11 -> 0 | R11: =D11+K11 -> 0 | S11: =E11+L11 -> 0 | T11: =F11+M11 -> 0
A12: 0.16666667 | B12: =SUM(C12:F12) -> 0 | C12: 0 | D12: 0 | E12: 0 | F12: 0 | H12: 0.16666667 | I12: =SUM(J12:M12) -> 0 | J12: 0 | K12: 0 | L12: 0 | M12: 0 | O12: 0.16666667 | P12: =SUM(Q12:T12) -> 0 | Q12: =C12+J12 -> 0 | R12: =D12+K12 -> 0 | S12: =E12+L12 -> 0 | T12: =F12+M12 -> 0
A13: 0.20833333 | B13: =SUM(C13:F13) -> 1 | C13: 1 | D13: 0 | E13: 0 | F13: 0 | H13: 0.20833333 | I13: =SUM(J13:M13) -> 0 | J13: 0 | K13: 0 | L13: 0 | M13: 0 | O13: 0.20833333 | P13: =SUM(Q13:T13) -> 1 | Q13: =C13+J13 -> 1 | R13: =D13+K13 -> 0 | S13: =E13+L13 -> 0 | T13: =F13+M13 -> 0
A14: 0.25 | B14: =SUM(C14:F14) -> 3 | C14: 0 | D14: 3 | E14: 0 | F14: 0 | H14: 0.25 | I14: =SUM(J14:M14) -> 0 | J14: 0 | K14: 0 | L14: 0 | M14: 0 | O14: 0.25 | P14: =SUM(Q14:T14) -> 3 | Q14: =C14+J14 -> 0 | R14: =D14+K14 -> 3 | S14: =E14+L14 -> 0 | T14: =F14+M14 -> 0
A15: 0.29166667 | B15: =SUM(C15:F15) -> 7 | C15: 6 | D15: 1 | E15: 0 | F15: 0 | H15: 0.29166667 | I15: =SUM(J15:M15) -> 6 | J15: 6 | K15: 0 | L15: 0 | M15: 0 | O15: 0.29166667 | P15: =SUM(Q15:T15) -> 13 | Q15: =C15+J15 -> 12 | R15: =D15+K15 -> 1 | S15: =E15+L15 -> 0 | T15: =F15+M15 -> 0
A16: 0.33333333 | B16: =SUM(C16:F16) -> 11 | C16: 7 | D16: 4 | E16: 0 | F16: 0 | H16: 0.33333333 | I16: =SUM(J16:M16) -> 6 | J16: 5 | K16: 1 | L16: 0 | M16: 0 | O16: 0.33333333 | P16: =SUM(Q16:T16) -> 17 | Q16: =C16+J16 -> 12 | R16: =D16+K16 -> 5 | S16: =E16+L16 -> 0 | T16: =F16+M16 -> 0
A17: 0.375 | B17: =SUM(C17:F17) -> 43 | C17: 32 | D17: 11 | E17: 0 | F17: 0 | H17: 0.375 | I17: =SUM(J17:M17) -> 13 | J17: 13 | K17: 0 | L17: 0 | M17: 0 | O17: 0.375 | P17: =SUM(Q17:T17) -> 56 | Q17: =C17+J17 -> 45 | R17: =D17+K17 -> 11 | S17: =E17+L17 -> 0 | T17: =F17+M17 -> 0
A18: 0.41666667 | B18: =SUM(C18:F18) -> 16 | C18: 9 | D18: 6 | E18: 0 | F18: 1 | H18: 0.41666667 | I18: =SUM(J18:M18) -> 13 | J18: 10 | K18: 3 | L18: 0 | M18: 0 | O18: 0.41666667 | P18: =SUM(Q18:T18) -> 29 | Q18: =C18+J18 -> 19 | R18: =D18+K18 -> 9 | S18: =E18+L18 -> 0 | T18: =F18+M18 -> 1
A19: 0.45833333 | B19: =SUM(C19:F19) -> 16 | C19: 12 | D19: 4 | E19: 0 | F19: 0 | H19: 0.45833333 | I19: =SUM(J19:M19) -> 12 | J19: 10 | K19: 2 | L19: 0 | M19: 0 | O19: 0.45833333 | P19: =SUM(Q19:T19) -> 28 | Q19: =C19+J19 -> 22 | R19: =D19+K19 -> 6 | S19: =E19+L19 -> 0 | T19: =F19+M19 -> 0
... A31: 0.95833333 | B31: =SUM(C31:F31) -> 1 | C31: 1 | D31: 0 | E31: 0 | F31: 0 | H31: 0.95833333 | I31: =SUM(J31:M31) -> 3 | J31: 3 | K31: 0 | L31: 0 | M31: 0 | O31: 0.95833333 | P31: =SUM(Q31:T31) -> 4 | Q31: =C31+J31 -> 4 | R31: =D31+K31 -> 0 | S31: =E31+L31 -> 0 | T31: =F31+M31 -> 0
A33: Total | H33: Total | O33: Total
A34: 12H(7-19) | B34: =SUM(B15:B26) -> 232 | C34: =SUM(C15:C26) -> 167 | D34: =SUM(D15:D26) -> 63 | E34: =SUM(E15:E26) -> 0 | F34: =SUM(F15:F26) -> 2 | H34: 12H(7-19) | I34: =SUM(I15:I26) -> 205 | J34: =SUM(J15:J26) -> 191 | K34: =SUM(K15:K26) -> 13 | L34: =SUM(L15:L26) -> 1 | M34: =SUM(M15:M26) -> 0 | O34: 12H(7-19) | P34: =SUM(P15:P26) -> 437 | Q34: =SUM(Q15:Q26) -> 358 | R34: =SUM(R15:R26) -> 76 | S34: =SUM(S15:S26) -> 1 | T34: =SUM(T15:T26) -> 2
A35: 16H(6-22) | B35: =SUM(B14:B29) -> 284 | C35: =SUM(C14:C29) -> 204 | D35: =SUM(D14:D29) -> 78 | E35: =SUM(E14:E29) -> 0 | F35: =SUM(F14:F29) -> 2 | H35: 16H(6-22) | I35: =SUM(I14:I29) -> 258 | J35: =SUM(J14:J29) -> 242 | K35: =SUM(K14:K29) -> 15 | L35: =SUM(L14:L29) -> 1 | M35: =SUM(M14:M29) -> 0 | O35: 16H(6-22) | P35: =SUM(P14:P29) -> 542 | Q35: =SUM(Q14:Q29) -> 446 | R35: =SUM(R14:R29) -> 93 | S35: =SUM(S14:S29) -> 1 | T35: =SUM(T14:T29) -> 2
A36: 18H(6-24) | B36: =SUM(B14:B31) -> 288 | C36: =SUM(C14:C31) -> 206 | D36: =SUM(D14:D31) -> 80 | E36: =SUM(E14:E31) -> 0 | F36: =SUM(F14:F31) -> 2 | H36: 18H(6-24) | I36: =SUM(I14:I31) -> 269 | J36: =SUM(J14:J31) -> 253 | K36: =SUM(K14:K31) -> 15 | L36: =SUM(L14:L31) -> 1 | M36: =SUM(M14:M31) -> 0 | O36: 18H(6-24) | P36: =SUM(P14:P31) -> 557 | Q36: =SUM(Q14:Q31) -> 459 | R36: =SUM(R14:R31) -> 95 | S36: =SUM(S14:S31) -> 1 | T36: =SUM(T14:T31) -> 2
A37: 24H(0-24) | B37: =SUM(B8:B31) -> 290 | C37: =SUM(C8:C31) -> 208 | D37: =SUM(D8:D31) -> 80 | E37: =SUM(E8:E31) -> 0 | F37: =SUM(F8:F31) -> 2 | H37: 24H(0-24) | I37: =SUM(I8:I31) -> 270 | J37: =SUM(J8:J31) -> 254 | K37: =SUM(K8:K31) -> 15 | L37: =SUM(L8:L31) -> 1 | M37: =SUM(M8:M31) -> 0 | O37: 24H(0-24) | P37: =SUM(P8:P31) -> 560 | Q37: =SUM(Q8:Q31) -> 462 | R37: =SUM(R8:R31) -> 95 | S37: =SUM(S8:S31) -> 1 | T37: =SUM(T8:T31) -> 2
A39: AM Peak | B39: =INDEX(($A8:$F19),MATCH(B40,B8:B19,0),1) -> 0.375 | C39: =INDEX(($A8:$F19),MATCH(C40,C8:C19,0),1) -> 0.375 | D39: =INDEX(($A8:$F19),MATCH(D40,D8:D19,0),1) -> 0.375 | E39: =INDEX(($A8:$F19),MATCH(E40,E8:E19,0),1) -> 0 | F39: =INDEX(($A8:$F19),MATCH(F40,F8:F19,0),1) -> 0.41666667 | H39: AM Peak | I39: =INDEX(($H8:$M19),MATCH(I40,I8:I19,0),1) -> 0.375 | J39: =INDEX(($H8:$M19),MATCH(J40,J8:J19,0),1) -> 0.375 | K39: =INDEX(($H8:$M19),MATCH(K40,K8:K19,0),1) -> 0.41666667 | L39: =INDEX(($H8:$M19),MATCH(L40,L8:L19,0),1) -> 0 | M39: =INDEX(($H8:$M19),MATCH(M40,M8:M19,0),1) -> 0 | O39: AM Peak | P39: =INDEX(($O8:$T19),MATCH(P40,P8:P19,0),1) -> 0.375 | Q39: =INDEX(($O8:$T19),MATCH(Q40,Q8:Q19,0),1) -> 0.375 | R39: =INDEX(($O8:$T19),MATCH(R40,R8:R19,0),1) -> 0.375 | S39: =INDEX(($O8:$T19),MATCH(S40,S8:S19,0),1) -> 0 | T39: =INDEX(($O8:$T19),MATCH(T40,T8:T19,0),1) -> 0.41666667
B40: =MAX(B8:B19) -> 43 | C40: =MAX(C8:C19) -> 32 | D40: =MAX(D8:D19) -> 11 | E40: =MAX(E8:E19) -> 0 | F40: =MAX(F8:F19) -> 1 | I40: =MAX(I8:I19) -> 13 | J40: =MAX(J8:J19) -> 13 | K40: =MAX(K8:K19) -> 3 | L40: =MAX(L8:L19) -> 0 | M40: =MAX(M8:M19) -> 0 | P40: =MAX(P8:P19) -> 56 | Q40: =MAX(Q8:Q19) -> 45 | R40: =MAX(R8:R19) -> 11 | S40: =MAX(S8:S19) -> 0 | T40: =MAX(T8:T19) -> 1
A42: PM Peak | B42: =INDEX(($A20:$F31),MATCH(B43,B20:B31,0),1) -> 0.75 | C42: =INDEX(($A20:$F31),MATCH(C43,C20:C31,0),1) -> 0.75 | D42: =INDEX(($A20:$F31),MATCH(D43,D20:D31,0),1) -> 0.66666667 | E42: =INDEX(($A20:$F31),MATCH(E43,E20:E31,0),1) -> 0.5 | F42: =INDEX(($A20:$F31),MATCH(F43,F20:F31,0),1) -> 0.58333333 | H42: PM Peak | I42: =INDEX(($H20:$M31),MATCH(I43,I20:I31,0),1) -> 0.66666667 | J42: =INDEX(($H20:$M31),MATCH(J43,J20:J31,0),1) -> 0.66666667 | K42: =INDEX(($H20:$M31),MATCH(K43,K20:K31,0),1) -> 0.5 | L42: =INDEX(($H20:$M31),MATCH(L43,L20:L31,0),1) -> 0.625 | M42: =INDEX(($H20:$M31),MATCH(M43,M20:M31,0),1) -> 0.5 | O42: PM Peak | P42: =INDEX(($O20:$T31),MATCH(P43,P20:P31,0),1) -> 0.66666667 | Q42: =INDEX(($O20:$T31),MATCH(Q43,Q20:Q31,0),1) -> 0.75 | R42: =INDEX(($O20:$T31),MATCH(R43,R20:R31,0),1) -> 0.66666667 | S42: =INDEX(($O20:$T31),MATCH(S43,S20:S31,0),1) -> 0.625 | T42: =INDEX(($O20:$T31),MATCH(T43,T20:T31,0),1) -> 0.58333333
B43: =MAX(B20:B31) -> 27 | C43: =MAX(C20:C31) -> 23 | D43: =MAX(D20:D31) -> 8 | E43: =MAX(E20:E31) -> 0 | F43: =MAX(F20:F31) -> 1 | I43: =MAX(I20:I31) -> 33 | J43: =MAX(J20:J31) -> 31 | K43: =MAX(K20:K31) -> 2 | L43: =MAX(L20:L31) -> 1 | M43: =MAX(M20:M31) -> 0 | P43: =MAX(P20:P31) -> 58 | Q43: =MAX(Q20:Q31) -> 53 | R43: =MAX(R20:R31) -> 10 | S43: =MAX(S20:S31) -> 1 | T43: =MAX(T20:T31) -> 1
A44: Paul Castle Associates | H44: Paul Castle Associates | O44: Paul Castle Associates

Sheet Class 07 11 2024
A1: ='Flow Summary'!A1 -> Wrexham ATC, Cristionydd Lane
A4: Direction: | B4: ='Flow Summary'!B4 -> Southbound | H4: Direction: | I4: ='Flow Summary'!M4 -> Northbound | O4: Direction: | P4: Total Flow
F6: ='(10-12) Speed Summary'!A9 -> 45603
A7: Hour Beginning | B7: Total Volume | C7: LIGHT | D7: OGV1 | E7: OGV2 | F7: BUS | H7: Hour Beginning | I7: Total Volume | J7: LIGHT | K7: OGV1 | L7: OGV2 | M7: BUS | O7: Hour Beginning | P7: Total Volume | Q7: LIGHT | R7: OGV1 | S7: OGV2 | T7: BUS
A8: 0 | B8: =SUM(C8:F8) -> 0 | C8: 0 | D8: 0 | E8: 0 | F8: 0 | H8: 0 | I8: =SUM(J8:M8) -> 2 | J8: 2 | K8: 0 | L8: 0 | M8: 0 | O8: 0 | P8: =SUM(Q8:T8) -> 2 | Q8: =C8+J8 -> 2 | R8: =D8+K8 -> 0 | S8: =E8+L8 -> 0 | T8: =F8+M8 -> 0
A9: 0.041666667 | B9: =SUM(C9:F9) -> 0 | C9: 0 | D9: 0 | E9: 0 | F9: 0 | H9: 0.041666667 | I9: =SUM(J9:M9) -> 0 | J9: 0 | K9: 0 | L9: 0 | M9: 0 | O9: 0.041666667 | P9: =SUM(Q9:T9) -> 0 | Q9: =C9+J9 -> 0 | R9: =D9+K9 -> 0 | S9: =E9+L9 -> 0 | T9: =F9+M9 -> 0
A10: 0.083333333 | B10: =SUM(C10:F10) -> 0 | C10: 0 | D10: 0 | E10: 0 | F10: 0 | H10: 0.083333333 | I10: =SUM(J10:M10) -> 0 | J10: 0 | K10: 0 | L10: 0 | M10: 0 | O10: 0.083333333 | P10: =SUM(Q10:T10) -> 0 | Q10: =C10+J10 -> 0 | R10: =D10+K10 -> 0 | S10: =E10+L10 -> 0 | T10: =F10+M10 -> 0
A11: 0.125 | B11: =SUM(C11:F11) -> 0 | C11: 0 | D11: 0 | E11: 0 | F11: 0 | H11: 0.125 | I11: =SUM(J11:M11) -> 0 | J11: 0 | K11: 0 | L11: 0 | M11: 0 | O11: 0.125 | P11: =SUM(Q11:T11) -> 0 | Q11: =C11+J11 -> 0 | R11: =D11+K11 -> 0 | S11: =E11+L11 -> 0 | T11: =F11+M11 -> 0
A12: 0.16666667 | B12: =SUM(C12:F12) -> 0 | C12: 0 | D12: 0 | E12: 0 | F12: 0 | H12: 0.16666667 | I12: =SUM(J12:M12) -> 0 | J12: 0 | K12: 0 | L12: 0 | M12: 0 | O12: 0.16666667 | P12: =SUM(Q12:T12) -> 0 | Q12: =C12+J12 -> 0 | R12: =D12+K12 -> 0 | S12: =E12+L12 -> 0 | T12: =F12+M12 -> 0
A13: 0.20833333 | B13: =SUM(C13:F13) -> 2 | C13: 2 | D13: 0 | E13: 0 | F13: 0 | H13: 0.20833333 | I13: =SUM(J13:M13) -> 0 | J13: 0 | K13: 0 | L13: 0 | M13: 0 | O13: 0.20833333 | P13: =SUM(Q13:T13) -> 2 | Q13: =C13+J13 -> 2 | R13: =D13+K13 -> 0 | S13: =E13+L13 -> 0 | T13: =F13+M13 -> 0
A14: 0.25 | B14: =SUM(C14:F14) -> 3 | C14: 3 | D14: 0 | E14: 0 | F14: 0 | H14: 0.25 | I14: =SUM(J14:M14) -> 0 | J14: 0 | K14: 0 | L14: 0 | M14: 0 | O14: 0.25 | P14: =SUM(Q14:T14) -> 3 | Q14: =C14+J14 -> 3 | R14: =D14+K14 -> 0 | S14: =E14+L14 -> 0 | T14: =F14+M14 -> 0
A15: 0.29166667 | B15: =SUM(C15:F15) -> 6 | C15: 5 | D15: 1 | E15: 0 | F15: 0 | H15: 0.29166667 | I15: =SUM(J15:M15) -> 4 | J15: 3 | K15: 1 | L15: 0 | M15: 0 | O15: 0.29166667 | P15: =SUM(Q15:T15) -> 10 | Q15: =C15+J15 -> 8 | R15: =D15+K15 -> 2 | S15: =E15+L15 -> 0 | T15: =F15+M15 -> 0
A16: 0.33333333 | B16: =SUM(C16:F16) -> 14 | C16: 10 | D16: 4 | E16: 0 | F16: 0 | H16: 0.33333333 | I16: =SUM(J16:M16) -> 6 | J16: 6 | K16: 0 | L16: 0 | M16: 0 | O16: 0.33333333 | P16: =SUM(Q16:T16) -> 20 | Q16: =C16+J16 -> 16 | R16: =D16+K16 -> 4 | S16: =E16+L16 -> 0 | T16: =F16+M16 -> 0
A17: 0.375 | B17: =SUM(C17:F17) -> 36 | C17: 30 | D17: 6 | E17: 0 | F17: 0 | H17: 0.375 | I17: =SUM(J17:M17) -> 14 | J17: 14 | K17: 0 | L17: 0 | M17: 0 | O17: 0.375 | P17: =SUM(Q17:T17) -> 50 | Q17: =C17+J17 -> 44 | R17: =D17+K17 -> 6 | S17: =E17+L17 -> 0 | T17: =F17+M17 -> 0
A18: 0.41666667 | B18: =SUM(C18:F18) -> 18 | C18: 13 | D18: 4 | E18: 0 | F18: 1 | H18: 0.41666667 | I18: =SUM(J18:M18) -> 11 | J18: 11 | K18: 0 | L18: 0 | M18: 0 | O18: 0.41666667 | P18: =SUM(Q18:T18) -> 29 | Q18: =C18+J18 -> 24 | R18: =D18+K18 -> 4 | S18: =E18+L18 -> 0 | T18: =F18+M18 -> 1
A19: 0.45833333 | B19: =SUM(C19:F19) -> 19 | C19: 16 | D19: 3 | E19: 0 | F19: 0 | H19: 0.45833333 | I19: =SUM(J19:M19) -> 12 | J19: 11 | K19: 1 | L19: 0 | M19: 0 | O19: 0.45833333 | P19: =SUM(Q19:T19) -> 31 | Q19: =C19+J19 -> 27 | R19: =D19+K19 -> 4 | S19: =E19+L19 -> 0 | T19: =F19+M19 -> 0
... A31: 0.95833333 | B31: =SUM(C31:F31) -> 2 | C31: 2 | D31: 0 | E31: 0 | F31: 0 | H31: 0.95833333 | I31: =SUM(J31:M31) -> 5 | J31: 5 | K31: 0 | L31: 0 | M31: 0 | O31: 0.95833333 | P31: =SUM(Q31:T31) -> 7 | Q31: =C31+J31 -> 7 | R31: =D31+K31 -> 0 | S31: =E31+L31 -> 0 | T31: =F31+M31 -> 0
A33: Total | H33: Total | O33: Total
A34: 12H(7-19) | B34: =SUM(B15:B26) -> 248 | C34: =SUM(C15:C26) -> 188 | D34: =SUM(D15:D26) -> 54 | E34: =SUM(E15:E26) -> 0 | F34: =SUM(F15:F26) -> 6 | H34: 12H(7-19) | I34: =SUM(I15:I26) -> 207 | J34: =SUM(J15:J26) -> 195 | K34: =SUM(K15:K26) -> 12 | L34: =SUM(L15:L26) -> 0 | M34: =SUM(M15:M26) -> 0 | O34: 12H(7-19) | P34: =SUM(P15:P26) -> 455 | Q34: =SUM(Q15:Q26) -> 383 | R34: =SUM(R15:R26) -> 66 | S34: =SUM(S15:S26) -> 0 | T34: =SUM(T15:T26) -> 6
A35: 16H(6-22) | B35: =SUM(B14:B29) -> 301 | C35: =SUM(C14:C29) -> 224 | D35: =SUM(D14:D29) -> 71 | E35: =SUM(E14:E29) -> 0 | F35: =SUM(F14:F29) -> 6 | H35: 16H(6-22) | I35: =SUM(I14:I29) -> 261 | J35: =SUM(J14:J29) -> 249 | K35: =SUM(K14:K29) -> 12 | L35: =SUM(L14:L29) -> 0 | M35: =SUM(M14:M29) -> 0 | O35: 16H(6-22) | P35: =SUM(P14:P29) -> 562 | Q35: =SUM(Q14:Q29) -> 473 | R35: =SUM(R14:R29) -> 83 | S35: =SUM(S14:S29) -> 0 | T35: =SUM(T14:T29) -> 6
A36: 18H(6-24) | B36: =SUM(B14:B31) -> 309 | C36: =SUM(C14:C31) -> 230 | D36: =SUM(D14:D31) -> 73 | E36: =SUM(E14:E31) -> 0 | F36: =SUM(F14:F31) -> 6 | H36: 18H(6-24) | I36: =SUM(I14:I31) -> 277 | J36: =SUM(J14:J31) -> 265 | K36: =SUM(K14:K31) -> 12 | L36: =SUM(L14:L31) -> 0 | M36: =SUM(M14:M31) -> 0 | O36: 18H(6-24) | P36: =SUM(P14:P31) -> 586 | Q36: =SUM(Q14:Q31) -> 495 | R36: =SUM(R14:R31) -> 85 | S36: =SUM(S14:S31) -> 0 | T36: =SUM(T14:T31) -> 6
A37: 24H(0-24) | B37: =SUM(B8:B31) -> 311 | C37: =SUM(C8:C31) -> 232 | D37: =SUM(D8:D31) -> 73 | E37: =SUM(E8:E31) -> 0 | F37: =SUM(F8:F31) -> 6 | H37: 24H(0-24) | I37: =SUM(I8:I31) -> 279 | J37: =SUM(J8:J31) -> 267 | K37: =SUM(K8:K31) -> 12 | L37: =SUM(L8:L31) -> 0 | M37: =SUM(M8:M31) -> 0 | O37: 24H(0-24) | P37: =SUM(P8:P31) -> 590 | Q37: =SUM(Q8:Q31) -> 499 | R37: =SUM(R8:R31) -> 85 | S37: =SUM(S8:S31) -> 0 | T37: =SUM(T8:T31) -> 6
A39: AM Peak | B39: =INDEX(($A8:$F19),MATCH(B40,B8:B19,0),1) -> 0.375 | C39: =INDEX(($A8:$F19),MATCH(C40,C8:C19,0),1) -> 0.375 | D39: =INDEX(($A8:$F19),MATCH(D40,D8:D19,0),1) -> 0.375 | E39: =INDEX(($A8:$F19),MATCH(E40,E8:E19,0),1) -> 0 | F39: =INDEX(($A8:$F19),MATCH(F40,F8:F19,0),1) -> 0.41666667 | H39: AM Peak | I39: =INDEX(($H8:$M19),MATCH(I40,I8:I19,0),1) -> 0.375 | J39: =INDEX(($H8:$M19),MATCH(J40,J8:J19,0),1) -> 0.375 | K39: =INDEX(($H8:$M19),MATCH(K40,K8:K19,0),1) -> 0.29166667 | L39: =INDEX(($H8:$M19),MATCH(L40,L8:L19,0),1) -> 0 | M39: =INDEX(($H8:$M19),MATCH(M40,M8:M19,0),1) -> 0 | O39: AM Peak | P39: =INDEX(($O8:$T19),MATCH(P40,P8:P19,0),1) -> 0.375 | Q39: =INDEX(($O8:$T19),MATCH(Q40,Q8:Q19,0),1) -> 0.375 | R39: =INDEX(($O8:$T19),MATCH(R40,R8:R19,0),1) -> 0.375 | S39: =INDEX(($O8:$T19),MATCH(S40,S8:S19,0),1) -> 0 | T39: =INDEX(($O8:$T19),MATCH(T40,T8:T19,0),1) -> 0.41666667
B40: =MAX(B8:B19) -> 36 | C40: =MAX(C8:C19) -> 30 | D40: =MAX(D8:D19) -> 6 | E40: =MAX(E8:E19) -> 0 | F40: =MAX(F8:F19) -> 1 | I40: =MAX(I8:I19) -> 14 | J40: =MAX(J8:J19) -> 14 | K40: =MAX(K8:K19) -> 1 | L40: =MAX(L8:L19) -> 0 | M40: =MAX(M8:M19) -> 0 | P40: =MAX(P8:P19) -> 50 | Q40: =MAX(Q8:Q19) -> 44 | R40: =MAX(R8:R19) -> 6 | S40: =MAX(S8:S19) -> 0 | T40: =MAX(T8:T19) -> 1
A42: PM Peak | B42: =INDEX(($A20:$F31),MATCH(B43,B20:B31,0),1) -> 0.625 | C42: =INDEX(($A20:$F31),MATCH(C43,C20:C31,0),1) -> 0.625 | D42: =INDEX(($A20:$F31),MATCH(D43,D20:D31,0),1) -> 0.625 | E42: =INDEX(($A20:$F31),MATCH(E43,E20:E31,0),1) -> 0.5 | F42: =INDEX(($A20:$F31),MATCH(F43,F20:F31,0),1) -> 0.70833333 | H42: PM Peak | I42: =INDEX(($H20:$M31),MATCH(I43,I20:I31,0),1) -> 0.66666667 | J42: =INDEX(($H20:$M31),MATCH(J43,J20:J31,0),1) -> 0.66666667 | K42: =INDEX(($H20:$M31),MATCH(K43,K20:K31,0),1) -> 0.58333333 | L42: =INDEX(($H20:$M31),MATCH(L43,L20:L31,0),1) -> 0.5 | M42: =INDEX(($H20:$M31),MATCH(M43,M20:M31,0),1) -> 0.5 | O42: PM Peak | P42: =INDEX(($O20:$T31),MATCH(P43,P20:P31,0),1) -> 0.70833333 | Q42: =INDEX(($O20:$T31),MATCH(Q43,Q20:Q31,0),1) -> 0.70833333 | R42: =INDEX(($O20:$T31),MATCH(R43,R20:R31,0),1) -> 0.70833333 | S42: =INDEX(($O20:$T31),MATCH(S43,S20:S31,0),1) -> 0.5 | T42: =INDEX(($O20:$T31),MATCH(T43,T20:T31,0),1) -> 0.70833333
B43: =MAX(B20:B31) -> 33 | C43: =MAX(C20:C31) -> 23 | D43: =MAX(D20:D31) -> 9 | E43: =MAX(E20:E31) -> 0 | F43: =MAX(F20:F31) -> 2 | I43: =MAX(I20:I31) -> 35 | J43: =MAX(J20:J31) -> 34 | K43: =MAX(K20:K31) -> 4 | L43: =MAX(L20:L31) -> 0 | M43: =MAX(M20:M31) -> 0 | P43: =MAX(P20:P31) -> 61 | Q43: =MAX(Q20:Q31) -> 48 | R43: =MAX(R20:R31) -> 11 | S43: =MAX(S20:S31) -> 0 | T43: =MAX(T20:T31) -> 2
A44: Paul Castle Associates | H44: Paul Castle Associates | O44: Paul Castle Associates

Sheet Class 08 11 2024
A1: ='Flow Summary'!A1 -> Wrexham ATC, Cristionydd Lane
A4: Direction: | B4: ='Flow Summary'!B4 -> Southbound | H4: Direction: | I4: ='Flow Summary'!M4 -> Northbound | O4: Direction: | P4: Total Flow
F6: ='(10-12) Speed Summary'!A10 -> 45604
A7: Hour Beginning | B7: Total Volume | C7: LIGHT | D7: OGV1 | E7: OGV2 | F7: BUS | H7: Hour Beginning | I7: Total Volume | J7: LIGHT | K7: OGV1 | L7: OGV2 | M7: BUS | O7: Hour Beginning | P7: Total Volume | Q7: LIGHT | R7: OGV1 | S7: OGV2 | T7: BUS
A8: 0 | B8: =SUM(C8:F8) -> 0 | C8: 0 | D8: 0 | E8: 0 | F8: 0 | H8: 0 | I8: =SUM(J8:M8) -> 2 | J8: 2 | K8: 0 | L8: 0 | M8: 0 | O8: 0 | P8: =SUM(Q8:T8) -> 2 | Q8: =C8+J8 -> 2 | R8: =D8+K8 -> 0 | S8: =E8+L8 -> 0 | T8: =F8+M8 -> 0
A9: 0.041666667 | B9: =SUM(C9:F9) -> 0 | C9: 0 | D9: 0 | E9: 0 | F9: 0 | H9: 0.041666667 | I9: =SUM(J9:M9) -> 1 | J9: 1 | K9: 0 | L9: 0 | M9: 0 | O9: 0.041666667 | P9: =SUM(Q9:T9) -> 1 | Q9: =C9+J9 -> 1 | R9: =D9+K9 -> 0 | S9: =E9+L9 -> 0 | T9: =F9+M9 -> 0
A10: 0.083333333 | B10: =SUM(C10:F10) -> 2 | C10: 0 | D10: 2 | E10: 0 | F10: 0 | H10: 0.083333333 | I10: =SUM(J10:M10) -> 2 | J10: 2 | K10: 0 | L10: 0 | M10: 0 | O10: 0.083333333 | P10: =SUM(Q10:T10) -> 4 | Q10: =C10+J10 -> 2 | R10: =D10+K10 -> 2 | S10: =E10+L10 -> 0 | T10: =F10+M10 -> 0
A11: 0.125 | B11: =SUM(C11:F11) -> 0 | C11: 0 | D11: 0 | E11: 0 | F11: 0 | H11: 0.125 | I11: =SUM(J11:M11) -> 0 | J11: 0 | K11: 0 | L11: 0 | M11: 0 | O11: 0.125 | P11: =SUM(Q11:T11) -> 0 | Q11: =C11+J11 -> 0 | R11: =D11+K11 -> 0 | S11: =E11+L11 -> 0 | T11: =F11+M11 -> 0
A12: 0.16666667 | B12: =SUM(C12:F12) -> 1 | C12: 1 | D12: 0 | E12: 0 | F12: 0 | H12: 0.16666667 | I12: =SUM(J12:M12) -> 0 | J12: 0 | K12: 0 | L12: 0 | M12: 0 | O12: 0.16666667 | P12: =SUM(Q12:T12) -> 1 | Q12: =C12+J12 -> 1 | R12: =D12+K12 -> 0 | S12: =E12+L12 -> 0 | T12: =F12+M12 -> 0
A13: 0.20833333 | B13: =SUM(C13:F13) -> 1 | C13: 1 | D13: 0 | E13: 0 | F13: 0 | H13: 0.20833333 | I13: =SUM(J13:M13) -> 0 | J13: 0 | K13: 0 | L13: 0 | M13: 0 | O13: 0.20833333 | P13: =SUM(Q13:T13) -> 1 | Q13: =C13+J13 -> 1 | R13: =D13+K13 -> 0 | S13: =E13+L13 -> 0 | T13: =F13+M13 -> 0
A14: 0.25 | B14: =SUM(C14:F14) -> 2 | C14: 1 | D14: 1 | E14: 0 | F14: 0 | H14: 0.25 | I14: =SUM(J14:M14) -> 0 | J14: 0 | K14: 0 | L14: 0 | M14: 0 | O14: 0.25 | P14: =SUM(Q14:T14) -> 2 | Q14: =C14+J14 -> 1 | R14: =D14+K14 -> 1 | S14: =E14+L14 -> 0 | T14: =F14+M14 -> 0
A15: 0.29166667 | B15: =SUM(C15:F15) -> 8 | C15: 7 | D15: 1 | E15: 0 | F15: 0 | H15: 0.29166667 | I15: =SUM(J15:M15) -> 3 | J15: 2 | K15: 1 | L15: 0 | M15: 0 | O15: 0.29166667 | P15: =SUM(Q15:T15) -> 11 | Q15: =C15+J15 -> 9 | R15: =D15+K15 -> 2 | S15: =E15+L15 -> 0 | T15: =F15+M15 -> 0
A16: 0.33333333 | B16: =SUM(C16:F16) -> 11 | C16: 9 | D16: 2 | E16: 0 | F16: 0 | H16: 0.33333333 | I16: =SUM(J16:M16) -> 3 | J16: 3 | K16: 0 | L16: 0 | M16: 0 | O16: 0.33333333 | P16: =SUM(Q16:T16) -> 14 | Q16: =C16+J16 -> 12 | R16: =D16+K16 -> 2 | S16: =E16+L16 -> 0 | T16: =F16+M16 -> 0
A17: 0.375 | B17: =SUM(C17:F17) -> 35 | C17: 24 | D17: 11 | E17: 0 | F17: 0 | H17: 0.375 | I17: =SUM(J17:M17) -> 13 | J17: 12 | K17: 1 | L17: 0 | M17: 0 | O17: 0.375 | P17: =SUM(Q17:T17) -> 48 | Q17: =C17+J17 -> 36 | R17: =D17+K17 -> 12 | S17: =E17+L17 -> 0 | T17: =F17+M17 -> 0
A18: 0.41666667 | B18: =SUM(C18:F18) -> 16 | C18: 12 | D18: 3 | E18: 0 | F18: 1 | H18: 0.41666667 | I18: =SUM(J18:M18) -> 9 | J18: 9 | K18: 0 | L18: 0 | M18: 0 | O18: 0.41666667 | P18: =SUM(Q18:T18) -> 25 | Q18: =C18+J18 -> 21 | R18: =D18+K18 -> 3 | S18: =E18+L18 -> 0 | T18: =F18+M18 -> 1
A19: 0.45833333 | B19: =SUM(C19:F19) -> 19 | C19: 14 | D19: 5 | E19: 0 | F19: 0 | H19: 0.45833333 | I19: =SUM(J19:M19) -> 13 | J19: 12 | K19: 1 | L19: 0 | M19: 0 | O19: 0.45833333 | P19: =SUM(Q19:T19) -> 32 | Q19: =C19+J19 -> 26 | R19: =D19+K19 -> 6 | S19: =E19+L19 -> 0 | T19: =F19+M19 -> 0
... A31: 0.95833333 | B31: =SUM(C31:F31) -> 5 | C31: 0 | D31: 5 | E31: 0 | F31: 0 | H31: 0.95833333 | I31: =SUM(J31:M31) -> 5 | J31: 4 | K31: 1 | L31: 0 | M31: 0 | O31: 0.95833333 | P31: =SUM(Q31:T31) -> 10 | Q31: =C31+J31 -> 4 | R31: =D31+K31 -> 6 | S31: =E31+L31 -> 0 | T31: =F31+M31 -> 0
A33: Total | H33: Total | O33: Total
A34: 12H(7-19) | B34: =SUM(B15:B26) -> 263 | C34: =SUM(C15:C26) -> 185 | D34: =SUM(D15:D26) -> 76 | E34: =SUM(E15:E26) -> 0 | F34: =SUM(F15:F26) -> 2 | H34: 12H(7-19) | I34: =SUM(I15:I26) -> 214 | J34: =SUM(J15:J26) -> 202 | K34: =SUM(K15:K26) -> 12 | L34: =SUM(L15:L26) -> 0 | M34: =SUM(M15:M26) -> 0 | O34: 12H(7-19) | P34: =SUM(P15:P26) -> 477 | Q34: =SUM(Q15:Q26) -> 387 | R34: =SUM(R15:R26) -> 88 | S34: =SUM(S15:S26) -> 0 | T34: =SUM(T15:T26) -> 2
A35: 16H(6-22) | B35: =SUM(B14:B29) -> 333 | C35: =SUM(C14:C29) -> 236 | D35: =SUM(D14:D29) -> 95 | E35: =SUM(E14:E29) -> 0 | F35: =SUM(F14:F29) -> 2 | H35: 16H(6-22) | I35: =SUM(I14:I29) -> 262 | J35: =SUM(J14:J29) -> 250 | K35: =SUM(K14:K29) -> 12 | L35: =SUM(L14:L29) -> 0 | M35: =SUM(M14:M29) -> 0 | O35: 16H(6-22) | P35: =SUM(P14:P29) -> 595 | Q35: =SUM(Q14:Q29) -> 486 | R35: =SUM(R14:R29) -> 107 | S35: =SUM(S14:S29) -> 0 | T35: =SUM(T14:T29) -> 2
A36: 18H(6-24) | B36: =SUM(B14:B31) -> 351 | C36: =SUM(C14:C31) -> 246 | D36: =SUM(D14:D31) -> 103 | E36: =SUM(E14:E31) -> 0 | F36: =SUM(F14:F31) -> 2 | H36: 18H(6-24) | I36: =SUM(I14:I31) -> 280 | J36: =SUM(J14:J31) -> 267 | K36: =SUM(K14:K31) -> 13 | L36: =SUM(L14:L31) -> 0 | M36: =SUM(M14:M31) -> 0 | O36: 18H(6-24) | P36: =SUM(P14:P31) -> 631 | Q36: =SUM(Q14:Q31) -> 513 | R36: =SUM(R14:R31) -> 116 | S36: =SUM(S14:S31) -> 0 | T36: =SUM(T14:T31) -> 2
A37: 24H(0-24) | B37: =SUM(B8:B31) -> 355 | C37: =SUM(C8:C31) -> 248 | D37: =SUM(D8:D31) -> 105 | E37: =SUM(E8:E31) -> 0 | F37: =SUM(F8:F31) -> 2 | H37: 24H(0-24) | I37: =SUM(I8:I31) -> 285 | J37: =SUM(J8:J31) -> 272 | K37: =SUM(K8:K31) -> 13 | L37: =SUM(L8:L31) -> 0 | M37: =SUM(M8:M31) -> 0 | O37: 24H(0-24) | P37: =SUM(P8:P31) -> 640 | Q37: =SUM(Q8:Q31) -> 520 | R37: =SUM(R8:R31) -> 118 | S37: =SUM(S8:S31) -> 0 | T37: =SUM(T8:T31) -> 2
A39: AM Peak | B39: =INDEX(($A8:$F19),MATCH(B40,B8:B19,0),1) -> 0.375 | C39: =INDEX(($A8:$F19),MATCH(C40,C8:C19,0),1) -> 0.375 | D39: =INDEX(($A8:$F19),MATCH(D40,D8:D19,0),1) -> 0.375 | E39: =INDEX(($A8:$F19),MATCH(E40,E8:E19,0),1) -> 0 | F39: =INDEX(($A8:$F19),MATCH(F40,F8:F19,0),1) -> 0.41666667 | H39: AM Peak | I39: =INDEX(($H8:$M19),MATCH(I40,I8:I19,0),1) -> 0.375 | J39: =INDEX(($H8:$M19),MATCH(J40,J8:J19,0),1) -> 0.375 | K39: =INDEX(($H8:$M19),MATCH(K40,K8:K19,0),1) -> 0.29166667 | L39: =INDEX(($H8:$M19),MATCH(L40,L8:L19,0),1) -> 0 | M39: =INDEX(($H8:$M19),MATCH(M40,M8:M19,0),1) -> 0 | O39: AM Peak | P39: =INDEX(($O8:$T19),MATCH(P40,P8:P19,0),1) -> 0.375 | Q39: =INDEX(($O8:$T19),MATCH(Q40,Q8:Q19,0),1) -> 0.375 | R39: =INDEX(($O8:$T19),MATCH(R40,R8:R19,0),1) -> 0.375 | S39: =INDEX(($O8:$T19),MATCH(S40,S8:S19,0),1) -> 0 | T39: =INDEX(($O8:$T19),MATCH(T40,T8:T19,0),1) -> 0.41666667
B40: =MAX(B8:B19) -> 35 | C40: =MAX(C8:C19) -> 24 | D40: =MAX(D8:D19) -> 11 | E40: =MAX(E8:E19) -> 0 | F40: =MAX(F8:F19) -> 1 | I40: =MAX(I8:I19) -> 13 | J40: =MAX(J8:J19) -> 12 | K40: =MAX(K8:K19) -> 1 | L40: =MAX(L8:L19) -> 0 | M40: =MAX(M8:M19) -> 0 | P40: =MAX(P8:P19) -> 48 | Q40: =MAX(Q8:Q19) -> 36 | R40: =MAX(R8:R19) -> 12 | S40: =MAX(S8:S19) -> 0 | T40: =MAX(T8:T19) -> 1
A42: PM Peak | B42: =INDEX(($A20:$F31),MATCH(B43,B20:B31,0),1) -> 0.70833333 | C42: =INDEX(($A20:$F31),MATCH(C43,C20:C31,0),1) -> 0.75 | D42: =INDEX(($A20:$F31),MATCH(D43,D20:D31,0),1) -> 0.66666667 | E42: =INDEX(($A20:$F31),MATCH(E43,E20:E31,0),1) -> 0.5 | F42: =INDEX(($A20:$F31),MATCH(F43,F20:F31,0),1) -> 0.58333333 | H42: PM Peak | I42: =INDEX(($H20:$M31),MATCH(I43,I20:I31,0),1) -> 0.66666667 | J42: =INDEX(($H20:$M31),MATCH(J43,J20:J31,0),1) -> 0.66666667 | K42: =INDEX(($H20:$M31),MATCH(K43,K20:K31,0),1) -> 0.5 | L42: =INDEX(($H20:$M31),MATCH(L43,L20:L31,0),1) -> 0.5 | M42: =INDEX(($H20:$M31),MATCH(M43,M20:M31,0),1) -> 0.5 | O42: PM Peak | P42: =INDEX(($O20:$T31),MATCH(P43,P20:P31,0),1) -> 0.70833333 | Q42: =INDEX(($O20:$T31),MATCH(Q43,Q20:Q31,0),1) -> 0.70833333 | R42: =INDEX(($O20:$T31),MATCH(R43,R20:R31,0),1) -> 0.66666667 | S42: =INDEX(($O20:$T31),MATCH(S43,S20:S31,0),1) -> 0.5 | T42: =INDEX(($O20:$T31),MATCH(T43,T20:T31,0),1) -> 0.58333333
B43: =MAX(B20:B31) -> 32 | C43: =MAX(C20:C31) -> 23 | D43: =MAX(D20:D31) -> 12 | E43: =MAX(E20:E31) -> 0 | F43: =MAX(F20:F31) -> 1 | I43: =MAX(I20:I31) -> 37 | J43: =MAX(J20:J31) -> 36 | K43: =MAX(K20:K31) -> 2 | L43: =MAX(L20:L31) -> 0 | M43: =MAX(M20:M31) -> 0 | P43: =MAX(P20:P31) -> 69 | Q43: =MAX(Q20:Q31) -> 56 | R43: =MAX(R20:R31) -> 13 | S43: =MAX(S20:S31) -> 0 | T43: =MAX(T20:T31) -> 1
A44: Paul Castle Associates | H44: Paul Castle Associates | O44: Paul Castle Associates

Sheet Class 09 11 2024
A1: ='Flow Summary'!A1 -> Wrexham ATC, Cristionydd Lane
A4: Direction: | B4: ='Flow Summary'!B4 -> Southbound | H4: Direction: | I4: ='Flow Summary'!M4 -> Northbound | O4: Direction: | P4: Total Flow
F6: ='(10-12) Speed Summary'!A11 -> 45605
A7: Hour Beginning | B7: Total Volume | C7: LIGHT | D7: OGV1 | E7: OGV2 | F7: BUS | H7: Hour Beginning | I7: Total Volume | J7: LIGHT | K7: OGV1 | L7: OGV2 | M7: BUS | O7: Hour Beginning | P7: Total Volume | Q7: LIGHT | R7: OGV1 | S7: OGV2 | T7: BUS
A8: 0 | B8: =SUM(C8:F8) -> 2 | C8: 1 | D8: 1 | E8: 0 | F8: 0 | H8: 0 | I8: =SUM(J8:M8) -> 2 | J8: 2 | K8: 0 | L8: 0 | M8: 0 | O8: 0 | P8: =SUM(Q8:T8) -> 4 | Q8: =C8+J8 -> 3 | R8: =D8+K8 -> 1 | S8: =E8+L8 -> 0 | T8: =F8+M8 -> 0
A9: 0.041666667 | B9: =SUM(C9:F9) -> 0 | C9: 0 | D9: 0 | E9: 0 | F9: 0 | H9: 0.041666667 | I9: =SUM(J9:M9) -> 3 | J9: 3 | K9: 0 | L9: 0 | M9: 0 | O9: 0.041666667 | P9: =SUM(Q9:T9) -> 3 | Q9: =C9+J9 -> 3 | R9: =D9+K9 -> 0 | S9: =E9+L9 -> 0 | T9: =F9+M9 -> 0
A10: 0.083333333 | B10: =SUM(C10:F10) -> 0 | C10: 0 | D10: 0 | E10: 0 | F10: 0 | H10: 0.083333333 | I10: =SUM(J10:M10) -> 1 | J10: 1 | K10: 0 | L10: 0 | M10: 0 | O10: 0.083333333 | P10: =SUM(Q10:T10) -> 1 | Q10: =C10+J10 -> 1 | R10: =D10+K10 -> 0 | S10: =E10+L10 -> 0 | T10: =F10+M10 -> 0
A11: 0.125 | B11: =SUM(C11:F11) -> 1 | C11: 0 | D11: 1 | E11: 0 | F11: 0 | H11: 0.125 | I11: =SUM(J11:M11) -> 0 | J11: 0 | K11: 0 | L11: 0 | M11: 0 | O11: 0.125 | P11: =SUM(Q11:T11) -> 1 | Q11: =C11+J11 -> 0 | R11: =D11+K11 -> 1 | S11: =E11+L11 -> 0 | T11: =F11+M11 -> 0
A12: 0.16666667 | B12: =SUM(C12:F12) -> 0 | C12: 0 | D12: 0 | E12: 0 | F12: 0 | H12: 0.16666667 | I12: =SUM(J12:M12) -> 1 | J12: 1 | K12: 0 | L12: 0 | M12: 0 | O12: 0.16666667 | P12: =SUM(Q12:T12) -> 1 | Q12: =C12+J12 -> 1 | R12: =D12+K12 -> 0 | S12: =E12+L12 -> 0 | T12: =F12+M12 -> 0
A13: 0.20833333 | B13: =SUM(C13:F13) -> 0 | C13: 0 | D13: 0 | E13: 0 | F13: 0 | H13: 0.20833333 | I13: =SUM(J13:M13) -> 1 | J13: 1 | K13: 0 | L13: 0 | M13: 0 | O13: 0.20833333 | P13: =SUM(Q13:T13) -> 1 | Q13: =C13+J13 -> 1 | R13: =D13+K13 -> 0 | S13: =E13+L13 -> 0 | T13: =F13+M13 -> 0
A14: 0.25 | B14: =SUM(C14:F14) -> 5 | C14: 3 | D14: 2 | E14: 0 | F14: 0 | H14: 0.25 | I14: =SUM(J14:M14) -> 0 | J14: 0 | K14: 0 | L14: 0 | M14: 0 | O14: 0.25 | P14: =SUM(Q14:T14) -> 5 | Q14: =C14+J14 -> 3 | R14: =D14+K14 -> 2 | S14: =E14+L14 -> 0 | T14: =F14+M14 -> 0
A15: 0.29166667 | B15: =SUM(C15:F15) -> 1 | C15: 1 | D15: 0 | E15: 0 | F15: 0 | H15: 0.29166667 | I15: =SUM(J15:M15) -> 0 | J15: 0 | K15: 0 | L15: 0 | M15: 0 | O15: 0.29166667 | P15: =SUM(Q15:T15) -> 1 | Q15: =C15+J15 -> 1 | R15: =D15+K15 -> 0 | S15: =E15+L15 -> 0 | T15: =F15+M15 -> 0
A16: 0.33333333 | B16: =SUM(C16:F16) -> 3 | C16: 2 | D16: 1 | E16: 0 | F16: 0 | H16: 0.33333333 | I16: =SUM(J16:M16) -> 0 | J16: 0 | K16: 0 | L16: 0 | M16: 0 | O16: 0.33333333 | P16: =SUM(Q16:T16) -> 3 | Q16: =C16+J16 -> 2 | R16: =D16+K16 -> 1 | S16: =E16+L16 -> 0 | T16: =F16+M16 -> 0
A17: 0.375 | B17: =SUM(C17:F17) -> 9 | C17: 9 | D17: 0 | E17: 0 | F17: 0 | H17: 0.375 | I17: =SUM(J17:M17) -> 6 | J17: 6 | K17: 0 | L17: 0 | M17: 0 | O17: 0.375 | P17: =SUM(Q17:T17) -> 15 | Q17: =C17+J17 -> 15 | R17: =D17+K17 -> 0 | S17: =E17+L17 -> 0 | T17: =F17+M17 -> 0
A18: 0.41666667 | B18: =SUM(C18:F18) -> 15 | C18: 12 | D18: 3 | E18: 0 | F18: 0 | H18: 0.41666667 | I18: =SUM(J18:M18) -> 12 | J18: 12 | K18: 0 | L18: 0 | M18: 0 | O18: 0.41666667 | P18: =SUM(Q18:T18) -> 27 | Q18: =C18+J18 -> 24 | R18: =D18+K18 -> 3 | S18: =E18+L18 -> 0 | T18: =F18+M18 -> 0
A19: 0.45833333 | B19: =SUM(C19:F19) -> 18 | C19: 16 | D19: 2 | E19: 0 | F19: 0 | H19: 0.45833333 | I19: =SUM(J19:M19) -> 15 | J19: 15 | K19: 0 | L19: 0 | M19: 0 | O19: 0.45833333 | P19: =SUM(Q19:T19) -> 33 | Q19: =C19+J19 -> 31 | R19: =D19+K19 -> 2 | S19: =E19+L19 -> 0 | T19: =F19+M19 -> 0
... A31: 0.95833333 | B31: =SUM(C31:F31) -> 2 | C31: 2 | D31: 0 | E31: 0 | F31: 0 | H31: 0.95833333 | I31: =SUM(J31:M31) -> 8 | J31: 8 | K31: 0 | L31: 0 | M31: 0 | O31: 0.95833333 | P31: =SUM(Q31:T31) -> 10 | Q31: =C31+J31 -> 10 | R31: =D31+K31 -> 0 | S31: =E31+L31 -> 0 | T31: =F31+M31 -> 0
A33: Total | H33: Total | O33: Total
A34: 12H(7-19) | B34: =SUM(B15:B26) -> 203 | C34: =SUM(C15:C26) -> 151 | D34: =SUM(D15:D26) -> 52 | E34: =SUM(E15:E26) -> 0 | F34: =SUM(F15:F26) -> 0 | H34: 12H(7-19) | I34: =SUM(I15:I26) -> 190 | J34: =SUM(J15:J26) -> 181 | K34: =SUM(K15:K26) -> 9 | L34: =SUM(L15:L26) -> 0 | M34: =SUM(M15:M26) -> 0 | O34: 12H(7-19) | P34: =SUM(P15:P26) -> 393 | Q34: =SUM(Q15:Q26) -> 332 | R34: =SUM(R15:R26) -> 61 | S34: =SUM(S15:S26) -> 0 | T34: =SUM(T15:T26) -> 0
A35: 16H(6-22) | B35: =SUM(B14:B29) -> 248 | C35: =SUM(C14:C29) -> 184 | D35: =SUM(D14:D29) -> 64 | E35: =SUM(E14:E29) -> 0 | F35: =SUM(F14:F29) -> 0 | H35: 16H(6-22) | I35: =SUM(I14:I29) -> 218 | J35: =SUM(J14:J29) -> 209 | K35: =SUM(K14:K29) -> 9 | L35: =SUM(L14:L29) -> 0 | M35: =SUM(M14:M29) -> 0 | O35: 16H(6-22) | P35: =SUM(P14:P29) -> 466 | Q35: =SUM(Q14:Q29) -> 393 | R35: =SUM(R14:R29) -> 73 | S35: =SUM(S14:S29) -> 0 | T35: =SUM(T14:T29) -> 0
A36: 18H(6-24) | B36: =SUM(B14:B31) -> 254 | C36: =SUM(C14:C31) -> 188 | D36: =SUM(D14:D31) -> 66 | E36: =SUM(E14:E31) -> 0 | F36: =SUM(F14:F31) -> 0 | H36: 18H(6-24) | I36: =SUM(I14:I31) -> 232 | J36: =SUM(J14:J31) -> 222 | K36: =SUM(K14:K31) -> 10 | L36: =SUM(L14:L31) -> 0 | M36: =SUM(M14:M31) -> 0 | O36: 18H(6-24) | P36: =SUM(P14:P31) -> 486 | Q36: =SUM(Q14:Q31) -> 410 | R36: =SUM(R14:R31) -> 76 | S36: =SUM(S14:S31) -> 0 | T36: =SUM(T14:T31) -> 0
A37: 24H(0-24) | B37: =SUM(B8:B31) -> 257 | C37: =SUM(C8:C31) -> 189 | D37: =SUM(D8:D31) -> 68 | E37: =SUM(E8:E31) -> 0 | F37: =SUM(F8:F31) -> 0 | H37: 24H(0-24) | I37: =SUM(I8:I31) -> 240 | J37: =SUM(J8:J31) -> 230 | K37: =SUM(K8:K31) -> 10 | L37: =SUM(L8:L31) -> 0 | M37: =SUM(M8:M31) -> 0 | O37: 24H(0-24) | P37: =SUM(P8:P31) -> 497 | Q37: =SUM(Q8:Q31) -> 419 | R37: =SUM(R8:R31) -> 78 | S37: =SUM(S8:S31) -> 0 | T37: =SUM(T8:T31) -> 0
A39: AM Peak | B39: =INDEX(($A8:$F19),MATCH(B40,B8:B19,0),1) -> 0.45833333 | C39: =INDEX(($A8:$F19),MATCH(C40,C8:C19,0),1) -> 0.45833333 | D39: =INDEX(($A8:$F19),MATCH(D40,D8:D19,0),1) -> 0.41666667 | E39: =INDEX(($A8:$F19),MATCH(E40,E8:E19,0),1) -> 0 | F39: =INDEX(($A8:$F19),MATCH(F40,F8:F19,0),1) -> 0 | H39: AM Peak | I39: =INDEX(($H8:$M19),MATCH(I40,I8:I19,0),1) -> 0.45833333 | J39: =INDEX(($H8:$M19),MATCH(J40,J8:J19,0),1) -> 0.45833333 | K39: =INDEX(($H8:$M19),MATCH(K40,K8:K19,0),1) -> 0 | L39: =INDEX(($H8:$M19),MATCH(L40,L8:L19,0),1) -> 0 | M39: =INDEX(($H8:$M19),MATCH(M40,M8:M19,0),1) -> 0 | O39: AM Peak | P39: =INDEX(($O8:$T19),MATCH(P40,P8:P19,0),1) -> 0.45833333 | Q39: =INDEX(($O8:$T19),MATCH(Q40,Q8:Q19,0),1) -> 0.45833333 | R39: =INDEX(($O8:$T19),MATCH(R40,R8:R19,0),1) -> 0.41666667 | S39: =INDEX(($O8:$T19),MATCH(S40,S8:S19,0),1) -> 0 | T39: =INDEX(($O8:$T19),MATCH(T40,T8:T19,0),1) -> 0
B40: =MAX(B8:B19) -> 18 | C40: =MAX(C8:C19) -> 16 | D40: =MAX(D8:D19) -> 3 | E40: =MAX(E8:E19) -> 0 | F40: =MAX(F8:F19) -> 0 | I40: =MAX(I8:I19) -> 15 | J40: =MAX(J8:J19) -> 15 | K40: =MAX(K8:K19) -> 0 | L40: =MAX(L8:L19) -> 0 | M40: =MAX(M8:M19) -> 0 | P40: =MAX(P8:P19) -> 33 | Q40: =MAX(Q8:Q19) -> 31 | R40: =MAX(R8:R19) -> 3 | S40: =MAX(S8:S19) -> 0 | T40: =MAX(T8:T19) -> 0
A42: PM Peak | B42: =INDEX(($A20:$F31),MATCH(B43,B20:B31,0),1) -> 0.625 | C42: =INDEX(($A20:$F31),MATCH(C43,C20:C31,0),1) -> 0.625 | D42: =INDEX(($A20:$F31),MATCH(D43,D20:D31,0),1) -> 0.625 | E42: =INDEX(($A20:$F31),MATCH(E43,E20:E31,0),1) -> 0.5 | F42: =INDEX(($A20:$F31),MATCH(F43,F20:F31,0),1) -> 0.5 | H42: PM Peak | I42: =INDEX(($H20:$M31),MATCH(I43,I20:I31,0),1) -> 0.625 | J42: =INDEX(($H20:$M31),MATCH(J43,J20:J31,0),1) -> 0.625 | K42: =INDEX(($H20:$M31),MATCH(K43,K20:K31,0),1) -> 0.70833333 | L42: =INDEX(($H20:$M31),MATCH(L43,L20:L31,0),1) -> 0.5 | M42: =INDEX(($H20:$M31),MATCH(M43,M20:M31,0),1) -> 0.5 | O42: PM Peak | P42: =INDEX(($O20:$T31),MATCH(P43,P20:P31,0),1) -> 0.625 | Q42: =INDEX(($O20:$T31),MATCH(Q43,Q20:Q31,0),1) -> 0.625 | R42: =INDEX(($O20:$T31),MATCH(R43,R20:R31,0),1) -> 0.625 | S42: =INDEX(($O20:$T31),MATCH(S43,S20:S31,0),1) -> 0.5 | T42: =INDEX(($O20:$T31),MATCH(T43,T20:T31,0),1) -> 0.5
B43: =MAX(B20:B31) -> 32 | C43: =MAX(C20:C31) -> 21 | D43: =MAX(D20:D31) -> 11 | E43: =MAX(E20:E31) -> 0 | F43: =MAX(F20:F31) -> 0 | I43: =MAX(I20:I31) -> 31 | J43: =MAX(J20:J31) -> 29 | K43: =MAX(K20:K31) -> 3 | L43: =MAX(L20:L31) -> 0 | M43: =MAX(M20:M31) -> 0 | P43: =MAX(P20:P31) -> 63 | Q43: =MAX(Q20:Q31) -> 50 | R43: =MAX(R20:R31) -> 13 | S43: =MAX(S20:S31) -> 0 | T43: =MAX(T20:T31) -> 0
A44: Paul Castle Associates | H44: Paul Castle Associates | O44: Paul Castle Associates

Sheet Class 10 11 2024
A1: ='Flow Summary'!A1 -> Wrexham ATC, Cristionydd Lane
A4: Direction: | B4: ='Flow Summary'!B4 -> Southbound | H4: Direction: | I4: ='Flow Summary'!M4 -> Northbound | O4: Direction: | P4: Total Flow
F6: ='(10-12) Speed Summary'!A12 -> 45606
A7: Hour Beginning | B7: Total Volume | C7: LIGHT | D7: OGV1 | E7: OGV2 | F7: BUS | H7: Hour Beginning | I7: Total Volume | J7: LIGHT | K7: OGV1 | L7: OGV2 | M7: BUS | O7: Hour Beginning | P7: Total Volume | Q7: LIGHT | R7: OGV1 | S7: OGV2 | T7: BUS
A8: 0 | B8: =SUM(C8:F8) -> 2 | C8: 0 | D8: 2 | E8: 0 | F8: 0 | H8: 0 | I8: =SUM(J8:M8) -> 4 | J8: 4 | K8: 0 | L8: 0 | M8: 0 | O8: 0 | P8: =SUM(Q8:T8) -> 6 | Q8: =C8+J8 -> 4 | R8: =D8+K8 -> 2 | S8: =E8+L8 -> 0 | T8: =F8+M8 -> 0
A9: 0.041666667 | B9: =SUM(C9:F9) -> 4 | C9: 2 | D9: 2 | E9: 0 | F9: 0 | H9: 0.041666667 | I9: =SUM(J9:M9) -> 3 | J9: 3 | K9: 0 | L9: 0 | M9: 0 | O9: 0.041666667 | P9: =SUM(Q9:T9) -> 7 | Q9: =C9+J9 -> 5 | R9: =D9+K9 -> 2 | S9: =E9+L9 -> 0 | T9: =F9+M9 -> 0
A10: 0.083333333 | B10: =SUM(C10:F10) -> 0 | C10: 0 | D10: 0 | E10: 0 | F10: 0 | H10: 0.083333333 | I10: =SUM(J10:M10) -> 1 | J10: 1 | K10: 0 | L10: 0 | M10: 0 | O10: 0.083333333 | P10: =SUM(Q10:T10) -> 1 | Q10: =C10+J10 -> 1 | R10: =D10+K10 -> 0 | S10: =E10+L10 -> 0 | T10: =F10+M10 -> 0
A11: 0.125 | B11: =SUM(C11:F11) -> 1 | C11: 1 | D11: 0 | E11: 0 | F11: 0 | H11: 0.125 | I11: =SUM(J11:M11) -> 0 | J11: 0 | K11: 0 | L11: 0 | M11: 0 | O11: 0.125 | P11: =SUM(Q11:T11) -> 1 | Q11: =C11+J11 -> 1 | R11: =D11+K11 -> 0 | S11: =E11+L11 -> 0 | T11: =F11+M11 -> 0
A12: 0.16666667 | B12: =SUM(C12:F12) -> 2 | C12: 1 | D12: 1 | E12: 0 | F12: 0 | H12: 0.16666667 | I12: =SUM(J12:M12) -> 0 | J12: 0 | K12: 0 | L12: 0 | M12: 0 | O12: 0.16666667 | P12: =SUM(Q12:T12) -> 2 | Q12: =C12+J12 -> 1 | R12: =D12+K12 -> 1 | S12: =E12+L12 -> 0 | T12: =F12+M12 -> 0
A13: 0.20833333 | B13: =SUM(C13:F13) -> 0 | C13: 0 | D13: 0 | E13: 0 | F13: 0 | H13: 0.20833333 | I13: =SUM(J13:M13) -> 0 | J13: 0 | K13: 0 | L13: 0 | M13: 0 | O13: 0.20833333 | P13: =SUM(Q13:T13) -> 0 | Q13: =C13+J13 -> 0 | R13: =D13+K13 -> 0 | S13: =E13+L13 -> 0 | T13: =F13+M13 -> 0
A14: 0.25 | B14: =SUM(C14:F14) -> 1 | C14: 1 | D14: 0 | E14: 0 | F14: 0 | H14: 0.25 | I14: =SUM(J14:M14) -> 0 | J14: 0 | K14: 0 | L14: 0 | M14: 0 | O14: 0.25 | P14: =SUM(Q14:T14) -> 1 | Q14: =C14+J14 -> 1 | R14: =D14+K14 -> 0 | S14: =E14+L14 -> 0 | T14: =F14+M14 -> 0
A15: 0.29166667 | B15: =SUM(C15:F15) -> 4 | C15: 3 | D15: 1 | E15: 0 | F15: 0 | H15: 0.29166667 | I15: =SUM(J15:M15) -> 0 | J15: 0 | K15: 0 | L15: 0 | M15: 0 | O15: 0.29166667 | P15: =SUM(Q15:T15) -> 4 | Q15: =C15+J15 -> 3 | R15: =D15+K15 -> 1 | S15: =E15+L15 -> 0 | T15: =F15+M15 -> 0
A16: 0.33333333 | B16: =SUM(C16:F16) -> 2 | C16: 0 | D16: 2 | E16: 0 | F16: 0 | H16: 0.33333333 | I16: =SUM(J16:M16) -> 1 | J16: 1 | K16: 0 | L16: 0 | M16: 0 | O16: 0.33333333 | P16: =SUM(Q16:T16) -> 3 | Q16: =C16+J16 -> 1 | R16: =D16+K16 -> 2 | S16: =E16+L16 -> 0 | T16: =F16+M16 -> 0
A17: 0.375 | B17: =SUM(C17:F17) -> 9 | C17: 7 | D17: 2 | E17: 0 | F17: 0 | H17: 0.375 | I17: =SUM(J17:M17) -> 4 | J17: 4 | K17: 0 | L17: 0 | M17: 0 | O17: 0.375 | P17: =SUM(Q17:T17) -> 13 | Q17: =C17+J17 -> 11 | R17: =D17+K17 -> 2 | S17: =E17+L17 -> 0 | T17: =F17+M17 -> 0
A18: 0.41666667 | B18: =SUM(C18:F18) -> 21 | C18: 17 | D18: 4 | E18: 0 | F18: 0 | H18: 0.41666667 | I18: =SUM(J18:M18) -> 15 | J18: 15 | K18: 0 | L18: 0 | M18: 0 | O18: 0.41666667 | P18: =SUM(Q18:T18) -> 36 | Q18: =C18+J18 -> 32 | R18: =D18+K18 -> 4 | S18: =E18+L18 -> 0 | T18: =F18+M18 -> 0
A19: 0.45833333 | B19: =SUM(C19:F19) -> 11 | C19: 8 | D19: 3 | E19: 0 | F19: 0 | H19: 0.45833333 | I19: =SUM(J19:M19) -> 19 | J19: 19 | K19: 0 | L19: 0 | M19: 0 | O19: 0.45833333 | P19: =SUM(Q19:T19) -> 30 | Q19: =C19+J19 -> 27 | R19: =D19+K19 -> 3 | S19: =E19+L19 -> 0 | T19: =F19+M19 -> 0
... A31: 0.95833333 | B31: =SUM(C31:F31) -> 1 | C31: 1 | D31: 0 | E31: 0 | F31: 0 | H31: 0.95833333 | I31: =SUM(J31:M31) -> 1 | J31: 1 | K31: 0 | L31: 0 | M31: 0 | O31: 0.95833333 | P31: =SUM(Q31:T31) -> 2 | Q31: =C31+J31 -> 2 | R31: =D31+K31 -> 0 | S31: =E31+L31 -> 0 | T31: =F31+M31 -> 0
A33: Total | H33: Total | O33: Total
A34: 12H(7-19) | B34: =SUM(B15:B26) -> 178 | C34: =SUM(C15:C26) -> 137 | D34: =SUM(D15:D26) -> 40 | E34: =SUM(E15:E26) -> 0 | F34: =SUM(F15:F26) -> 1 | H34: 12H(7-19) | I34: =SUM(I15:I26) -> 172 | J34: =SUM(J15:J26) -> 166 | K34: =SUM(K15:K26) -> 6 | L34: =SUM(L15:L26) -> 0 | M34: =SUM(M15:M26) -> 0 | O34: 12H(7-19) | P34: =SUM(P15:P26) -> 350 | Q34: =SUM(Q15:Q26) -> 303 | R34: =SUM(R15:R26) -> 46 | S34: =SUM(S15:S26) -> 0 | T34: =SUM(T15:T26) -> 1
A35: 16H(6-22) | B35: =SUM(B14:B29) -> 205 | C35: =SUM(C14:C29) -> 157 | D35: =SUM(D14:D29) -> 47 | E35: =SUM(E14:E29) -> 0 | F35: =SUM(F14:F29) -> 1 | H35: 16H(6-22) | I35: =SUM(I14:I29) -> 202 | J35: =SUM(J14:J29) -> 195 | K35: =SUM(K14:K29) -> 7 | L35: =SUM(L14:L29) -> 0 | M35: =SUM(M14:M29) -> 0 | O35: 16H(6-22) | P35: =SUM(P14:P29) -> 407 | Q35: =SUM(Q14:Q29) -> 352 | R35: =SUM(R14:R29) -> 54 | S35: =SUM(S14:S29) -> 0 | T35: =SUM(T14:T29) -> 1
A36: 18H(6-24) | B36: =SUM(B14:B31) -> 209 | C36: =SUM(C14:C31) -> 160 | D36: =SUM(D14:D31) -> 48 | E36: =SUM(E14:E31) -> 0 | F36: =SUM(F14:F31) -> 1 | H36: 18H(6-24) | I36: =SUM(I14:I31) -> 211 | J36: =SUM(J14:J31) -> 204 | K36: =SUM(K14:K31) -> 7 | L36: =SUM(L14:L31) -> 0 | M36: =SUM(M14:M31) -> 0 | O36: 18H(6-24) | P36: =SUM(P14:P31) -> 420 | Q36: =SUM(Q14:Q31) -> 364 | R36: =SUM(R14:R31) -> 55 | S36: =SUM(S14:S31) -> 0 | T36: =SUM(T14:T31) -> 1
A37: 24H(0-24) | B37: =SUM(B8:B31) -> 218 | C37: =SUM(C8:C31) -> 164 | D37: =SUM(D8:D31) -> 53 | E37: =SUM(E8:E31) -> 0 | F37: =SUM(F8:F31) -> 1 | H37: 24H(0-24) | I37: =SUM(I8:I31) -> 219 | J37: =SUM(J8:J31) -> 212 | K37: =SUM(K8:K31) -> 7 | L37: =SUM(L8:L31) -> 0 | M37: =SUM(M8:M31) -> 0 | O37: 24H(0-24) | P37: =SUM(P8:P31) -> 437 | Q37: =SUM(Q8:Q31) -> 376 | R37: =SUM(R8:R31) -> 60 | S37: =SUM(S8:S31) -> 0 | T37: =SUM(T8:T31) -> 1
A39: AM Peak | B39: =INDEX(($A8:$F19),MATCH(B40,B8:B19,0),1) -> 0.41666667 | C39: =INDEX(($A8:$F19),MATCH(C40,C8:C19,0),1) -> 0.41666667 | D39: =INDEX(($A8:$F19),MATCH(D40,D8:D19,0),1) -> 0.41666667 | E39: =INDEX(($A8:$F19),MATCH(E40,E8:E19,0),1) -> 0 | F39: =INDEX(($A8:$F19),MATCH(F40,F8:F19,0),1) -> 0 | H39: AM Peak | I39: =INDEX(($H8:$M19),MATCH(I40,I8:I19,0),1) -> 0.45833333 | J39: =INDEX(($H8:$M19),MATCH(J40,J8:J19,0),1) -> 0.45833333 | K39: =INDEX(($H8:$M19),MATCH(K40,K8:K19,0),1) -> 0 | L39: =INDEX(($H8:$M19),MATCH(L40,L8:L19,0),1) -> 0 | M39: =INDEX(($H8:$M19),MATCH(M40,M8:M19,0),1) -> 0 | O39: AM Peak | P39: =INDEX(($O8:$T19),MATCH(P40,P8:P19,0),1) -> 0.41666667 | Q39: =INDEX(($O8:$T19),MATCH(Q40,Q8:Q19,0),1) -> 0.41666667 | R39: =INDEX(($O8:$T19),MATCH(R40,R8:R19,0),1) -> 0.41666667 | S39: =INDEX(($O8:$T19),MATCH(S40,S8:S19,0),1) -> 0 | T39: =INDEX(($O8:$T19),MATCH(T40,T8:T19,0),1) -> 0
B40: =MAX(B8:B19) -> 21 | C40: =MAX(C8:C19) -> 17 | D40: =MAX(D8:D19) -> 4 | E40: =MAX(E8:E19) -> 0 | F40: =MAX(F8:F19) -> 0 | I40: =MAX(I8:I19) -> 19 | J40: =MAX(J8:J19) -> 19 | K40: =MAX(K8:K19) -> 0 | L40: =MAX(L8:L19) -> 0 | M40: =MAX(M8:M19) -> 0 | P40: =MAX(P8:P19) -> 36 | Q40: =MAX(Q8:Q19) -> 32 | R40: =MAX(R8:R19) -> 4 | S40: =MAX(S8:S19) -> 0 | T40: =MAX(T8:T19) -> 0
A42: PM Peak | B42: =INDEX(($A20:$F31),MATCH(B43,B20:B31,0),1) -> 0.58333333 | C42: =INDEX(($A20:$F31),MATCH(C43,C20:C31,0),1) -> 0.58333333 | D42: =INDEX(($A20:$F31),MATCH(D43,D20:D31,0),1) -> 0.625 | E42: =INDEX(($A20:$F31),MATCH(E43,E20:E31,0),1) -> 0.5 | F42: =INDEX(($A20:$F31),MATCH(F43,F20:F31,0),1) -> 0.5 | H42: PM Peak | I42: =INDEX(($H20:$M31),MATCH(I43,I20:I31,0),1) -> 0.66666667 | J42: =INDEX(($H20:$M31),MATCH(J43,J20:J31,0),1) -> 0.54166667 | K42: =INDEX(($H20:$M31),MATCH(K43,K20:K31,0),1) -> 0.66666667 | L42: =INDEX(($H20:$M31),MATCH(L43,L20:L31,0),1) -> 0.5 | M42: =INDEX(($H20:$M31),MATCH(M43,M20:M31,0),1) -> 0.5 | O42: PM Peak | P42: =INDEX(($O20:$T31),MATCH(P43,P20:P31,0),1) -> 0.54166667 | Q42: =INDEX(($O20:$T31),MATCH(Q43,Q20:Q31,0),1) -> 0.54166667 | R42: =INDEX(($O20:$T31),MATCH(R43,R20:R31,0),1) -> 0.66666667 | S42: =INDEX(($O20:$T31),MATCH(S43,S20:S31,0),1) -> 0.5 | T42: =INDEX(($O20:$T31),MATCH(T43,T20:T31,0),1) -> 0.5
B43: =MAX(B20:B31) -> 23 | C43: =MAX(C20:C31) -> 20 | D43: =MAX(D20:D31) -> 5 | E43: =MAX(E20:E31) -> 0 | F43: =MAX(F20:F31) -> 1 | I43: =MAX(I20:I31) -> 25 | J43: =MAX(J20:J31) -> 23 | K43: =MAX(K20:K31) -> 3 | L43: =MAX(L20:L31) -> 0 | M43: =MAX(M20:M31) -> 0 | P43: =MAX(P20:P31) -> 46 | Q43: =MAX(Q20:Q31) -> 41 | R43: =MAX(R20:R31) -> 8 | S43: =MAX(S20:S31) -> 0 | T43: =MAX(T20:T31) -> 1
A44: Paul Castle Associates | H44: Paul Castle Associates | O44: Paul Castle Associates

Sheet Class 11 11 2024
A1: ='Flow Summary'!A1 -> Wrexham ATC, Cristionydd Lane
A4: Direction: | B4: ='Flow Summary'!B4 -> Southbound | H4: Direction: | I4: ='Flow Summary'!M4 -> Northbound | O4: Direction: | P4: Total Flow
F6: ='(10-12) Speed Summary'!A13 -> 45607
A7: Hour Beginning | B7: Total Volume | C7: LIGHT | D7: OGV1 | E7: OGV2 | F7: BUS | H7: Hour Beginning | I7: Total Volume | J7: LIGHT | K7: OGV1 | L7: OGV2 | M7: BUS | O7: Hour Beginning | P7: Total Volume | Q7: LIGHT | R7: OGV1 | S7: OGV2 | T7: BUS
A8: 0 | B8: =SUM(C8:F8) -> 1 | C8: 1 | D8: 0 | E8: 0 | F8: 0 | H8: 0 | I8: =SUM(J8:M8) -> 1 | J8: 1 | K8: 0 | L8: 0 | M8: 0 | O8: 0 | P8: =SUM(Q8:T8) -> 2 | Q8: =C8+J8 -> 2 | R8: =D8+K8 -> 0 | S8: =E8+L8 -> 0 | T8: =F8+M8 -> 0
A9: 0.041666667 | B9: =SUM(C9:F9) -> 0 | C9: 0 | D9: 0 | E9: 0 | F9: 0 | H9: 0.041666667 | I9: =SUM(J9:M9) -> 0 | J9: 0 | K9: 0 | L9: 0 | M9: 0 | O9: 0.041666667 | P9: =SUM(Q9:T9) -> 0 | Q9: =C9+J9 -> 0 | R9: =D9+K9 -> 0 | S9: =E9+L9 -> 0 | T9: =F9+M9 -> 0
A10: 0.083333333 | B10: =SUM(C10:F10) -> 0 | C10: 0 | D10: 0 | E10: 0 | F10: 0 | H10: 0.083333333 | I10: =SUM(J10:M10) -> 0 | J10: 0 | K10: 0 | L10: 0 | M10: 0 | O10: 0.083333333 | P10: =SUM(Q10:T10) -> 0 | Q10: =C10+J10 -> 0 | R10: =D10+K10 -> 0 | S10: =E10+L10 -> 0 | T10: =F10+M10 -> 0
A11: 0.125 | B11: =SUM(C11:F11) -> 0 | C11: 0 | D11: 0 | E11: 0 | F11: 0 | H11: 0.125 | I11: =SUM(J11:M11) -> 0 | J11: 0 | K11: 0 | L11: 0 | M11: 0 | O11: 0.125 | P11: =SUM(Q11:T11) -> 0 | Q11: =C11+J11 -> 0 | R11: =D11+K11 -> 0 | S11: =E11+L11 -> 0 | T11: =F11+M11 -> 0
A12: 0.16666667 | B12: =SUM(C12:F12) -> 0 | C12: 0 | D12: 0 | E12: 0 | F12: 0 | H12: 0.16666667 | I12: =SUM(J12:M12) -> 0 | J12: 0 | K12: 0 | L12: 0 | M12: 0 | O12: 0.16666667 | P12: =SUM(Q12:T12) -> 0 | Q12: =C12+J12 -> 0 | R12: =D12+K12 -> 0 | S12: =E12+L12 -> 0 | T12: =F12+M12 -> 0
A13: 0.20833333 | B13: =SUM(C13:F13) -> 4 | C13: 2 | D13: 2 | E13: 0 | F13: 0 | H13: 0.20833333 | I13: =SUM(J13:M13) -> 0 | J13: 0 | K13: 0 | L13: 0 | M13: 0 | O13: 0.20833333 | P13: =SUM(Q13:T13) -> 4 | Q13: =C13+J13 -> 2 | R13: =D13+K13 -> 2 | S13: =E13+L13 -> 0 | T13: =F13+M13 -> 0
A14: 0.25 | B14: =SUM(C14:F14) -> 1 | C14: 0 | D14: 1 | E14: 0 | F14: 0 | H14: 0.25 | I14: =SUM(J14:M14) -> 0 | J14: 0 | K14: 0 | L14: 0 | M14: 0 | O14: 0.25 | P14: =SUM(Q14:T14) -> 1 | Q14: =C14+J14 -> 0 | R14: =D14+K14 -> 1 | S14: =E14+L14 -> 0 | T14: =F14+M14 -> 0
A15: 0.29166667 | B15: =SUM(C15:F15) -> 5 | C15: 4 | D15: 1 | E15: 0 | F15: 0 | H15: 0.29166667 | I15: =SUM(J15:M15) -> 3 | J15: 3 | K15: 0 | L15: 0 | M15: 0 | O15: 0.29166667 | P15: =SUM(Q15:T15) -> 8 | Q15: =C15+J15 -> 7 | R15: =D15+K15 -> 1 | S15: =E15+L15 -> 0 | T15: =F15+M15 -> 0
A16: 0.33333333 | B16: =SUM(C16:F16) -> 14 | C16: 6 | D16: 8 | E16: 0 | F16: 0 | H16: 0.33333333 | I16: =SUM(J16:M16) -> 10 | J16: 10 | K16: 0 | L16: 0 | M16: 0 | O16: 0.33333333 | P16: =SUM(Q16:T16) -> 24 | Q16: =C16+J16 -> 16 | R16: =D16+K16 -> 8 | S16: =E16+L16 -> 0 | T16: =F16+M16 -> 0
A17: 0.375 | B17: =SUM(C17:F17) -> 37 | C17: 27 | D17: 9 | E17: 0 | F17: 1 | H17: 0.375 | I17: =SUM(J17:M17) -> 16 | J17: 14 | K17: 2 | L17: 0 | M17: 0 | O17: 0.375 | P17: =SUM(Q17:T17) -> 53 | Q17: =C17+J17 -> 41 | R17: =D17+K17 -> 11 | S17: =E17+L17 -> 0 | T17: =F17+M17 -> 1
A18: 0.41666667 | B18: =SUM(C18:F18) -> 10 | C18: 7 | D18: 2 | E18: 0 | F18: 1 | H18: 0.41666667 | I18: =SUM(J18:M18) -> 12 | J18: 10 | K18: 2 | L18: 0 | M18: 0 | O18: 0.41666667 | P18: =SUM(Q18:T18) -> 22 | Q18: =C18+J18 -> 17 | R18: =D18+K18 -> 4 | S18: =E18+L18 -> 0 | T18: =F18+M18 -> 1
A19: 0.45833333 | B19: =SUM(C19:F19) -> 14 | C19: 10 | D19: 4 | E19: 0 | F19: 0 | H19: 0.45833333 | I19: =SUM(J19:M19) -> 14 | J19: 10 | K19: 4 | L19: 0 | M19: 0 | O19: 0.45833333 | P19: =SUM(Q19:T19) -> 28 | Q19: =C19+J19 -> 20 | R19: =D19+K19 -> 8 | S19: =E19+L19 -> 0 | T19: =F19+M19 -> 0
... A31: 0.95833333 | B31: =SUM(C31:F31) -> 4 | C31: 2 | D31: 2 | E31: 0 | F31: 0 | H31: 0.95833333 | I31: =SUM(J31:M31) -> 8 | J31: 8 | K31: 0 | L31: 0 | M31: 0 | O31: 0.95833333 | P31: =SUM(Q31:T31) -> 12 | Q31: =C31+J31 -> 10 | R31: =D31+K31 -> 2 | S31: =E31+L31 -> 0 | T31: =F31+M31 -> 0
A33: Total | H33: Total | O33: Total
A34: 12H(7-19) | B34: =SUM(B15:B26) -> 248 | C34: =SUM(C15:C26) -> 180 | D34: =SUM(D15:D26) -> 64 | E34: =SUM(E15:E26) -> 0 | F34: =SUM(F15:F26) -> 4 | H34: 12H(7-19) | I34: =SUM(I15:I26) -> 196 | J34: =SUM(J15:J26) -> 179 | K34: =SUM(K15:K26) -> 16 | L34: =SUM(L15:L26) -> 0 | M34: =SUM(M15:M26) -> 1 | O34: 12H(7-19) | P34: =SUM(P15:P26) -> 444 | Q34: =SUM(Q15:Q26) -> 359 | R34: =SUM(R15:R26) -> 80 | S34: =SUM(S15:S26) -> 0 | T34: =SUM(T15:T26) -> 5
A35: 16H(6-22) | B35: =SUM(B14:B29) -> 281 | C35: =SUM(C14:C29) -> 204 | D35: =SUM(D14:D29) -> 73 | E35: =SUM(E14:E29) -> 0 | F35: =SUM(F14:F29) -> 4 | H35: 16H(6-22) | I35: =SUM(I14:I29) -> 230 | J35: =SUM(J14:J29) -> 212 | K35: =SUM(K14:K29) -> 17 | L35: =SUM(L14:L29) -> 0 | M35: =SUM(M14:M29) -> 1 | O35: 16H(6-22) | P35: =SUM(P14:P29) -> 511 | Q35: =SUM(Q14:Q29) -> 416 | R35: =SUM(R14:R29) -> 90 | S35: =SUM(S14:S29) -> 0 | T35: =SUM(T14:T29) -> 5
A36: 18H(6-24) | B36: =SUM(B14:B31) -> 293 | C36: =SUM(C14:C31) -> 210 | D36: =SUM(D14:D31) -> 79 | E36: =SUM(E14:E31) -> 0 | F36: =SUM(F14:F31) -> 4 | H36: 18H(6-24) | I36: =SUM(I14:I31) -> 246 | J36: =SUM(J14:J31) -> 228 | K36: =SUM(K14:K31) -> 17 | L36: =SUM(L14:L31) -> 0 | M36: =SUM(M14:M31) -> 1 | O36: 18H(6-24) | P36: =SUM(P14:P31) -> 539 | Q36: =SUM(Q14:Q31) -> 438 | R36: =SUM(R14:R31) -> 96 | S36: =SUM(S14:S31) -> 0 | T36: =SUM(T14:T31) -> 5
A37: 24H(0-24) | B37: =SUM(B8:B31) -> 298 | C37: =SUM(C8:C31) -> 213 | D37: =SUM(D8:D31) -> 81 | E37: =SUM(E8:E31) -> 0 | F37: =SUM(F8:F31) -> 4 | H37: 24H(0-24) | I37: =SUM(I8:I31) -> 247 | J37: =SUM(J8:J31) -> 229 | K37: =SUM(K8:K31) -> 17 | L37: =SUM(L8:L31) -> 0 | M37: =SUM(M8:M31) -> 1 | O37: 24H(0-24) | P37: =SUM(P8:P31) -> 545 | Q37: =SUM(Q8:Q31) -> 442 | R37: =SUM(R8:R31) -> 98 | S37: =SUM(S8:S31) -> 0 | T37: =SUM(T8:T31) -> 5
A39: AM Peak | B39: =INDEX(($A8:$F19),MATCH(B40,B8:B19,0),1) -> 0.375 | C39: =INDEX(($A8:$F19),MATCH(C40,C8:C19,0),1) -> 0.375 | D39: =INDEX(($A8:$F19),MATCH(D40,D8:D19,0),1) -> 0.375 | E39: =INDEX(($A8:$F19),MATCH(E40,E8:E19,0),1) -> 0 | F39: =INDEX(($A8:$F19),MATCH(F40,F8:F19,0),1) -> 0.375 | H39: AM Peak | I39: =INDEX(($H8:$M19),MATCH(I40,I8:I19,0),1) -> 0.375 | J39: =INDEX(($H8:$M19),MATCH(J40,J8:J19,0),1) -> 0.375 | K39: =INDEX(($H8:$M19),MATCH(K40,K8:K19,0),1) -> 0.45833333 | L39: =INDEX(($H8:$M19),MATCH(L40,L8:L19,0),1) -> 0 | M39: =INDEX(($H8:$M19),MATCH(M40,M8:M19,0),1) -> 0 | O39: AM Peak | P39: =INDEX(($O8:$T19),MATCH(P40,P8:P19,0),1) -> 0.375 | Q39: =INDEX(($O8:$T19),MATCH(Q40,Q8:Q19,0),1) -> 0.375 | R39: =INDEX(($O8:$T19),MATCH(R40,R8:R19,0),1) -> 0.375 | S39: =INDEX(($O8:$T19),MATCH(S40,S8:S19,0),1) -> 0 | T39: =INDEX(($O8:$T19),MATCH(T40,T8:T19,0),1) -> 0.375
B40: =MAX(B8:B19) -> 37 | C40: =MAX(C8:C19) -> 27 | D40: =MAX(D8:D19) -> 9 | E40: =MAX(E8:E19) -> 0 | F40: =MAX(F8:F19) -> 1 | I40: =MAX(I8:I19) -> 16 | J40: =MAX(J8:J19) -> 14 | K40: =MAX(K8:K19) -> 4 | L40: =MAX(L8:L19) -> 0 | M40: =MAX(M8:M19) -> 0 | P40: =MAX(P8:P19) -> 53 | Q40: =MAX(Q8:Q19) -> 41 | R40: =MAX(R8:R19) -> 11 | S40: =MAX(S8:S19) -> 0 | T40: =MAX(T8:T19) -> 1
A42: PM Peak | B42: =INDEX(($A20:$F31),MATCH(B43,B20:B31,0),1) -> 0.70833333 | C42: =INDEX(($A20:$F31),MATCH(C43,C20:C31,0),1) -> 0.70833333 | D42: =INDEX(($A20:$F31),MATCH(D43,D20:D31,0),1) -> 0.75 | E42: =INDEX(($A20:$F31),MATCH(E43,E20:E31,0),1) -> 0.5 | F42: =INDEX(($A20:$F31),MATCH(F43,F20:F31,0),1) -> 0.5 | H42: PM Peak | I42: =INDEX(($H20:$M31),MATCH(I43,I20:I31,0),1) -> 0.66666667 | J42: =INDEX(($H20:$M31),MATCH(J43,J20:J31,0),1) -> 0.66666667 | K42: =INDEX(($H20:$M31),MATCH(K43,K20:K31,0),1) -> 0.54166667 | L42: =INDEX(($H20:$M31),MATCH(L43,L20:L31,0),1) -> 0.5 | M42: =INDEX(($H20:$M31),MATCH(M43,M20:M31,0),1) -> 0.5 | O42: PM Peak | P42: =INDEX(($O20:$T31),MATCH(P43,P20:P31,0),1) -> 0.66666667 | Q42: =INDEX(($O20:$T31),MATCH(Q43,Q20:Q31,0),1) -> 0.66666667 | R42: =INDEX(($O20:$T31),MATCH(R43,R20:R31,0),1) -> 0.75 | S42: =INDEX(($O20:$T31),MATCH(S43,S20:S31,0),1) -> 0.5 | T42: =INDEX(($O20:$T31),MATCH(T43,T20:T31,0),1) -> 0.5
B43: =MAX(B20:B31) -> 32 | C43: =MAX(C20:C31) -> 24 | D43: =MAX(D20:D31) -> 12 | E43: =MAX(E20:E31) -> 0 | F43: =MAX(F20:F31) -> 1 | I43: =MAX(I20:I31) -> 32 | J43: =MAX(J20:J31) -> 32 | K43: =MAX(K20:K31) -> 2 | L43: =MAX(L20:L31) -> 0 | M43: =MAX(M20:M31) -> 1 | P43: =MAX(P20:P31) -> 56 | Q43: =MAX(Q20:Q31) -> 51 | R43: =MAX(R20:R31) -> 13 | S43: =MAX(S20:S31) -> 0 | T43: =MAX(T20:T31) -> 2
A44: Paul Castle Associates | H44: Paul Castle Associates | O44: Paul Castle Associates

Sheet Class 12 11 2024
A1: ='Flow Summary'!A1 -> Wrexham ATC, Cristionydd Lane
A4: Direction: | B4: ='Flow Summary'!B4 -> Southbound | H4: Direction: | I4: ='Flow Summary'!M4 -> Northbound | O4: Direction: | P4: Total Flow
F6: ='(10-12) Speed Summary'!A14 -> 45608
A7: Hour Beginning | B7: Total Volume | C7: LIGHT | D7: OGV1 | E7: OGV2 | F7: BUS | H7: Hour Beginning | I7: Total Volume | J7: LIGHT | K7: OGV1 | L7: OGV2 | M7: BUS | O7: Hour Beginning | P7: Total Volume | Q7: LIGHT | R7: OGV1 | S7: OGV2 | T7: BUS
A8: 0 | B8: =SUM(C8:F8) -> 1 | C8: 1 | D8: 0 | E8: 0 | F8: 0 | H8: 0 | I8: =SUM(J8:M8) -> 1 | J8: 1 | K8: 0 | L8: 0 | M8: 0 | O8: 0 | P8: =SUM(Q8:T8) -> 2 | Q8: =C8+J8 -> 2 | R8: =D8+K8 -> 0 | S8: =E8+L8 -> 0 | T8: =F8+M8 -> 0
A9: 0.041666667 | B9: =SUM(C9:F9) -> 0 | C9: 0 | D9: 0 | E9: 0 | F9: 0 | H9: 0.041666667 | I9: =SUM(J9:M9) -> 1 | J9: 1 | K9: 0 | L9: 0 | M9: 0 | O9: 0.041666667 | P9: =SUM(Q9:T9) -> 1 | Q9: =C9+J9 -> 1 | R9: =D9+K9 -> 0 | S9: =E9+L9 -> 0 | T9: =F9+M9 -> 0
A10: 0.083333333 | B10: =SUM(C10:F10) -> 0 | C10: 0 | D10: 0 | E10: 0 | F10: 0 | H10: 0.083333333 | I10: =SUM(J10:M10) -> 0 | J10: 0 | K10: 0 | L10: 0 | M10: 0 | O10: 0.083333333 | P10: =SUM(Q10:T10) -> 0 | Q10: =C10+J10 -> 0 | R10: =D10+K10 -> 0 | S10: =E10+L10 -> 0 | T10: =F10+M10 -> 0
A11: 0.125 | B11: =SUM(C11:F11) -> 1 | C11: 1 | D11: 0 | E11: 0 | F11: 0 | H11: 0.125 | I11: =SUM(J11:M11) -> 0 | J11: 0 | K11: 0 | L11: 0 | M11: 0 | O11: 0.125 | P11: =SUM(Q11:T11) -> 1 | Q11: =C11+J11 -> 1 | R11: =D11+K11 -> 0 | S11: =E11+L11 -> 0 | T11: =F11+M11 -> 0
A12: 0.16666667 | B12: =SUM(C12:F12) -> 0 | C12: 0 | D12: 0 | E12: 0 | F12: 0 | H12: 0.16666667 | I12: =SUM(J12:M12) -> 0 | J12: 0 | K12: 0 | L12: 0 | M12: 0 | O12: 0.16666667 | P12: =SUM(Q12:T12) -> 0 | Q12: =C12+J12 -> 0 | R12: =D12+K12 -> 0 | S12: =E12+L12 -> 0 | T12: =F12+M12 -> 0
A13: 0.20833333 | B13: =SUM(C13:F13) -> 1 | C13: 1 | D13: 0 | E13: 0 | F13: 0 | H13: 0.20833333 | I13: =SUM(J13:M13) -> 0 | J13: 0 | K13: 0 | L13: 0 | M13: 0 | O13: 0.20833333 | P13: =SUM(Q13:T13) -> 1 | Q13: =C13+J13 -> 1 | R13: =D13+K13 -> 0 | S13: =E13+L13 -> 0 | T13: =F13+M13 -> 0
A14: 0.25 | B14: =SUM(C14:F14) -> 1 | C14: 0 | D14: 1 | E14: 0 | F14: 0 | H14: 0.25 | I14: =SUM(J14:M14) -> 1 | J14: 1 | K14: 0 | L14: 0 | M14: 0 | O14: 0.25 | P14: =SUM(Q14:T14) -> 2 | Q14: =C14+J14 -> 1 | R14: =D14+K14 -> 1 | S14: =E14+L14 -> 0 | T14: =F14+M14 -> 0
A15: 0.29166667 | B15: =SUM(C15:F15) -> 7 | C15: 6 | D15: 1 | E15: 0 | F15: 0 | H15: 0.29166667 | I15: =SUM(J15:M15) -> 2 | J15: 2 | K15: 0 | L15: 0 | M15: 0 | O15: 0.29166667 | P15: =SUM(Q15:T15) -> 9 | Q15: =C15+J15 -> 8 | R15: =D15+K15 -> 1 | S15: =E15+L15 -> 0 | T15: =F15+M15 -> 0
A16: 0.33333333 | B16: =SUM(C16:F16) -> 14 | C16: 10 | D16: 4 | E16: 0 | F16: 0 | H16: 0.33333333 | I16: =SUM(J16:M16) -> 11 | J16: 8 | K16: 3 | L16: 0 | M16: 0 | O16: 0.33333333 | P16: =SUM(Q16:T16) -> 25 | Q16: =C16+J16 -> 18 | R16: =D16+K16 -> 7 | S16: =E16+L16 -> 0 | T16: =F16+M16 -> 0
A17: 0.375 | B17: =SUM(C17:F17) -> 39 | C17: 31 | D17: 8 | E17: 0 | F17: 0 | H17: 0.375 | I17: =SUM(J17:M17) -> 22 | J17: 21 | K17: 1 | L17: 0 | M17: 0 | O17: 0.375 | P17: =SUM(Q17:T17) -> 61 | Q17: =C17+J17 -> 52 | R17: =D17+K17 -> 9 | S17: =E17+L17 -> 0 | T17: =F17+M17 -> 0
A18: 0.41666667 | B18: =SUM(C18:F18) -> 20 | C18: 15 | D18: 4 | E18: 0 | F18: 1 | H18: 0.41666667 | I18: =SUM(J18:M18) -> 14 | J18: 13 | K18: 1 | L18: 0 | M18: 0 | O18: 0.41666667 | P18: =SUM(Q18:T18) -> 34 | Q18: =C18+J18 -> 28 | R18: =D18+K18 -> 5 | S18: =E18+L18 -> 0 | T18: =F18+M18 -> 1
A19: 0.45833333 | B19: =SUM(C19:F19) -> 13 | C19: 10 | D19: 3 | E19: 0 | F19: 0 | H19: 0.45833333 | I19: =SUM(J19:M19) -> 13 | J19: 11 | K19: 2 | L19: 0 | M19: 0 | O19: 0.45833333 | P19: =SUM(Q19:T19) -> 26 | Q19: =C19+J19 -> 21 | R19: =D19+K19 -> 5 | S19: =E19+L19 -> 0 | T19: =F19+M19 -> 0
... A31: 0.95833333 | B31: =SUM(C31:F31) -> 2 | C31: 0 | D31: 2 | E31: 0 | F31: 0 | H31: 0.95833333 | I31: =SUM(J31:M31) -> 7 | J31: 7 | K31: 0 | L31: 0 | M31: 0 | O31: 0.95833333 | P31: =SUM(Q31:T31) -> 9 | Q31: =C31+J31 -> 7 | R31: =D31+K31 -> 2 | S31: =E31+L31 -> 0 | T31: =F31+M31 -> 0
A33: Total | H33: Total | O33: Total
A34: 12H(7-19) | B34: =SUM(B15:B26) -> 244 | C34: =SUM(C15:C26) -> 181 | D34: =SUM(D15:D26) -> 61 | E34: =SUM(E15:E26) -> 0 | F34: =SUM(F15:F26) -> 2 | H34: 12H(7-19) | I34: =SUM(I15:I26) -> 230 | J34: =SUM(J15:J26) -> 214 | K34: =SUM(K15:K26) -> 15 | L34: =SUM(L15:L26) -> 1 | M34: =SUM(M15:M26) -> 0 | O34: 12H(7-19) | P34: =SUM(P15:P26) -> 474 | Q34: =SUM(Q15:Q26) -> 395 | R34: =SUM(R15:R26) -> 76 | S34: =SUM(S15:S26) -> 1 | T34: =SUM(T15:T26) -> 2
A35: 16H(6-22) | B35: =SUM(B14:B29) -> 281 | C35: =SUM(C14:C29) -> 206 | D35: =SUM(D14:D29) -> 73 | E35: =SUM(E14:E29) -> 0 | F35: =SUM(F14:F29) -> 2 | H35: 16H(6-22) | I35: =SUM(I14:I29) -> 277 | J35: =SUM(J14:J29) -> 260 | K35: =SUM(K14:K29) -> 16 | L35: =SUM(L14:L29) -> 1 | M35: =SUM(M14:M29) -> 0 | O35: 16H(6-22) | P35: =SUM(P14:P29) -> 558 | Q35: =SUM(Q14:Q29) -> 466 | R35: =SUM(R14:R29) -> 89 | S35: =SUM(S14:S29) -> 1 | T35: =SUM(T14:T29) -> 2
A36: 18H(6-24) | B36: =SUM(B14:B31) -> 290 | C36: =SUM(C14:C31) -> 211 | D36: =SUM(D14:D31) -> 77 | E36: =SUM(E14:E31) -> 0 | F36: =SUM(F14:F31) -> 2 | H36: 18H(6-24) | I36: =SUM(I14:I31) -> 293 | J36: =SUM(J14:J31) -> 276 | K36: =SUM(K14:K31) -> 16 | L36: =SUM(L14:L31) -> 1 | M36: =SUM(M14:M31) -> 0 | O36: 18H(6-24) | P36: =SUM(P14:P31) -> 583 | Q36: =SUM(Q14:Q31) -> 487 | R36: =SUM(R14:R31) -> 93 | S36: =SUM(S14:S31) -> 1 | T36: =SUM(T14:T31) -> 2
A37: 24H(0-24) | B37: =SUM(B8:B31) -> 293 | C37: =SUM(C8:C31) -> 214 | D37: =SUM(D8:D31) -> 77 | E37: =SUM(E8:E31) -> 0 | F37: =SUM(F8:F31) -> 2 | H37: 24H(0-24) | I37: =SUM(I8:I31) -> 295 | J37: =SUM(J8:J31) -> 278 | K37: =SUM(K8:K31) -> 16 | L37: =SUM(L8:L31) -> 1 | M37: =SUM(M8:M31) -> 0 | O37: 24H(0-24) | P37: =SUM(P8:P31) -> 588 | Q37: =SUM(Q8:Q31) -> 492 | R37: =SUM(R8:R31) -> 93 | S37: =SUM(S8:S31) -> 1 | T37: =SUM(T8:T31) -> 2
A39: AM Peak | B39: =INDEX(($A8:$F19),MATCH(B40,B8:B19,0),1) -> 0.375 | C39: =INDEX(($A8:$F19),MATCH(C40,C8:C19,0),1) -> 0.375 | D39: =INDEX(($A8:$F19),MATCH(D40,D8:D19,0),1) -> 0.375 | E39: =INDEX(($A8:$F19),MATCH(E40,E8:E19,0),1) -> 0 | F39: =INDEX(($A8:$F19),MATCH(F40,F8:F19,0),1) -> 0.41666667 | H39: AM Peak | I39: =INDEX(($H8:$M19),MATCH(I40,I8:I19,0),1) -> 0.375 | J39: =INDEX(($H8:$M19),MATCH(J40,J8:J19,0),1) -> 0.375 | K39: =INDEX(($H8:$M19),MATCH(K40,K8:K19,0),1) -> 0.33333333 | L39: =INDEX(($H8:$M19),MATCH(L40,L8:L19,0),1) -> 0 | M39: =INDEX(($H8:$M19),MATCH(M40,M8:M19,0),1) -> 0 | O39: AM Peak | P39: =INDEX(($O8:$T19),MATCH(P40,P8:P19,0),1) -> 0.375 | Q39: =INDEX(($O8:$T19),MATCH(Q40,Q8:Q19,0),1) -> 0.375 | R39: =INDEX(($O8:$T19),MATCH(R40,R8:R19,0),1) -> 0.375 | S39: =INDEX(($O8:$T19),MATCH(S40,S8:S19,0),1) -> 0 | T39: =INDEX(($O8:$T19),MATCH(T40,T8:T19,0),1) -> 0.41666667
B40: =MAX(B8:B19) -> 39 | C40: =MAX(C8:C19) -> 31 | D40: =MAX(D8:D19) -> 8 | E40: =MAX(E8:E19) -> 0 | F40: =MAX(F8:F19) -> 1 | I40: =MAX(I8:I19) -> 22 | J40: =MAX(J8:J19) -> 21 | K40: =MAX(K8:K19) -> 3 | L40: =MAX(L8:L19) -> 0 | M40: =MAX(M8:M19) -> 0 | P40: =MAX(P8:P19) -> 61 | Q40: =MAX(Q8:Q19) -> 52 | R40: =MAX(R8:R19) -> 9 | S40: =MAX(S8:S19) -> 0 | T40: =MAX(T8:T19) -> 1
A42: PM Peak | B42: =INDEX(($A20:$F31),MATCH(B43,B20:B31,0),1) -> 0.70833333 | C42: =INDEX(($A20:$F31),MATCH(C43,C20:C31,0),1) -> 0.70833333 | D42: =INDEX(($A20:$F31),MATCH(D43,D20:D31,0),1) -> 0.70833333 | E42: =INDEX(($A20:$F31),MATCH(E43,E20:E31,0),1) -> 0.5 | F42: =INDEX(($A20:$F31),MATCH(F43,F20:F31,0),1) -> 0.66666667 | H42: PM Peak | I42: =INDEX(($H20:$M31),MATCH(I43,I20:I31,0),1) -> 0.70833333 | J42: =INDEX(($H20:$M31),MATCH(J43,J20:J31,0),1) -> 0.70833333 | K42: =INDEX(($H20:$M31),MATCH(K43,K20:K31,0),1) -> 0.5 | L42: =INDEX(($H20:$M31),MATCH(L43,L20:L31,0),1) -> 0.5 | M42: =INDEX(($H20:$M31),MATCH(M43,M20:M31,0),1) -> 0.5 | O42: PM Peak | P42: =INDEX(($O20:$T31),MATCH(P43,P20:P31,0),1) -> 0.70833333 | Q42: =INDEX(($O20:$T31),MATCH(Q43,Q20:Q31,0),1) -> 0.70833333 | R42: =INDEX(($O20:$T31),MATCH(R43,R20:R31,0),1) -> 0.5 | S42: =INDEX(($O20:$T31),MATCH(S43,S20:S31,0),1) -> 0.5 | T42: =INDEX(($O20:$T31),MATCH(T43,T20:T31,0),1) -> 0.66666667
B43: =MAX(B20:B31) -> 31 | C43: =MAX(C20:C31) -> 22 | D43: =MAX(D20:D31) -> 9 | E43: =MAX(E20:E31) -> 0 | F43: =MAX(F20:F31) -> 1 | I43: =MAX(I20:I31) -> 38 | J43: =MAX(J20:J31) -> 37 | K43: =MAX(K20:K31) -> 3 | L43: =MAX(L20:L31) -> 1 | M43: =MAX(M20:M31) -> 0 | P43: =MAX(P20:P31) -> 69 | Q43: =MAX(Q20:Q31) -> 59 | R43: =MAX(R20:R31) -> 10 | S43: =MAX(S20:S31) -> 1 | T43: =MAX(T20:T31) -> 1
A44: Paul Castle Associates | H44: Paul Castle Associates | O44: Paul Castle Associates

Sheet Speed 06 11 2024
A1: ='Flow Summary'!A1 -> Wrexham ATC, Cristionydd Lane
A4: Direction: | B4: ='Flow Summary'!B4 -> Southbound
Q6: ='(0-24) Speed Summary'!A8 -> 45602
A7: Hour Beginning | B7: Total Volume | C7: 85th Percentile | D7: Mean Average | E7: Standard Deviation | F7: Bin 1 <10mph | G7: Bin 2 10<15 | H7: Bin 3 15<20 | I7: Bin 4 20<25 | J7: Bin 5 25<30 | K7: Bin 6 30<35 | L7: Bin 7 35<40 | M7: Bin 8 40<45 | N7: Bin 9 45<50 | O7: Bin 10 50<55 | P7: Bin 11 55<60 | Q7: Bin 12 >=60
A8: 0 | B8: =SUM(F8:Q8) -> 1 | C8: =IF(E8<>"-",D8+(1.0364*E8),"-") -> - | D8: 8 | E8: - | F8: 1 | G8: 0 | H8: 0 | I8: 0 | J8: 0 | K8: 0 | L8: 0 | M8: 0 | N8: 0 | O8: 0 | P8: 0 | Q8: 0
A9: 0.041666667 | B9: =SUM(F9:Q9) -> 0 | C9: =IF(E9<>"-",D9+(1.0364*E9),"-") -> - | D9: - | E9: - | F9: 0 | G9: 0 | H9: 0 | I9: 0 | J9: 0 | K9: 0 | L9: 0 | M9: 0 | N9: 0 | O9: 0 | P9: 0 | Q9: 0
A10: 0.083333333 | B10: =SUM(F10:Q10) -> 0 | C10: =IF(E10<>"-",D10+(1.0364*E10),"-") -> - | D10: - | E10: - | F10: 0 | G10: 0 | H10: 0 | I10: 0 | J10: 0 | K10: 0 | L10: 0 | M10: 0 | N10: 0 | O10: 0 | P10: 0 | Q10: 0
A11: 0.125 | B11: =SUM(F11:Q11) -> 0 | C11: =IF(E11<>"-",D11+(1.0364*E11),"-") -> - | D11: - | E11: - | F11: 0 | G11: 0 | H11: 0 | I11: 0 | J11: 0 | K11: 0 | L11: 0 | M11: 0 | N11: 0 | O11: 0 | P11: 0 | Q11: 0
A12: 0.16666667 | B12: =SUM(F12:Q12) -> 0 | C12: =IF(E12<>"-",D12+(1.0364*E12),"-") -> - | D12: - | E12: - | F12: 0 | G12: 0 | H12: 0 | I12: 0 | J12: 0 | K12: 0 | L12: 0 | M12: 0 | N12: 0 | O12: 0 | P12: 0 | Q12: 0
A13: 0.20833333 | B13: =SUM(F13:Q13) -> 1 | C13: =IF(E13<>"-",D13+(1.0364*E13),"-") -> - | D13: 32.5 | E13: - | F13: 0 | G13: 0 | H13: 0 | I13: 0 | J13: 0 | K13: 1 | L13: 0 | M13: 0 | N13: 0 | O13: 0 | P13: 0 | Q13: 0
A14: 0.25 | B14: =SUM(F14:Q14) -> 3 | C14: =IF(E14<>"-",D14+(1.0364*E14),"-") -> 38.825162 | D14: 35.833333 | E14: 2.8867513 | F14: 0 | G14: 0 | H14: 0 | I14: 0 | J14: 0 | K14: 1 | L14: 2 | M14: 0 | N14: 0 | O14: 0 | P14: 0 | Q14: 0
A15: 0.29166667 | B15: =SUM(F15:Q15) -> 7 | C15: =IF(E15<>"-",D15+(1.0364*E15),"-") -> 36.448143 | D15: 31.785714 | E15: 4.4986771 | F15: 0 | G15: 0 | H15: 0 | I15: 0 | J15: 3 | K15: 2 | L15: 2 | M15: 0 | N15: 0 | O15: 0 | P15: 0 | Q15: 0
A16: 0.33333333 | B16: =SUM(F16:Q16) -> 11 | C16: =IF(E16<>"-",D16+(1.0364*E16),"-") -> 33.556873 | D16: 31.136364 | E16: 2.3354968 | F16: 0 | G16: 0 | H16: 0 | I16: 0 | J16: 3 | K16: 8 | L16: 0 | M16: 0 | N16: 0 | O16: 0 | P16: 0 | Q16: 0
A17: 0.375 | B17: =SUM(F17:Q17) -> 43 | C17: =IF(E17<>"-",D17+(1.0364*E17),"-") -> 34.256959 | D17: 30.290698 | E17: 3.8269604 | F17: 0 | G17: 0 | H17: 1 | I17: 2 | J17: 14 | K17: 24 | L17: 2 | M17: 0 | N17: 0 | O17: 0 | P17: 0 | Q17: 0
A18: 0.41666667 | B18: =SUM(F18:Q18) -> 16 | C18: =IF(E18<>"-",D18+(1.0364*E18),"-") -> 34.866366 | D18: 27.1875 | E18: 7.4091722 | F18: 0 | G18: 1 | H18: 1 | I18: 5 | J18: 3 | K18: 3 | L18: 3 | M18: 0 | N18: 0 | O18: 0 | P18: 0 | Q18: 0
A19: 0.45833333 | B19: =SUM(F19:Q19) -> 16 | C19: =IF(E19<>"-",D19+(1.0364*E19),"-") -> 33.442081 | D19: 26.5625 | E19: 6.637959 | F19: 0 | G19: 1 | H19: 2 | I19: 2 | J19: 6 | K19: 4 | L19: 1 | M19: 0 | N19: 0 | O19: 0 | P19: 0 | Q19: 0
A20: 0.5 | B20: =SUM(F20:Q20) -> 17 | C20: =IF(E20<>"-",D20+(1.0364*E20),"-") -> 33.703749 | D20: 28.676471 | E20: 4.8507125 | F20: 0 | G20: 0 | H20: 0 | I20: 4 | J20: 7 | K20: 4 | L20: 2 | M20: 0 | N20: 0 | O20: 0 | P20: 0 | Q20: 0
A21: 0.54166667 | B21: =SUM(F21:Q21) -> 17 | C21: =IF(E21<>"-",D21+(1.0364*E21),"-") -> 33.227205 | D21: 26.911765 | E21: 6.0936322 | F21: 0 | G21: 0 | H21: 3 | I21: 2 | J21: 8 | K21: 2 | L21: 2 | M21: 0 | N21: 0 | O21: 0 | P21: 0 | Q21: 0
A22: 0.58333333 | B22: =SUM(F22:Q22) -> 23 | C22: =IF(E22<>"-",D22+(1.0364*E22),"-") -> 42.812893 | D22: 30 | E22: 12.362884 | F22: 0 | G22: 1 | H22: 2 | I22: 6 | J22: 5 | K22: 5 | L22: 1 | M22: 0 | N22: 1 | O22: 0 | P22: 1 | Q22: 1
A23: 0.625 | B23: =SUM(F23:Q23) -> 13 | C23: =IF(E23<>"-",D23+(1.0364*E23),"-") -> 35.046763 | D23: 27.884615 | E23: 6.9106013 | F23: 0 | G23: 1 | H23: 1 | I23: 1 | J23: 4 | K23: 5 | L23: 1 | M23: 0 | N23: 0 | O23: 0 | P23: 0 | Q23: 0
A24: 0.66666667 | B24: =SUM(F24:Q24) -> 25 | C24: =IF(E24<>"-",D24+(1.0364*E24),"-") -> 33.144128 | D24: 25.12 | E24: 7.742308 | F24: 1 | G24: 2 | H24: 2 | I24: 7 | J24: 7 | K24: 3 | L24: 3 | M24: 0 | N24: 0 | O24: 0 | P24: 0 | Q24: 0
A25: 0.70833333 | B25: =SUM(F25:Q25) -> 17 | C25: =IF(E25<>"-",D25+(1.0364*E25),"-") -> 31.533836 | D25: 25.441176 | E25: 5.8786753 | F25: 0 | G25: 1 | H25: 0 | I25: 8 | J25: 6 | K25: 0 | L25: 2 | M25: 0 | N25: 0 | O25: 0 | P25: 0 | Q25: 0
... A30: 0.91666667 | B30: =SUM(F30:Q30) -> 3 | C30: =IF(E30<>"-",D30+(1.0364*E30),"-") -> 41.816992 | D30: 35.833333 | E30: 5.7735027 | F30: 0 | G30: 0 | H30: 0 | I30: 0 | J30: 0 | K30: 2 | L30: 0 | M30: 1 | N30: 0 | O30: 0 | P30: 0 | Q30: 0
A31: 0.95833333 | B31: =SUM(F31:Q31) -> 1 | C31: =IF(E31<>"-",D31+(1.0364*E31),"-") -> - | D31: 32.5 | E31: - | F31: 0 | G31: 0 | H31: 0 | I31: 0 | J31: 0 | K31: 1 | L31: 0 | M31: 0 | N31: 0 | O31: 0 | P31: 0 | Q31: 0
A33: Total
A34: 2H(10-12) | B34: =SUM(B18:B19) -> 32 | C34: =IF(E34<>"-",D34+(1.0364*E34),"-") -> 34.054183 | D34: 26.875 | E34: 6.9270391 | F34: =SUM(F18:F19) -> 0 | G34: =SUM(G18:G19) -> 2 | H34: =SUM(H18:H19) -> 3 | I34: =SUM(I18:I19) -> 7 | J34: =SUM(J18:J19) -> 9 | K34: =SUM(K18:K19) -> 7 | L34: =SUM(L18:L19) -> 4 | M34: =SUM(M18:M19) -> 0 | ... Q34: =SUM(Q18:Q19) -> 0
A35: 2H(14-16) | B35: =SUM(B22:B23) -> 36 | C35: =IF(E35<>"-",D35+(1.0364*E35),"-") -> 40.277879 | D35: 29.236111 | E35: 10.653964 | F35: =SUM(F22:F23) -> 0 | G35: =SUM(G22:G23) -> 2 | H35: =SUM(H22:H23) -> 3 | I35: =SUM(I22:I23) -> 7 | J35: =SUM(J22:J23) -> 9 | K35: =SUM(K22:K23) -> 10 | L35: =SUM(L22:L23) -> 2 | M35: =SUM(M22:M23) -> 0 | ... Q35: =SUM(Q22:Q23) -> 1
A36: 12H(7-19) | B36: =SUM(B15:B26) -> 232 | C36: =IF(E36<>"-",D36+(1.0364*E36),"-") -> 35.439797 | D36: 28.375 | E36: 6.8166701 | F36: =SUM(F15:F26) -> 1 | G36: =SUM(G15:G26) -> 7 | H36: =SUM(H15:H26) -> 13 | I36: =SUM(I15:I26) -> 39 | J36: =SUM(J15:J26) -> 78 | K36: =SUM(K15:K26) -> 70 | L36: =SUM(L15:L26) -> 20 | M36: =SUM(M15:M26) -> 1 | ... Q36: =SUM(Q15:Q26) -> 1
A37: 24H(0-24) | B37: =SUM(B8:B31) -> 290 | C37: =IF(E37<>"-",D37+(1.0364*E37),"-") -> 35.806968 | D37: 28.753448 | E37: 6.8057887 | F37: =SUM(F8:F31) -> 2 | G37: =SUM(G8:G31) -> 7 | H37: =SUM(H8:H31) -> 14 | I37: =SUM(I8:I31) -> 47 | J37: =SUM(J8:J31) -> 94 | K37: =SUM(K8:K31) -> 94 | L37: =SUM(L8:L31) -> 24 | M37: =SUM(M8:M31) -> 3 | ... Q37: =SUM(Q8:Q31) -> 1
A39: AM Peak | B39: =INDEX(($A8:$Q19),MATCH(B40,B8:B19,0),1) -> 0.375 | C39: =INDEX(($A8:$Q19),MATCH(C40,C8:C19,0),1) -> 0.25 | D39: =INDEX(($A8:$Q19),MATCH(D40,D8:D19,0),1) -> 0.25 | E39: =INDEX(($A8:$Q19),MATCH(E40,E8:E19,0),1) -> 0.41666667 | F39: =INDEX(($A8:$Q19),MATCH(F40,F8:F19,0),1) -> 0 | G39: =INDEX(($A8:$Q19),MATCH(G40,G8:G19,0),1) -> 0.41666667 | H39: =INDEX(($A8:$Q19),MATCH(H40,H8:H19,0),1) -> 0.45833333 | I39: =INDEX(($A8:$Q19),MATCH(I40,I8:I19,0),1) -> 0.41666667 | ... Q39: =INDEX(($A8:$Q19),MATCH(Q40,Q8:Q19,0),1) -> 0
B40: =MAX(B8:B19) -> 43 | C40: =MAX(C8:C19) -> 38.825162 | D40: =MAX(D8:D19) -> 35.833333 | E40: =MAX(E8:E19) -> 7.4091722 | F40: =MAX(F8:F19) -> 1 | G40: =MAX(G8:G19) -> 1 | H40: =MAX(H8:H19) -> 2 | I40: =MAX(I8:I19) -> 5 | ... Q40: =MAX(Q8:Q19) -> 0
A42: PM Peak | B42: =INDEX(($A20:$Q31),MATCH(B43,B20:B31,0),1) -> 0.75 | C42: =INDEX(($A20:$Q31),MATCH(C43,C20:C31,0),1) -> 0.58333333 | D42: =INDEX(($A20:$Q31),MATCH(D43,D20:D31,0),1) -> 0.91666667 | E42: =INDEX(($A20:$Q31),MATCH(E43,E20:E31,0),1) -> 0.58333333 | F42: =INDEX(($A20:$Q31),MATCH(F43,F20:F31,0),1) -> 0.66666667 | G42: =INDEX(($A20:$Q31),MATCH(G43,G20:G31,0),1) -> 0.66666667 | H42: =INDEX(($A20:$Q31),MATCH(H43,H20:H31,0),1) -> 0.54166667 | I42: =INDEX(($A20:$Q31),MATCH(I43,I20:I31,0),1) -> 0.70833333 | ... Q42: =INDEX(($A20:$Q31),MATCH(Q43,Q20:Q31,0),1) -> 0.58333333
B43: =MAX(B20:B31) -> 27 | C43: =MAX(C20:C31) -> 42.812893 | D43: =MAX(D20:D31) -> 35.833333 | E43: =MAX(E20:E31) -> 12.362884 | F43: =MAX(F20:F31) -> 1 | G43: =MAX(G20:G31) -> 2 | H43: =MAX(H20:H31) -> 3 | I43: =MAX(I20:I31) -> 8 | ... Q43: =MAX(Q20:Q31) -> 1
A45: Paul Castle Associates
A50: Direction: | B50: ='Flow Summary'!M4 -> Northbound
A53: Hour Beginning | B53: Total Volume | C53: 85th Percentile | D53: Mean Average | E53: Standard Deviation | F53: =F7 -> Bin 1 <10mph | G53: =G7 -> Bin 2 10<15 | H53: =H7 -> Bin 3 15<20 | I53: =I7 -> Bin 4 20<25 | J53: =J7 -> Bin 5 25<30 | K53: =K7 -> Bin 6 30<35 | L53: =L7 -> Bin 7 35<40 | M53: =M7 -> Bin 8 40<45 | ... Q53: =Q7 -> Bin 12 >=60
A54: 0 | B54: =SUM(F54:Q54) -> 1 | C54: =IF(E54<>"-",D54+(1.0364*E54),"-") -> - | D54: 27.5 | E54: - | F54: 0 | G54: 0 | H54: 0 | I54: 0 | J54: 1 | K54: 0 | L54: 0 | M54: 0 | N54: 0 | O54: 0 | P54: 0 | Q54: 0
A55: 0.041666667 | B55: =SUM(F55:Q55) -> 0 | C55: =IF(E55<>"-",D55+(1.0364*E55),"-") -> - | D55: - | E55: - | F55: 0 | G55: 0 | H55: 0 | I55: 0 | J55: 0 | K55: 0 | L55: 0 | M55: 0 | N55: 0 | O55: 0 | P55: 0 | Q55: 0
A56: 0.083333333 | B56: =SUM(F56:Q56) -> 0 | C56: =IF(E56<>"-",D56+(1.0364*E56),"-") -> - | D56: - | E56: - | F56: 0 | G56: 0 | H56: 0 | I56: 0 | J56: 0 | K56: 0 | L56: 0 | M56: 0 | N56: 0 | O56: 0 | P56: 0 | Q56: 0
A57: 0.125 | B57: =SUM(F57:Q57) -> 0 | C57: =IF(E57<>"-",D57+(1.0364*E57),"-") -> - | D57: - | E57: - | F57: 0 | G57: 0 | H57: 0 | I57: 0 | J57: 0 | K57: 0 | L57: 0 | M57: 0 | N57: 0 | O57: 0 | P57: 0 | Q57: 0
A58: 0.16666667 | B58: =SUM(F58:Q58) -> 0 | C58: =IF(E58<>"-",D58+(1.0364*E58),"-") -> - | D58: - | E58: - | F58: 0 | G58: 0 | H58: 0 | I58: 0 | J58: 0 | K58: 0 | L58: 0 | M58: 0 | N58: 0 | O58: 0 | P58: 0 | Q58: 0
A59: 0.20833333 | B59: =SUM(F59:Q59) -> 0 | C59: =IF(E59<>"-",D59+(1.0364*E59),"-") -> - | D59: - | E59: - | F59: 0 | G59: 0 | H59: 0 | I59: 0 | J59: 0 | K59: 0 | L59: 0 | M59: 0 | N59: 0 | O59: 0 | P59: 0 | Q59: 0
A60: 0.25 | B60: =SUM(F60:Q60) -> 0 | C60: =IF(E60<>"-",D60+(1.0364*E60),"-") -> - | D60: - | E60: - | F60: 0 | G60: 0 | H60: 0 | I60: 0 | J60: 0 | K60: 0 | L60: 0 | M60: 0 | N60: 0 | O60: 0 | P60: 0 | Q60: 0
A61: 0.29166667 | B61: =SUM(F61:Q61) -> 6 | C61: =IF(E61<>"-",D61+(1.0364*E61),"-") -> 29.518613 | D61: 24.166667 | E61: 5.1639778 | F61: 0 | G61: 0 | H61: 1 | I61: 3 | J61: 1 | K61: 1 | L61: 0 | M61: 0 | N61: 0 | O61: 0 | P61: 0 | Q61: 0
A62: 0.33333333 | B62: =SUM(F62:Q62) -> 6 | C62: =IF(E62<>"-",D62+(1.0364*E62),"-") -> 25.567535 | D62: 21.666667 | E62: 3.7638633 | F62: 0 | G62: 0 | H62: 2 | I62: 3 | J62: 1 | K62: 0 | L62: 0 | M62: 0 | N62: 0 | O62: 0 | P62: 0 | Q62: 0
A63: 0.375 | B63: =SUM(F63:Q63) -> 13 | C63: =IF(E63<>"-",D63+(1.0364*E63),"-") -> 30.391373 | D63: 25.961538 | E63: 4.2742521 | F63: 0 | G63: 0 | H63: 1 | I63: 4 | J63: 6 | K63: 2 | L63: 0 | M63: 0 | N63: 0 | O63: 0 | P63: 0 | Q63: 0
A64: 0.41666667 | B64: =SUM(F64:Q64) -> 13 | C64: =IF(E64<>"-",D64+(1.0364*E64),"-") -> 29.556428 | D64: 25.576923 | E64: 3.8397382 | F64: 0 | G64: 0 | H64: 1 | I64: 4 | J64: 7 | K64: 1 | L64: 0 | M64: 0 | N64: 0 | O64: 0 | P64: 0 | Q64: 0
A65: 0.45833333 | B65: =SUM(F65:Q65) -> 12 | C65: =IF(E65<>"-",D65+(1.0364*E65),"-") -> 28.493704 | D65: 25 | E65: 3.3709993 | F65: 0 | G65: 0 | H65: 0 | I65: 7 | J65: 4 | K65: 1 | L65: 0 | M65: 0 | N65: 0 | O65: 0 | P65: 0 | Q65: 0
A66: 0.5 | B66: =SUM(F66:Q66) -> 16 | C66: =IF(E66<>"-",D66+(1.0364*E66),"-") -> 27.630468 | D66: 22.21875 | E66: 5.2216496 | F66: 1 | G66: 1 | H66: 0 | I66: 10 | J66: 4 | K66: 0 | L66: 0 | M66: 0 | N66: 0 | O66: 0 | P66: 0 | Q66: 0
A67: 0.54166667 | B67: =SUM(F67:Q67) -> 16 | C67: =IF(E67<>"-",D67+(1.0364*E67),"-") -> 28.762038 | D67: 23.125 | E67: 5.4390563 | F67: 0 | G67: 2 | H67: 1 | I67: 7 | J67: 5 | K67: 1 | L67: 0 | M67: 0 | N67: 0 | O67: 0 | P67: 0 | Q67: 0
A68: 0.58333333 | B68: =SUM(F68:Q68) -> 11 | C68: =IF(E68<>"-",D68+(1.0364*E68),"-") -> 27.937448 | D68: 23.409091 | E68: 4.3693145 | F68: 0 | G68: 0 | H68: 3 | I68: 3 | J68: 5 | K68: 0 | L68: 0 | M68: 0 | N68: 0 | O68: 0 | P68: 0 | Q68: 0
A69: 0.625 | B69: =SUM(F69:Q69) -> 22 | C69: =IF(E69<>"-",D69+(1.0364*E69),"-") -> 27.903661 | D69: 22.727273 | E69: 4.9945858 | F69: 0 | G69: 2 | H69: 3 | I69: 10 | J69: 6 | K69: 1 | L69: 0 | M69: 0 | N69: 0 | O69: 0 | P69: 0 | Q69: 0
A70: 0.66666667 | B70: =SUM(F70:Q70) -> 33 | C70: =IF(E70<>"-",D70+(1.0364*E70),"-") -> 26.925992 | D70: 22.348485 | E70: 4.4167381 | F70: 0 | G70: 3 | H70: 4 | I70: 17 | J70: 9 | K70: 0 | L70: 0 | M70: 0 | N70: 0 | O70: 0 | P70: 0 | Q70: 0
A71: 0.70833333 | B71: =SUM(F71:Q71) -> 27 | C71: =IF(E71<>"-",D71+(1.0364*E71),"-") -> 27.893987 | D71: 23.055556 | E71: 4.6684978 | F71: 0 | G71: 2 | H71: 3 | I71: 13 | J71: 8 | K71: 1 | L71: 0 | M71: 0 | N71: 0 | O71: 0 | P71: 0 | Q71: 0
A72: 0.75 | B72: =SUM(F72:Q72) -> 30 | C72: =IF(E72<>"-",D72+(1.0364*E72),"-") -> 28.296996 | D72: 24.333333 | E72: 3.8244525 | F72: 0 | G72: 0 | H72: 3 | I72: 15 | J72: 10 | K72: 2 | L72: 0 | M72: 0 | N72: 0 | O72: 0 | P72: 0 | Q72: 0
... A77: 0.95833333 | B77: =SUM(F77:Q77) -> 3 | C77: =IF(E77<>"-",D77+(1.0364*E77),"-") -> 28.825162 | D77: 25.833333 | E77: 2.8867513 | F77: 0 | G77: 0 | H77: 0 | I77: 1 | J77: 2 | K77: 0 | L77: 0 | M77: 0 | N77: 0 | O77: 0 | P77: 0 | Q77: 0
A79: Total
A80: 2H(10-12) | B80: =SUM(B64:B65) -> 25 | C80: =IF(E80<>"-",D80+(1.0364*E80),"-") -> 28.988575 | D80: 25.3 | E80: 3.5590261 | F80: =SUM(F64:F65) -> 0 | G80: =SUM(G64:G65) -> 0 | H80: =SUM(H64:H65) -> 1 | I80: =SUM(I64:I65) -> 11 | J80: =SUM(J64:J65) -> 11 | K80: =SUM(K64:K65) -> 2 | L80: =SUM(L64:L65) -> 0 | M80: =SUM(M64:M65) -> 0 | ... Q80: =SUM(Q64:Q65) -> 0
A81: 2H(14-16) | B81: =SUM(B68:B69) -> 33 | C81: =IF(E81<>"-",D81+(1.0364*E81),"-") -> 27.864411 | D81: 22.954545 | E81: 4.7374235 | F81: =SUM(F68:F69) -> 0 | G81: =SUM(G68:G69) -> 2 | H81: =SUM(H68:H69) -> 6 | I81: =SUM(I68:I69) -> 13 | J81: =SUM(J68:J69) -> 11 | K81: =SUM(K68:K69) -> 1 | L81: =SUM(L68:L69) -> 0 | M81: =SUM(M68:M69) -> 0 | ... Q81: =SUM(Q68:Q69) -> 0
A82: 12H(7-19) | B82: =SUM(B61:B72) -> 205 | C82: =IF(E82<>"-",D82+(1.0364*E82),"-") -> 28.207405 | D82: 23.502439 | E82: 4.5397205 | F82: =SUM(F61:F72) -> 1 | G82: =SUM(G61:G72) -> 10 | H82: =SUM(H61:H72) -> 22 | I82: =SUM(I61:I72) -> 96 | J82: =SUM(J61:J72) -> 66 | K82: =SUM(K61:K72) -> 10 | L82: =SUM(L61:L72) -> 0 | M82: =SUM(M61:M72) -> 0 | ... Q82: =SUM(Q61:Q72) -> 0
A83: 24H(0-24) | B83: =SUM(B54:B77) -> 270 | C83: =IF(E83<>"-",D83+(1.0364*E83),"-") -> 29.518783 | D83: 24.261111 | E83: 5.073014 | F83: =SUM(F54:F77) -> 1 | G83: =SUM(G54:G77) -> 12 | H83: =SUM(H54:H77) -> 25 | I83: =SUM(I54:I77) -> 119 | J83: =SUM(J54:J77) -> 85 | K83: =SUM(K54:K77) -> 23 | L83: =SUM(L54:L77) -> 4 | M83: =SUM(M54:M77) -> 1 | ... Q83: =SUM(Q54:Q77) -> 0
A85: AM Peak | B85: =INDEX(($A54:$Q65),MATCH(B86,B54:B65,0),1) -> 0.375 | C85: =INDEX(($A54:$Q65),MATCH(C86,C54:C65,0),1) -> 0.375 | D85: =INDEX(($A54:$Q65),MATCH(D86,D54:D65,0),1) -> 0 | E85: =INDEX(($A54:$Q65),MATCH(E86,E54:E65,0),1) -> 0.29166667 | F85: =INDEX(($A54:$Q65),MATCH(F86,F54:F65,0),1) -> 0 | G85: =INDEX(($A54:$Q65),MATCH(G86,G54:G65,0),1) -> 0 | H85: =INDEX(($A54:$Q65),MATCH(H86,H54:H65,0),1) -> 0.33333333 | I85: =INDEX(($A54:$Q65),MATCH(I86,I54:I65,0),1) -> 0.45833333 | ... Q85: =INDEX(($A54:$Q65),MATCH(Q86,Q54:Q65,0),1) -> 0
B86: =MAX(B54:B65) -> 13 | C86: =MAX(C54:C65) -> 30.391373 | D86: =MAX(D54:D65) -> 27.5 | E86: =MAX(E54:E65) -> 5.1639778 | F86: =MAX(F54:F65) -> 0 | G86: =MAX(G54:G65) -> 0 | H86: =MAX(H54:H65) -> 2 | I86: =MAX(I54:I65) -> 7 | ... Q86: =MAX(Q54:Q65) -> 0
A88: PM Peak | B88: =INDEX(($A66:$Q77),MATCH(B89,B66:B77,0),1) -> 0.66666667 | C88: =INDEX(($A66:$Q77),MATCH(C89,C66:C77,0),1) -> 0.875 | D88: =INDEX(($A66:$Q77),MATCH(D89,D66:D77,0),1) -> 0.875 | E88: =INDEX(($A66:$Q77),MATCH(E89,E66:E77,0),1) -> 0.875 | F88: =INDEX(($A66:$Q77),MATCH(F89,F66:F77,0),1) -> 0.5 | G88: =INDEX(($A66:$Q77),MATCH(G89,G66:G77,0),1) -> 0.66666667 | H88: =INDEX(($A66:$Q77),MATCH(H89,H66:H77,0),1) -> 0.66666667 | I88: =INDEX(($A66:$Q77),MATCH(I89,I66:I77,0),1) -> 0.66666667 | ... Q88: =INDEX(($A66:$Q77),MATCH(Q89,Q66:Q77,0),1) -> 0.5
B89: =MAX(B66:B77) -> 33 | C89: =MAX(C66:C77) -> 35.154321 | D89: =MAX(D66:D77) -> 27.5 | E89: =MAX(E66:E77) -> 7.3854895 | F89: =MAX(F66:F77) -> 1 | G89: =MAX(G66:G77) -> 3 | H89: =MAX(H66:H77) -> 4 | I89: =MAX(I66:I77) -> 17 | ... Q89: =MAX(Q66:Q77) -> 0
A91: Paul Castle Associates
A96: Direction: | B96: Total Flow
A99: Hour Beginning | B99: Total Volume | C99: 85th Percentile | D99: Mean Average | E99: Standard Deviation | F99: =F7 -> Bin 1 <10mph | G99: =G7 -> Bin 2 10<15 | H99: =H7 -> Bin 3 15<20 | I99: =I7 -> Bin 4 20<25 | J99: =J7 -> Bin 5 25<30 | K99: =K7 -> Bin 6 30<35 | L99: =L7 -> Bin 7 35<40 | M99: =M7 -> Bin 8 40<45 | ... Q99: =Q7 -> Bin 12 >=60
A100: 0 | B100: =SUM(F100:Q100) -> 2 | C100: =IF(E100<>"-",D100+(1.0364*E100),"-") -> 32.040487 | D100: 17.75 | E100: 13.788582 | F100: =F54+F8 -> 1 | G100: =G54+G8 -> 0 | H100: =H54+H8 -> 0 | I100: =I54+I8 -> 0 | J100: =J54+J8 -> 1 | K100: =K54+K8 -> 0 | L100: =L54+L8 -> 0 | M100: =M54+M8 -> 0 | ... Q100: =Q54+Q8 -> 0
A101: 0.041666667 | B101: =SUM(F101:Q101) -> 0 | C101: =IF(E101<>"-",D101+(1.0364*E101),"-") -> - | D101: - | E101: - | F101: =F55+F9 -> 0 | G101: =G55+G9 -> 0 | H101: =H55+H9 -> 0 | I101: =I55+I9 -> 0 | J101: =J55+J9 -> 0 | K101: =K55+K9 -> 0 | L101: =L55+L9 -> 0 | M101: =M55+M9 -> 0 | ... Q101: =Q55+Q9 -> 0
A102: 0.083333333 | B102: =SUM(F102:Q102) -> 0 | C102: =IF(E102<>"-",D102+(1.0364*E102),"-") -> - | D102: - | E102: - | F102: =F56+F10 -> 0 | G102: =G56+G10 -> 0 | H102: =H56+H10 -> 0 | I102: =I56+I10 -> 0 | J102: =J56+J10 -> 0 | K102: =K56+K10 -> 0 | L102: =L56+L10 -> 0 | M102: =M56+M10 -> 0 | ... Q102: =Q56+Q10 -> 0
A103: 0.125 | B103: =SUM(F103:Q103) -> 0 | C103: =IF(E103<>"-",D103+(1.0364*E103),"-") -> - | D103: - | E103: - | F103: =F57+F11 -> 0 | G103: =G57+G11 -> 0 | H103: =H57+H11 -> 0 | I103: =I57+I11 -> 0 | J103: =J57+J11 -> 0 | K103: =K57+K11 -> 0 | L103: =L57+L11 -> 0 | M103: =M57+M11 -> 0 | ... Q103: =Q57+Q11 -> 0
A104: 0.16666667 | B104: =SUM(F104:Q104) -> 0 | C104: =IF(E104<>"-",D104+(1.0364*E104),"-") -> - | D104: - | E104: - | F104: =F58+F12 -> 0 | G104: =G58+G12 -> 0 | H104: =H58+H12 -> 0 | I104: =I58+I12 -> 0 | J104: =J58+J12 -> 0 | K104: =K58+K12 -> 0 | L104: =L58+L12 -> 0 | M104: =M58+M12 -> 0 | ... Q104: =Q58+Q12 -> 0
A105: 0.20833333 | B105: =SUM(F105:Q105) -> 1 | C105: =IF(E105<>"-",D105+(1.0364*E105),"-") -> - | D105: 32.5 | E105: - | F105: =F59+F13 -> 0 | G105: =G59+G13 -> 0 | H105: =H59+H13 -> 0 | I105: =I59+I13 -> 0 | J105: =J59+J13 -> 0 | K105: =K59+K13 -> 1 | L105: =L59+L13 -> 0 | M105: =M59+M13 -> 0 | ... Q105: =Q59+Q13 -> 0
A106: 0.25 | B106: =SUM(F106:Q106) -> 3 | C106: =IF(E106<>"-",D106+(1.0364*E106),"-") -> 38.825162 | D106: 35.833333 | E106: 2.8867513 | F106: =F60+F14 -> 0 | G106: =G60+G14 -> 0 | H106: =H60+H14 -> 0 | I106: =I60+I14 -> 0 | J106: =J60+J14 -> 0 | K106: =K60+K14 -> 1 | L106: =L60+L14 -> 2 | M106: =M60+M14 -> 0 | ... Q106: =Q60+Q14 -> 0
A107: 0.29166667 | B107: =SUM(F107:Q107) -> 13 | C107: =IF(E107<>"-",D107+(1.0364*E107),"-") -> 34.56138 | D107: 28.269231 | E107: 6.0711592 | F107: =F61+F15 -> 0 | G107: =G61+G15 -> 0 | H107: =H61+H15 -> 1 | I107: =I61+I15 -> 3 | J107: =J61+J15 -> 4 | K107: =K61+K15 -> 3 | L107: =L61+L15 -> 2 | M107: =M61+M15 -> 0 | ... Q107: =Q61+Q15 -> 0
A108: 0.33333333 | B108: =SUM(F108:Q108) -> 17 | C108: =IF(E108<>"-",D108+(1.0364*E108),"-") -> 33.432323 | D108: 27.794118 | E108: 5.4401827 | F108: =F62+F16 -> 0 | G108: =G62+G16 -> 0 | H108: =H62+H16 -> 2 | I108: =I62+I16 -> 3 | J108: =J62+J16 -> 4 | K108: =K62+K16 -> 8 | L108: =L62+L16 -> 0 | M108: =M62+M16 -> 0 | ... Q108: =Q62+Q16 -> 0
A109: 0.375 | B109: =SUM(F109:Q109) -> 56 | C109: =IF(E109<>"-",D109+(1.0364*E109),"-") -> 33.752037 | D109: 29.285714 | E109: 4.309458 | F109: =F63+F17 -> 0 | G109: =G63+G17 -> 0 | H109: =H63+H17 -> 2 | I109: =I63+I17 -> 6 | J109: =J63+J17 -> 20 | K109: =K63+K17 -> 26 | L109: =L63+L17 -> 2 | M109: =M63+M17 -> 0 | ... Q109: =Q63+Q17 -> 0
A110: 0.41666667 | B110: =SUM(F110:Q110) -> 29 | C110: =IF(E110<>"-",D110+(1.0364*E110),"-") -> 32.717649 | D110: 26.465517 | E110: 6.0325472 | F110: =F64+F18 -> 0 | G110: =G64+G18 -> 1 | H110: =H64+H18 -> 2 | I110: =I64+I18 -> 9 | J110: =J64+J18 -> 10 | K110: =K64+K18 -> 4 | L110: =L64+L18 -> 3 | M110: =M64+M18 -> 0 | ... Q110: =Q64+Q18 -> 0
A111: 0.45833333 | B111: =SUM(F111:Q111) -> 28 | C111: =IF(E111<>"-",D111+(1.0364*E111),"-") -> 31.543741 | D111: 25.892857 | E111: 5.4524156 | F111: =F65+F19 -> 0 | G111: =G65+G19 -> 1 | H111: =H65+H19 -> 2 | I111: =I65+I19 -> 9 | J111: =J65+J19 -> 10 | K111: =K65+K19 -> 5 | L111: =L65+L19 -> 1 | M111: =M65+M19 -> 0 | ... Q111: =Q65+Q19 -> 0
A112: 0.5 | B112: =SUM(F112:Q112) -> 33 | C112: =IF(E112<>"-",D112+(1.0364*E112),"-") -> 31.701961 | D112: 25.545455 | E112: 5.9402804 | F112: =F66+F20 -> 1 | G112: =G66+G20 -> 1 | H112: =H66+H20 -> 0 | I112: =I66+I20 -> 14 | J112: =J66+J20 -> 11 | K112: =K66+K20 -> 4 | L112: =L66+L20 -> 2 | M112: =M66+M20 -> 0 | ... Q112: =Q66+Q20 -> 0
A113: 0.54166667 | B113: =SUM(F113:Q113) -> 33 | C113: =IF(E113<>"-",D113+(1.0364*E113),"-") -> 31.305107 | D113: 25.075758 | E113: 6.0105652 | F113: =F67+F21 -> 0 | G113: =G67+G21 -> 2 | H113: =H67+H21 -> 4 | I113: =I67+I21 -> 9 | J113: =J67+J21 -> 13 | K113: =K67+K21 -> 3 | L113: =L67+L21 -> 2 | M113: =M67+M21 -> 0 | ... Q113: =Q67+Q21 -> 0
A114: 0.58333333 | B114: =SUM(F114:Q114) -> 34 | C114: =IF(E114<>"-",D114+(1.0364*E114),"-") -> 39.10073 | D114: 27.867647 | E114: 10.83856 | F114: =F68+F22 -> 0 | G114: =G68+G22 -> 1 | H114: =H68+H22 -> 5 | I114: =I68+I22 -> 9 | J114: =J68+J22 -> 10 | K114: =K68+K22 -> 5 | L114: =L68+L22 -> 1 | M114: =M68+M22 -> 0 | ... Q114: =Q68+Q22 -> 1
A115: 0.625 | B115: =SUM(F115:Q115) -> 35 | C115: =IF(E115<>"-",D115+(1.0364*E115),"-") -> 31.08652 | D115: 24.642857 | E115: 6.2173517 | F115: =F69+F23 -> 0 | G115: =G69+G23 -> 3 | H115: =H69+H23 -> 4 | I115: =I69+I23 -> 11 | J115: =J69+J23 -> 10 | K115: =K69+K23 -> 6 | L115: =L69+L23 -> 1 | M115: =M69+M23 -> 0 | ... Q115: =Q69+Q23 -> 0
A116: 0.66666667 | B116: =SUM(F116:Q116) -> 58 | C116: =IF(E116<>"-",D116+(1.0364*E116),"-") -> 29.940954 | D116: 23.543103 | E116: 6.1731482 | F116: =F70+F24 -> 1 | G116: =G70+G24 -> 5 | H116: =H70+H24 -> 6 | I116: =I70+I24 -> 24 | J116: =J70+J24 -> 16 | K116: =K70+K24 -> 3 | L116: =L70+L24 -> 3 | M116: =M70+M24 -> 0 | ... Q116: =Q70+Q24 -> 0
A117: 0.70833333 | B117: =SUM(F117:Q117) -> 44 | C117: =IF(E117<>"-",D117+(1.0364*E117),"-") -> 29.404099 | D117: 23.977273 | E117: 5.2362273 | F117: =F71+F25 -> 0 | G117: =G71+G25 -> 3 | H117: =H71+H25 -> 3 | I117: =I71+I25 -> 21 | J117: =J71+J25 -> 14 | K117: =K71+K25 -> 1 | L117: =L71+L25 -> 2 | M117: =M71+M25 -> 0 | ... Q117: =Q71+Q25 -> 0
... A123: 0.95833333 | B123: =SUM(F123:Q123) -> 4 | C123: =IF(E123<>"-",D123+(1.0364*E123),"-") -> 31.731085 | D123: 27.5 | E123: 4.0824829 | F123: =F77+F31 -> 0 | G123: =G77+G31 -> 0 | H123: =H77+H31 -> 0 | I123: =I77+I31 -> 1 | J123: =J77+J31 -> 2 | K123: =K77+K31 -> 1 | L123: =L77+L31 -> 0 | M123: =M77+M31 -> 0 | ... Q123: =Q77+Q31 -> 0
A125: Total
A126: 2H(10-12) | B126: =SUM(B110:B111) -> 57 | C126: =IF(E126<>"-",D126+(1.0364*E126),"-") -> 32.102842 | D126: 26.184211 | E126: 5.7107602 | F126: =SUM(F110:F111) -> 0 | G126: =SUM(G110:G111) -> 2 | H126: =SUM(H110:H111) -> 4 | I126: =SUM(I110:I111) -> 18 | J126: =SUM(J110:J111) -> 20 | K126: =SUM(K110:K111) -> 9 | L126: =SUM(L110:L111) -> 4 | M126: =SUM(M110:M111) -> 0 | ... Q126: =SUM(Q110:Q111) -> 0
A127: 2H(14-16) | B127: =SUM(B114:B115) -> 69 | C127: =IF(E127<>"-",D127+(1.0364*E127),"-") -> 35.442142 | D127: 26.231884 | E127: 8.8867796 | F127: =SUM(F114:F115) -> 0 | G127: =SUM(G114:G115) -> 4 | H127: =SUM(H114:H115) -> 9 | I127: =SUM(I114:I115) -> 20 | J127: =SUM(J114:J115) -> 20 | K127: =SUM(K114:K115) -> 11 | L127: =SUM(L114:L115) -> 2 | M127: =SUM(M114:M115) -> 0 | ... Q127: =SUM(Q114:Q115) -> 1
A128: 12H(7-19) | B128: =SUM(B107:B118) -> 437 | C128: =IF(E128<>"-",D128+(1.0364*E128),"-") -> 32.659409 | D128: 26.089245 | E128: 6.3394099 | F128: =SUM(F107:F118) -> 2 | G128: =SUM(G107:G118) -> 17 | H128: =SUM(H107:H118) -> 35 | I128: =SUM(I107:I118) -> 135 | J128: =SUM(J107:J118) -> 144 | K128: =SUM(K107:K118) -> 80 | L128: =SUM(L107:L118) -> 20 | M128: =SUM(M107:M118) -> 1 | ... Q128: =SUM(Q107:Q118) -> 1
A129: 24H(0-24) | B129: =SUM(B100:B123) -> 560 | C129: =IF(E129<>"-",D129+(1.0364*E129),"-") -> 33.254278 | D129: 26.5875 | E129: 6.4326304 | F129: =SUM(F100:F123) -> 3 | G129: =SUM(G100:G123) -> 19 | H129: =SUM(H100:H123) -> 39 | I129: =SUM(I100:I123) -> 166 | J129: =SUM(J100:J123) -> 179 | K129: =SUM(K100:K123) -> 117 | L129: =SUM(L100:L123) -> 28 | M129: =SUM(M100:M123) -> 4 | ... Q129: =SUM(Q100:Q123) -> 1
A131: AM Peak | B131: =INDEX(($A100:$Q111),MATCH(B132,B100:B111,0),1) -> 0.375 | C131: =INDEX(($A100:$Q111),MATCH(C132,C100:C111,0),1) -> 0.25 | D131: =INDEX(($A100:$Q111),MATCH(D132,D100:D111,0),1) -> 0.25 | E131: =INDEX(($A100:$Q111),MATCH(E132,E100:E111,0),1) -> 0 | F131: =INDEX(($A100:$Q111),MATCH(F132,F100:F111,0),1) -> 0 | G131: =INDEX(($A100:$Q111),MATCH(G132,G100:G111,0),1) -> 0.41666667 | H131: =INDEX(($A100:$Q111),MATCH(H132,H100:H111,0),1) -> 0.33333333 | I131: =INDEX(($A100:$Q111),MATCH(I132,I100:I111,0),1) -> 0.41666667 | ... Q131: =INDEX(($A100:$Q111),MATCH(Q132,Q100:Q111,0),1) -> 0
B132: =MAX(B100:B111) -> 56 | C132: =MAX(C100:C111) -> 38.825162 | D132: =MAX(D100:D111) -> 35.833333 | E132: =MAX(E100:E111) -> 13.788582 | F132: =MAX(F100:F111) -> 1 | G132: =MAX(G100:G111) -> 1 | H132: =MAX(H100:H111) -> 2 | I132: =MAX(I100:I111) -> 9 | ... Q132: =MAX(Q100:Q111) -> 0
A134: PM Peak | B134: =INDEX(($A112:$Q123),MATCH(B135,B112:B123,0),1) -> 0.66666667 | C134: =INDEX(($A112:$Q123),MATCH(C135,C112:C123,0),1) -> 0.58333333 | D134: =INDEX(($A112:$Q123),MATCH(D135,D112:D123,0),1) -> 0.875 | E134: =INDEX(($A112:$Q123),MATCH(E135,E112:E123,0),1) -> 0.58333333 | F134: =INDEX(($A112:$Q123),MATCH(F135,F112:F123,0),1) -> 0.5 | G134: =INDEX(($A112:$Q123),MATCH(G135,G112:G123,0),1) -> 0.66666667 | H134: =INDEX(($A112:$Q123),MATCH(H135,H112:H123,0),1) -> 0.66666667 | I134: =INDEX(($A112:$Q123),MATCH(I135,I112:I123,0),1) -> 0.66666667 | ... Q134: =INDEX(($A112:$Q123),MATCH(Q135,Q112:Q123,0),1) -> 0.58333333
B135: =MAX(B112:B123) -> 58 | C135: =MAX(C112:C123) -> 39.10073 | D135: =MAX(D112:D123) -> 29.821429 | E135: =MAX(E112:E123) -> 10.83856 | F135: =MAX(F112:F123) -> 1 | G135: =MAX(G112:G123) -> 5 | H135: =MAX(H112:H123) -> 6 | I135: =MAX(I112:I123) -> 24 | ... Q135: =MAX(Q112:Q123) -> 1
A137: Paul Castle Associates

Sheet Speed 07 11 2024
A1: ='Flow Summary'!A1 -> Wrexham ATC, Cristionydd Lane
F3: 0 | G3: 10 | H3: 15 | I3: 20 | J3: 25 | K3: 30 | L3: 35 | M3: 40 | N3: 45 | O3: 50 | P3: 55 | Q3: 60
A4: Direction: | B4: ='Flow Summary'!B4 -> Southbound | F4: 10 | G4: 15 | H4: 20 | I4: 25 | J4: 30 | K4: 35 | L4: 40 | M4: 45 | N4: 50 | O4: 55 | P4: 60 | Q4: 100
F5: 8 | G5: 12.5 | H5: 17.5 | I5: 22.5 | J5: 27.5 | K5: 32.5 | L5: 37.5 | M5: 42.5 | N5: 47.5 | O5: 52.5 | P5: 57.5 | Q5: 65
Q6: ='(0-24) Speed Summary'!A9 -> 45603
A7: Hour Beginning | B7: Total Volume | C7: 85th Percentile | D7: Mean Average | E7: Standard Deviation | F7: Bin 1 <10mph | G7: Bin 2 10<15 | H7: Bin 3 15<20 | I7: Bin 4 20<25 | J7: Bin 5 25<30 | K7: Bin 6 30<35 | L7: Bin 7 35<40 | M7: Bin 8 40<45 | N7: Bin 9 45<50 | O7: Bin 10 50<55 | P7: Bin 11 55<60 | Q7: Bin 12 >=60
A8: 0 | B8: =SUM(F8:Q8) -> 0 | C8: =IF(E8<>"-",D8+(1.0364*E8),"-") -> - | D8: - | E8: - | F8: 0 | G8: 0 | H8: 0 | I8: 0 | J8: 0 | K8: 0 | L8: 0 | M8: 0 | N8: 0 | O8: 0 | P8: 0 | Q8: 0
A9: 0.041666667 | B9: =SUM(F9:Q9) -> 0 | C9: =IF(E9<>"-",D9+(1.0364*E9),"-") -> - | D9: - | E9: - | F9: 0 | G9: 0 | H9: 0 | I9: 0 | J9: 0 | K9: 0 | L9: 0 | M9: 0 | N9: 0 | O9: 0 | P9: 0 | Q9: 0
A10: 0.083333333 | B10: =SUM(F10:Q10) -> 0 | C10: =IF(E10<>"-",D10+(1.0364*E10),"-") -> - | D10: - | E10: - | F10: 0 | G10: 0 | H10: 0 | I10: 0 | J10: 0 | K10: 0 | L10: 0 | M10: 0 | N10: 0 | O10: 0 | P10: 0 | Q10: 0
A11: 0.125 | B11: =SUM(F11:Q11) -> 0 | C11: =IF(E11<>"-",D11+(1.0364*E11),"-") -> - | D11: - | E11: - | F11: 0 | G11: 0 | H11: 0 | I11: 0 | J11: 0 | K11: 0 | L11: 0 | M11: 0 | N11: 0 | O11: 0 | P11: 0 | Q11: 0
A12: 0.16666667 | B12: =SUM(F12:Q12) -> 0 | C12: =IF(E12<>"-",D12+(1.0364*E12),"-") -> - | D12: - | E12: - | F12: 0 | G12: 0 | H12: 0 | I12: 0 | J12: 0 | K12: 0 | L12: 0 | M12: 0 | N12: 0 | O12: 0 | P12: 0 | Q12: 0
A13: 0.20833333 | B13: =SUM(F13:Q13) -> 2 | C13: =IF(E13<>"-",D13+(1.0364*E13),"-") -> 33.664227 | D13: 30 | E13: 3.5355339 | F13: 0 | G13: 0 | H13: 0 | I13: 0 | J13: 1 | K13: 1 | L13: 0 | M13: 0 | N13: 0 | O13: 0 | P13: 0 | Q13: 0
A14: 0.25 | B14: =SUM(F14:Q14) -> 3 | C14: =IF(E14<>"-",D14+(1.0364*E14),"-") -> 32.158496 | D14: 29.166667 | E14: 2.8867513 | F14: 0 | G14: 0 | H14: 0 | I14: 0 | J14: 2 | K14: 1 | L14: 0 | M14: 0 | N14: 0 | O14: 0 | P14: 0 | Q14: 0
A15: 0.29166667 | B15: =SUM(F15:Q15) -> 6 | C15: =IF(E15<>"-",D15+(1.0364*E15),"-") -> 32.134922 | D15: 27.5 | E15: 4.472136 | F15: 0 | G15: 0 | H15: 0 | I15: 2 | J15: 2 | K15: 2 | L15: 0 | M15: 0 | N15: 0 | O15: 0 | P15: 0 | Q15: 0
A16: 0.33333333 | B16: =SUM(F16:Q16) -> 14 | C16: =IF(E16<>"-",D16+(1.0364*E16),"-") -> 33.500788 | D16: 31.071429 | E16: 2.3440362 | F16: 0 | G16: 0 | H16: 0 | I16: 0 | J16: 4 | K16: 10 | L16: 0 | M16: 0 | N16: 0 | O16: 0 | P16: 0 | Q16: 0
A17: 0.375 | B17: =SUM(F17:Q17) -> 36 | C17: =IF(E17<>"-",D17+(1.0364*E17),"-") -> 34.25686 | D17: 29.027778 | E17: 5.0454285 | F17: 0 | G17: 1 | H17: 0 | I17: 6 | J17: 11 | K17: 16 | L17: 2 | M17: 0 | N17: 0 | O17: 0 | P17: 0 | Q17: 0
A18: 0.41666667 | B18: =SUM(F18:Q18) -> 18 | C18: =IF(E18<>"-",D18+(1.0364*E18),"-") -> 35.780425 | D18: 28.055556 | E18: 7.4535599 | F18: 0 | G18: 0 | H18: 1 | I18: 7 | J18: 4 | K18: 3 | L18: 2 | M18: 0 | N18: 1 | O18: 0 | P18: 0 | Q18: 0
A19: 0.45833333 | B19: =SUM(F19:Q19) -> 19 | C19: =IF(E19<>"-",D19+(1.0364*E19),"-") -> 29.821553 | D19: 24.078947 | E19: 5.5409164 | F19: 0 | G19: 2 | H19: 2 | I19: 4 | J19: 10 | K19: 1 | L19: 0 | M19: 0 | N19: 0 | O19: 0 | P19: 0 | Q19: 0
A20: 0.5 | B20: =SUM(F20:Q20) -> 13 | C20: =IF(E20<>"-",D20+(1.0364*E20),"-") -> 36.842566 | D20: 26.730769 | E20: 9.7566545 | F20: 0 | G20: 1 | H20: 3 | I20: 2 | J20: 2 | K20: 3 | L20: 1 | M20: 0 | N20: 1 | O20: 0 | P20: 0 | Q20: 0
A21: 0.54166667 | B21: =SUM(F21:Q21) -> 13 | C21: =IF(E21<>"-",D21+(1.0364*E21),"-") -> 30.870607 | D21: 25.961538 | E21: 4.7366547 | F21: 0 | G21: 0 | H21: 1 | I21: 5 | J21: 4 | K21: 3 | L21: 0 | M21: 0 | N21: 0 | O21: 0 | P21: 0 | Q21: 0
A22: 0.58333333 | B22: =SUM(F22:Q22) -> 21 | C22: =IF(E22<>"-",D22+(1.0364*E22),"-") -> 32.738358 | D22: 25.119048 | E22: 7.3517086 | F22: 0 | G22: 3 | H22: 2 | I22: 4 | J22: 6 | K22: 5 | L22: 1 | M22: 0 | N22: 0 | O22: 0 | P22: 0 | Q22: 0
A23: 0.625 | B23: =SUM(F23:Q23) -> 33 | C23: =IF(E23<>"-",D23+(1.0364*E23),"-") -> 32.912035 | D23: 25.393939 | E23: 7.254048 | F23: 1 | G23: 3 | H23: 0 | I23: 12 | J23: 9 | K23: 6 | L23: 1 | M23: 1 | N23: 0 | O23: 0 | P23: 0 | Q23: 0
A24: 0.66666667 | B24: =SUM(F24:Q24) -> 19 | C24: =IF(E24<>"-",D24+(1.0364*E24),"-") -> 34.865289 | D24: 29.868421 | E24: 4.8213706 | F24: 0 | G24: 0 | H24: 1 | I24: 0 | J24: 9 | K24: 8 | L24: 0 | M24: 1 | N24: 0 | O24: 0 | P24: 0 | Q24: 0
... A31: 0.95833333 | B31: =SUM(F31:Q31) -> 2 | C31: =IF(E31<>"-",D31+(1.0364*E31),"-") -> 33.664227 | D31: 30 | E31: 3.5355339 | F31: 0 | G31: 0 | H31: 0 | I31: 0 | J31: 1 | K31: 1 | L31: 0 | M31: 0 | N31: 0 | O31: 0 | P31: 0 | Q31: 0
A33: Total
A34: 2H(10-12) | B34: =SUM(B18:B19) -> 37 | C34: =IF(E34<>"-",D34+(1.0364*E34),"-") -> 33.015594 | D34: 26.013514 | E34: 6.7561561 | F34: =SUM(F18:F19) -> 0 | G34: =SUM(G18:G19) -> 2 | H34: =SUM(H18:H19) -> 3 | I34: =SUM(I18:I19) -> 11 | J34: =SUM(J18:J19) -> 14 | K34: =SUM(K18:K19) -> 4 | L34: =SUM(L18:L19) -> 2 | M34: =SUM(M18:M19) -> 0 | ... Q34: =SUM(Q18:Q19) -> 0
A35: 2H(14-16) | B35: =SUM(B22:B23) -> 54 | C35: =IF(E35<>"-",D35+(1.0364*E35),"-") -> 32.773901 | D35: 25.287037 | E35: 7.2239133 | F35: =SUM(F22:F23) -> 1 | G35: =SUM(G22:G23) -> 6 | H35: =SUM(H22:H23) -> 2 | I35: =SUM(I22:I23) -> 16 | J35: =SUM(J22:J23) -> 15 | K35: =SUM(K22:K23) -> 11 | L35: =SUM(L22:L23) -> 2 | M35: =SUM(M22:M23) -> 1 | ... Q35: =SUM(Q22:Q23) -> 0
A36: 12H(7-19) | B36: =SUM(B15:B26) -> 248 | C36: =IF(E36<>"-",D36+(1.0364*E36),"-") -> 33.860506 | D36: 27.159274 | E36: 6.4658739 | F36: =SUM(F15:F26) -> 1 | G36: =SUM(G15:G26) -> 12 | H36: =SUM(H15:H26) -> 15 | I36: =SUM(I15:I26) -> 52 | J36: =SUM(J15:J26) -> 88 | K36: =SUM(K15:K26) -> 65 | L36: =SUM(L15:L26) -> 7 | M36: =SUM(M15:M26) -> 6 | ... Q36: =SUM(Q15:Q26) -> 0
A37: 24H(0-24) | B37: =SUM(B8:B31) -> 311 | C37: =IF(E37<>"-",D37+(1.0364*E37),"-") -> 34.824643 | D37: 27.823151 | E37: 6.7555887 | F37: =SUM(F8:F31) -> 1 | G37: =SUM(G8:G31) -> 13 | H37: =SUM(H8:H31) -> 18 | I37: =SUM(I8:I31) -> 58 | J37: =SUM(J8:J31) -> 112 | K37: =SUM(K8:K31) -> 81 | L37: =SUM(L8:L31) -> 13 | M37: =SUM(M8:M31) -> 11 | ... Q37: =SUM(Q8:Q31) -> 0
A39: AM Peak | B39: =INDEX(($A8:$Q19),MATCH(B40,B8:B19,0),1) -> 0.375 | C39: =INDEX(($A8:$Q19),MATCH(C40,C8:C19,0),1) -> 0.41666667 | D39: =INDEX(($A8:$Q19),MATCH(D40,D8:D19,0),1) -> 0.33333333 | E39: =INDEX(($A8:$Q19),MATCH(E40,E8:E19,0),1) -> 0.41666667 | F39: =INDEX(($A8:$Q19),MATCH(F40,F8:F19,0),1) -> 0 | G39: =INDEX(($A8:$Q19),MATCH(G40,G8:G19,0),1) -> 0.45833333 | H39: =INDEX(($A8:$Q19),MATCH(H40,H8:H19,0),1) -> 0.45833333 | I39: =INDEX(($A8:$Q19),MATCH(I40,I8:I19,0),1) -> 0.41666667 | ... Q39: =INDEX(($A8:$Q19),MATCH(Q40,Q8:Q19,0),1) -> 0
B40: =MAX(B8:B19) -> 36 | C40: =MAX(C8:C19) -> 35.780425 | D40: =MAX(D8:D19) -> 31.071429 | E40: =MAX(E8:E19) -> 7.4535599 | F40: =MAX(F8:F19) -> 0 | G40: =MAX(G8:G19) -> 2 | H40: =MAX(H8:H19) -> 2 | I40: =MAX(I8:I19) -> 7 | ... Q40: =MAX(Q8:Q19) -> 0
A42: PM Peak | B42: =INDEX(($A20:$Q31),MATCH(B43,B20:B31,0),1) -> 0.625 | C42: =INDEX(($A20:$Q31),MATCH(C43,C20:C31,0),1) -> 0.875 | D42: =INDEX(($A20:$Q31),MATCH(D43,D20:D31,0),1) -> 0.875 | E42: =INDEX(($A20:$Q31),MATCH(E43,E20:E31,0),1) -> 0.875 | F42: =INDEX(($A20:$Q31),MATCH(F43,F20:F31,0),1) -> 0.625 | G42: =INDEX(($A20:$Q31),MATCH(G43,G20:G31,0),1) -> 0.58333333 | H42: =INDEX(($A20:$Q31),MATCH(H43,H20:H31,0),1) -> 0.70833333 | I42: =INDEX(($A20:$Q31),MATCH(I43,I20:I31,0),1) -> 0.625 | ... Q42: =INDEX(($A20:$Q31),MATCH(Q43,Q20:Q31,0),1) -> 0.5
B43: =MAX(B20:B31) -> 33 | C43: =MAX(C20:C31) -> 45.938765 | D43: =MAX(D20:D31) -> 35.227273 | E43: =MAX(E20:E31) -> 10.335288 | F43: =MAX(F20:F31) -> 1 | G43: =MAX(G20:G31) -> 3 | H43: =MAX(H20:H31) -> 5 | I43: =MAX(I20:I31) -> 12 | ... Q43: =MAX(Q20:Q31) -> 0
A45: Paul Castle Associates
A50: Direction: | B50: ='Flow Summary'!M4 -> Northbound
A53: Hour Beginning | B53: Total Volume | C53: 85th Percentile | D53: Mean Average | E53: Standard Deviation | F53: =F7 -> Bin 1 <10mph | G53: =G7 -> Bin 2 10<15 | H53: =H7 -> Bin 3 15<20 | I53: =I7 -> Bin 4 20<25 | J53: =J7 -> Bin 5 25<30 | K53: =K7 -> Bin 6 30<35 | L53: =L7 -> Bin 7 35<40 | M53: =M7 -> Bin 8 40<45 | ... Q53: =Q7 -> Bin 12 >=60
A54: 0 | B54: =SUM(F54:Q54) -> 2 | C54: =IF(E54<>"-",D54+(1.0364*E54),"-") -> 22.5 | D54: 22.5 | E54: 0 | F54: 0 | G54: 0 | H54: 0 | I54: 2 | J54: 0 | K54: 0 | L54: 0 | M54: 0 | N54: 0 | O54: 0 | P54: 0 | Q54: 0
A55: 0.041666667 | B55: =SUM(F55:Q55) -> 0 | C55: =IF(E55<>"-",D55+(1.0364*E55),"-") -> - | D55: - | E55: - | F55: 0 | G55: 0 | H55: 0 | I55: 0 | J55: 0 | K55: 0 | L55: 0 | M55: 0 | N55: 0 | O55: 0 | P55: 0 | Q55: 0
A56: 0.083333333 | B56: =SUM(F56:Q56) -> 0 | C56: =IF(E56<>"-",D56+(1.0364*E56),"-") -> - | D56: - | E56: - | F56: 0 | G56: 0 | H56: 0 | I56: 0 | J56: 0 | K56: 0 | L56: 0 | M56: 0 | N56: 0 | O56: 0 | P56: 0 | Q56: 0
A57: 0.125 | B57: =SUM(F57:Q57) -> 0 | C57: =IF(E57<>"-",D57+(1.0364*E57),"-") -> - | D57: - | E57: - | F57: 0 | G57: 0 | H57: 0 | I57: 0 | J57: 0 | K57: 0 | L57: 0 | M57: 0 | N57: 0 | O57: 0 | P57: 0 | Q57: 0
A58: 0.16666667 | B58: =SUM(F58:Q58) -> 0 | C58: =IF(E58<>"-",D58+(1.0364*E58),"-") -> - | D58: - | E58: - | F58: 0 | G58: 0 | H58: 0 | I58: 0 | J58: 0 | K58: 0 | L58: 0 | M58: 0 | N58: 0 | O58: 0 | P58: 0 | Q58: 0
A59: 0.20833333 | B59: =SUM(F59:Q59) -> 0 | C59: =IF(E59<>"-",D59+(1.0364*E59),"-") -> - | D59: - | E59: - | F59: 0 | G59: 0 | H59: 0 | I59: 0 | J59: 0 | K59: 0 | L59: 0 | M59: 0 | N59: 0 | O59: 0 | P59: 0 | Q59: 0
A60: 0.25 | B60: =SUM(F60:Q60) -> 0 | C60: =IF(E60<>"-",D60+(1.0364*E60),"-") -> - | D60: - | E60: - | F60: 0 | G60: 0 | H60: 0 | I60: 0 | J60: 0 | K60: 0 | L60: 0 | M60: 0 | N60: 0 | O60: 0 | P60: 0 | Q60: 0
A61: 0.29166667 | B61: =SUM(F61:Q61) -> 4 | C61: =IF(E61<>"-",D61+(1.0364*E61),"-") -> 28.711387 | D61: 23.75 | E61: 4.7871355 | F61: 0 | G61: 0 | H61: 1 | I61: 1 | J61: 2 | K61: 0 | L61: 0 | M61: 0 | N61: 0 | O61: 0 | P61: 0 | Q61: 0
A62: 0.33333333 | B62: =SUM(F62:Q62) -> 6 | C62: =IF(E62<>"-",D62+(1.0364*E62),"-") -> 30.434927 | D62: 25 | E62: 5.2440442 | F62: 0 | G62: 0 | H62: 1 | I62: 2 | J62: 2 | K62: 1 | L62: 0 | M62: 0 | N62: 0 | O62: 0 | P62: 0 | Q62: 0
A63: 0.375 | B63: =SUM(F63:Q63) -> 14 | C63: =IF(E63<>"-",D63+(1.0364*E63),"-") -> 30.642931 | D63: 24.642857 | E63: 5.7893422 | F63: 0 | G63: 1 | H63: 2 | I63: 3 | J63: 6 | K63: 2 | L63: 0 | M63: 0 | N63: 0 | O63: 0 | P63: 0 | Q63: 0
A64: 0.41666667 | B64: =SUM(F64:Q64) -> 11 | C64: =IF(E64<>"-",D64+(1.0364*E64),"-") -> 27.811886 | D64: 24.318182 | E64: 3.3709993 | F64: 0 | G64: 0 | H64: 1 | I64: 5 | J64: 5 | K64: 0 | L64: 0 | M64: 0 | N64: 0 | O64: 0 | P64: 0 | Q64: 0
A65: 0.45833333 | B65: =SUM(F65:Q65) -> 12 | C65: =IF(E65<>"-",D65+(1.0364*E65),"-") -> 27.006908 | D65: 18.833333 | E65: 7.8865055 | F65: 2 | G65: 2 | H65: 3 | I65: 2 | J65: 2 | K65: 1 | L65: 0 | M65: 0 | N65: 0 | O65: 0 | P65: 0 | Q65: 0
A66: 0.5 | B66: =SUM(F66:Q66) -> 15 | C66: =IF(E66<>"-",D66+(1.0364*E66),"-") -> 29.577327 | D66: 24.833333 | E66: 4.5773771 | F66: 0 | G66: 0 | H66: 2 | I66: 6 | J66: 5 | K66: 2 | L66: 0 | M66: 0 | N66: 0 | O66: 0 | P66: 0 | Q66: 0
A67: 0.54166667 | B67: =SUM(F67:Q67) -> 17 | C67: =IF(E67<>"-",D67+(1.0364*E67),"-") -> 27.136482 | D67: 23.088235 | E67: 3.9060662 | F67: 0 | G67: 0 | H67: 4 | I67: 7 | J67: 6 | K67: 0 | L67: 0 | M67: 0 | N67: 0 | O67: 0 | P67: 0 | Q67: 0
A68: 0.58333333 | B68: =SUM(F68:Q68) -> 18 | C68: =IF(E68<>"-",D68+(1.0364*E68),"-") -> 27.921725 | D68: 22.25 | E68: 5.472525 | F68: 1 | G68: 1 | H68: 1 | I68: 11 | J68: 3 | K68: 1 | L68: 0 | M68: 0 | N68: 0 | O68: 0 | P68: 0 | Q68: 0
A69: 0.625 | B69: =SUM(F69:Q69) -> 16 | C69: =IF(E69<>"-",D69+(1.0364*E69),"-") -> 26.922563 | D69: 22.21875 | E69: 4.5386075 | F69: 1 | G69: 0 | H69: 1 | I69: 11 | J69: 3 | K69: 0 | L69: 0 | M69: 0 | N69: 0 | O69: 0 | P69: 0 | Q69: 0
A70: 0.66666667 | B70: =SUM(F70:Q70) -> 35 | C70: =IF(E70<>"-",D70+(1.0364*E70),"-") -> 27.996535 | D70: 23.5 | E70: 4.3386092 | F70: 0 | G70: 1 | H70: 5 | I70: 17 | J70: 10 | K70: 2 | L70: 0 | M70: 0 | N70: 0 | O70: 0 | P70: 0 | Q70: 0
A71: 0.70833333 | B71: =SUM(F71:Q71) -> 33 | C71: =IF(E71<>"-",D71+(1.0364*E71),"-") -> 26.925992 | D71: 22.348485 | E71: 4.4167381 | F71: 0 | G71: 2 | H71: 6 | I71: 17 | J71: 7 | K71: 1 | L71: 0 | M71: 0 | N71: 0 | O71: 0 | P71: 0 | Q71: 0
A72: 0.75 | B72: =SUM(F72:Q72) -> 26 | C72: =IF(E72<>"-",D72+(1.0364*E72),"-") -> 28.582512 | D72: 23.653846 | E72: 4.7555635 | F72: 0 | G72: 0 | H72: 5 | I72: 13 | J72: 6 | K72: 1 | L72: 1 | M72: 0 | N72: 0 | O72: 0 | P72: 0 | Q72: 0
... A77: 0.95833333 | B77: =SUM(F77:Q77) -> 5 | C77: =IF(E77<>"-",D77+(1.0364*E77),"-") -> 25.134922 | D77: 20.5 | E77: 4.472136 | F77: 0 | G77: 1 | H77: 0 | I77: 4 | J77: 0 | K77: 0 | L77: 0 | M77: 0 | N77: 0 | O77: 0 | P77: 0 | Q77: 0
A79: Total
A80: 2H(10-12) | B80: =SUM(B64:B65) -> 23 | C80: =IF(E80<>"-",D80+(1.0364*E80),"-") -> 28.339939 | D80: 21.456522 | E80: 6.6416609 | F80: =SUM(F64:F65) -> 2 | G80: =SUM(G64:G65) -> 2 | H80: =SUM(H64:H65) -> 4 | I80: =SUM(I64:I65) -> 7 | J80: =SUM(J64:J65) -> 7 | K80: =SUM(K64:K65) -> 1 | L80: =SUM(L64:L65) -> 0 | M80: =SUM(M64:M65) -> 0 | ... Q80: =SUM(Q64:Q65) -> 0
A81: 2H(14-16) | B81: =SUM(B68:B69) -> 34 | C81: =IF(E81<>"-",D81+(1.0364*E81),"-") -> 27.395634 | D81: 22.235294 | E81: 4.9791007 | F81: =SUM(F68:F69) -> 2 | G81: =SUM(G68:G69) -> 1 | H81: =SUM(H68:H69) -> 2 | I81: =SUM(I68:I69) -> 22 | J81: =SUM(J68:J69) -> 6 | K81: =SUM(K68:K69) -> 1 | L81: =SUM(L68:L69) -> 0 | M81: =SUM(M68:M69) -> 0 | ... Q81: =SUM(Q68:Q69) -> 0
A82: 12H(7-19) | B82: =SUM(B61:B72) -> 207 | C82: =IF(E82<>"-",D82+(1.0364*E82),"-") -> 28.20509 | D82: 23.089372 | E82: 4.9360457 | F82: =SUM(F61:F72) -> 4 | G82: =SUM(G61:G72) -> 7 | H82: =SUM(H61:H72) -> 32 | I82: =SUM(I61:I72) -> 95 | J82: =SUM(J61:J72) -> 57 | K82: =SUM(K61:K72) -> 11 | L82: =SUM(L61:L72) -> 1 | M82: =SUM(M61:M72) -> 0 | ... Q82: =SUM(Q61:Q72) -> 0
A83: 24H(0-24) | B83: =SUM(B54:B77) -> 279 | C83: =IF(E83<>"-",D83+(1.0364*E83),"-") -> 28.57006 | D83: 23.351254 | E83: 5.0355131 | F83: =SUM(F54:F77) -> 5 | G83: =SUM(G54:G77) -> 9 | H83: =SUM(H54:H77) -> 40 | I83: =SUM(I54:I77) -> 128 | J83: =SUM(J54:J77) -> 77 | K83: =SUM(K54:K77) -> 17 | L83: =SUM(L54:L77) -> 3 | M83: =SUM(M54:M77) -> 0 | ... Q83: =SUM(Q54:Q77) -> 0
A85: AM Peak | B85: =INDEX(($A54:$Q65),MATCH(B86,B54:B65,0),1) -> 0.375 | C85: =INDEX(($A54:$Q65),MATCH(C86,C54:C65,0),1) -> 0.375 | D85: =INDEX(($A54:$Q65),MATCH(D86,D54:D65,0),1) -> 0.33333333 | E85: =INDEX(($A54:$Q65),MATCH(E86,E54:E65,0),1) -> 0.45833333 | F85: =INDEX(($A54:$Q65),MATCH(F86,F54:F65,0),1) -> 0.45833333 | G85: =INDEX(($A54:$Q65),MATCH(G86,G54:G65,0),1) -> 0.45833333 | H85: =INDEX(($A54:$Q65),MATCH(H86,H54:H65,0),1) -> 0.45833333 | I85: =INDEX(($A54:$Q65),MATCH(I86,I54:I65,0),1) -> 0.41666667 | ... Q85: =INDEX(($A54:$Q65),MATCH(Q86,Q54:Q65,0),1) -> 0
B86: =MAX(B54:B65) -> 14 | C86: =MAX(C54:C65) -> 30.642931 | D86: =MAX(D54:D65) -> 25 | E86: =MAX(E54:E65) -> 7.8865055 | F86: =MAX(F54:F65) -> 2 | G86: =MAX(G54:G65) -> 2 | H86: =MAX(H54:H65) -> 3 | I86: =MAX(I54:I65) -> 5 | ... Q86: =MAX(Q54:Q65) -> 0
A88: PM Peak | B88: =INDEX(($A66:$Q77),MATCH(B89,B66:B77,0),1) -> 0.66666667 | C88: =INDEX(($A66:$Q77),MATCH(C89,C66:C77,0),1) -> 0.83333333 | D88: =INDEX(($A66:$Q77),MATCH(D89,D66:D77,0),1) -> 0.83333333 | E88: =INDEX(($A66:$Q77),MATCH(E89,E66:E77,0),1) -> 0.83333333 | F88: =INDEX(($A66:$Q77),MATCH(F89,F66:F77,0),1) -> 0.58333333 | G88: =INDEX(($A66:$Q77),MATCH(G89,G66:G77,0),1) -> 0.70833333 | H88: =INDEX(($A66:$Q77),MATCH(H89,H66:H77,0),1) -> 0.70833333 | I88: =INDEX(($A66:$Q77),MATCH(I89,I66:I77,0),1) -> 0.66666667 | ... Q88: =INDEX(($A66:$Q77),MATCH(Q89,Q66:Q77,0),1) -> 0.5
B89: =MAX(B66:B77) -> 35 | C89: =MAX(C66:C77) -> 32.613057 | D89: =MAX(D66:D77) -> 25.65625 | E89: =MAX(E66:E77) -> 6.7124728 | F89: =MAX(F66:F77) -> 1 | G89: =MAX(G66:G77) -> 2 | H89: =MAX(H66:H77) -> 6 | I89: =MAX(I66:I77) -> 17 | ... Q89: =MAX(Q66:Q77) -> 0
A91: Paul Castle Associates
A96: Direction: | B96: Total Flow
A99: Hour Beginning | B99: Total Volume | C99: 85th Percentile | D99: Mean Average | E99: Standard Deviation | F99: =F7 -> Bin 1 <10mph | G99: =G7 -> Bin 2 10<15 | H99: =H7 -> Bin 3 15<20 | I99: =I7 -> Bin 4 20<25 | J99: =J7 -> Bin 5 25<30 | K99: =K7 -> Bin 6 30<35 | L99: =L7 -> Bin 7 35<40 | M99: =M7 -> Bin 8 40<45 | ... Q99: =Q7 -> Bin 12 >=60
A100: 0 | B100: =SUM(F100:Q100) -> 2 | C100: =IF(E100<>"-",D100+(1.0364*E100),"-") -> 22.5 | D100: 22.5 | E100: 0 | F100: =F54+F8 -> 0 | G100: =G54+G8 -> 0 | H100: =H54+H8 -> 0 | I100: =I54+I8 -> 2 | J100: =J54+J8 -> 0 | K100: =K54+K8 -> 0 | L100: =L54+L8 -> 0 | M100: =M54+M8 -> 0 | ... Q100: =Q54+Q8 -> 0
A101: 0.041666667 | B101: =SUM(F101:Q101) -> 0 | C101: =IF(E101<>"-",D101+(1.0364*E101),"-") -> - | D101: - | E101: - | F101: =F55+F9 -> 0 | G101: =G55+G9 -> 0 | H101: =H55+H9 -> 0 | I101: =I55+I9 -> 0 | J101: =J55+J9 -> 0 | K101: =K55+K9 -> 0 | L101: =L55+L9 -> 0 | M101: =M55+M9 -> 0 | ... Q101: =Q55+Q9 -> 0
A102: 0.083333333 | B102: =SUM(F102:Q102) -> 0 | C102: =IF(E102<>"-",D102+(1.0364*E102),"-") -> - | D102: - | E102: - | F102: =F56+F10 -> 0 | G102: =G56+G10 -> 0 | H102: =H56+H10 -> 0 | I102: =I56+I10 -> 0 | J102: =J56+J10 -> 0 | K102: =K56+K10 -> 0 | L102: =L56+L10 -> 0 | M102: =M56+M10 -> 0 | ... Q102: =Q56+Q10 -> 0
A103: 0.125 | B103: =SUM(F103:Q103) -> 0 | C103: =IF(E103<>"-",D103+(1.0364*E103),"-") -> - | D103: - | E103: - | F103: =F57+F11 -> 0 | G103: =G57+G11 -> 0 | H103: =H57+H11 -> 0 | I103: =I57+I11 -> 0 | J103: =J57+J11 -> 0 | K103: =K57+K11 -> 0 | L103: =L57+L11 -> 0 | M103: =M57+M11 -> 0 | ... Q103: =Q57+Q11 -> 0
A104: 0.16666667 | B104: =SUM(F104:Q104) -> 0 | C104: =IF(E104<>"-",D104+(1.0364*E104),"-") -> - | D104: - | E104: - | F104: =F58+F12 -> 0 | G104: =G58+G12 -> 0 | H104: =H58+H12 -> 0 | I104: =I58+I12 -> 0 | J104: =J58+J12 -> 0 | K104: =K58+K12 -> 0 | L104: =L58+L12 -> 0 | M104: =M58+M12 -> 0 | ... Q104: =Q58+Q12 -> 0
A105: 0.20833333 | B105: =SUM(F105:Q105) -> 2 | C105: =IF(E105<>"-",D105+(1.0364*E105),"-") -> 33.664227 | D105: 30 | E105: 3.5355339 | F105: =F59+F13 -> 0 | G105: =G59+G13 -> 0 | H105: =H59+H13 -> 0 | I105: =I59+I13 -> 0 | J105: =J59+J13 -> 1 | K105: =K59+K13 -> 1 | L105: =L59+L13 -> 0 | M105: =M59+M13 -> 0 | ... Q105: =Q59+Q13 -> 0
A106: 0.25 | B106: =SUM(F106:Q106) -> 3 | C106: =IF(E106<>"-",D106+(1.0364*E106),"-") -> 32.158496 | D106: 29.166667 | E106: 2.8867513 | F106: =F60+F14 -> 0 | G106: =G60+G14 -> 0 | H106: =H60+H14 -> 0 | I106: =I60+I14 -> 0 | J106: =J60+J14 -> 2 | K106: =K60+K14 -> 1 | L106: =L60+L14 -> 0 | M106: =M60+M14 -> 0 | ... Q106: =Q60+Q14 -> 0
