Workbook

Sheet Flow Summary
A1: Wrexham ATC, Cristionydd Lane
A4: Direction: | B4: Southbound | L4: Direction: | M4: Northbound | W4: Direction: | X4: Total Flow
B6: 45602 | C6: =B6+1 -> 45603 | D6: =C6+1 -> 45604 | E6: =D6+1 -> 45605 | F6: =E6+1 -> 45606 | G6: =F6+1 -> 45607 | H6: =G6+1 -> 45608 | M6: =B6 -> 45602 | N6: =C6 -> 45603 | O6: =D6 -> 45604 | P6: =E6 -> 45605 | Q6: =F6 -> 45606 | R6: =G6 -> 45607 | S6: =H6 -> 45608 | X6: =M6 -> 45602 | Y6: =N6 -> 45603 | Z6: =O6 -> 45604 | AA6: =P6 -> 45605 | AB6: =Q6 -> 45606 | AC6: =R6 -> 45607 | AD6: =S6 -> 45608
A7: Hour Beginning | B7: Wed 06/11/2024 | C7: Thu 07/11/2024 | D7: Fri 08/11/2024 | E7: Sat 09/11/2024 | F7: Sun 10/11/2024 | G7: Mon 11/11/2024 | H7: Tue 12/11/2024 | I7: 5-Day Ave. | J7: 7-Day Ave. | L7: Hour Beginning | M7: Wed 06/11/2024 | N7: Thu 07/11/2024 | O7: Fri 08/11/2024 | P7: Sat 09/11/2024 | Q7: Sun 10/11/2024 | R7: Mon 11/11/2024 | S7: Tue 12/11/2024 | T7: 5-Day Ave. | U7: 7-Day Ave. | W7: Hour Beginning | X7: Wed 06/11/2024 | Y7: Thu 07/11/2024 | Z7: Fri 08/11/2024 | AA7: Sat 09/11/2024 | AB7: Sun 10/11/2024 | AC7: Mon 11/11/2024 | AD7: Tue 12/11/2024 | AE7: 5-Day Ave. | AF7: 7-Day Ave.
A8: 0 | B8: ='Class 06 11 2024'!B8 -> 1 | C8: ='Class 07 11 2024'!B8 -> 0 | D8: ='Class 08 11 2024'!B8 -> 0 | E8: ='Class 09 11 2024'!B8 -> 2 | F8: ='Class 10 11 2024'!B8 -> 2 | G8: ='Class 11 11 2024'!B8 -> 1 | H8: ='Class 12 11 2024'!B8 -> 1 | I8: =SUM(IF(WEEKDAY(B$6,2)<6,B8,0),IF(WEEKDAY(C$6,2)<6,C8,0),IF(WEEKDAY(D$6,2)<6,D8,0),IF(WEEKDAY(E$6,2)<6,E8,0),IF(WEEKDAY(F$6,2)<6,F8,0),IF(WEEKDAY(G$6,2)<6,G8,0),IF(WEEKDAY(H$6,2)<6,H8,0))/5 -> 0.6 | J8: =SUM(B8:H8)/7 -> 1 | L8: 0 | M8: ='Class 06 11 2024'!I8 -> 1 | N8: ='Class 07 11 2024'!I8 -> 2 | O8: ='Class 08 11 2024'!I8 -> 2 | P8: ='Class 09 11 2024'!I8 -> 2 | Q8: ='Class 10 11 2024'!I8 -> 4 | R8: ='Class 11 11 2024'!I8 -> 1 | S8: ='Class 12 11 2024'!I8 -> 1 | T8: =SUM(IF(WEEKDAY(M$6,2)<6,M8,0),IF(WEEKDAY(N$6,2)<6,N8,0),IF(WEEKDAY(O$6,2)<6,O8,0),IF(WEEKDAY(P$6,2)<6,P8,0),IF(WEEKDAY(Q$6,2)<6,Q8,0),IF(WEEKDAY(R$6,2)<6,R8,0),IF(WEEKDAY(S$6,2)<6,S8,0))/5 -> 1.4 | U8: =SUM(M8:S8)/7 -> 1.8571429 | W8: 0 | X8: =B8+M8 -> 2 | Y8: =C8+N8 -> 2 | Z8: =D8+O8 -> 2 | AA8: =E8+P8 -> 4 | AB8: =F8+Q8 -> 6 | AC8: =G8+R8 -> 2 | AD8: =H8+S8 -> 2 | AE8: =SUM(IF(WEEKDAY(X$6,2)<6,X8,0),IF(WEEKDAY(Y$6,2)<6,Y8,0),IF(WEEKDAY(Z$6,2)<6,Z8,0),IF(WEEKDAY(AA$6,2)<6,AA8,0),IF(WEEKDAY(AB$6,2)<6,AB8,0),IF(WEEKDAY(AC$6,2)<6,AC8,0),IF(WEEKDAY(AD$6,2)<6,AD8,0))/5 -> 2 | AF8: =SUM(X8:AD8)/7 -> 2.8571429
A9: 0.041666667 | B9: ='Class 06 11 2024'!B9 -> 0 | C9: ='Class 07 11 2024'!B9 -> 0 | D9: ='Class 08 11 2024'!B9 -> 0 | E9: ='Class 09 11 2024'!B9 -> 0 | F9: ='Class 10 11 2024'!B9 -> 4 | G9: ='Class 11 11 2024'!B9 -> 0 | H9: ='Class 12 11 2024'!B9 -> 0 | I9: =SUM(IF(WEEKDAY(B$6,2)<6,B9,0),IF(WEEKDAY(C$6,2)<6,C9,0),IF(WEEKDAY(D$6,2)<6,D9,0),IF(WEEKDAY(E$6,2)<6,E9,0),IF(WEEKDAY(F$6,2)<6,F9,0),IF(WEEKDAY(G$6,2)<6,G9,0),IF(WEEKDAY(H$6,2)<6,H9,0))/5 -> 0 | J9: =SUM(B9:H9)/7 -> 0.57142857 | L9: 0.041666667 | M9: ='Class 06 11 2024'!I9 -> 0 | N9: ='Class 07 11 2024'!I9 -> 0 | O9: ='Class 08 11 2024'!I9 -> 1 | P9: ='Class 09 11 2024'!I9 -> 3 | Q9: ='Class 10 11 2024'!I9 -> 3 | R9: ='Class 11 11 2024'!I9 -> 0 | S9: ='Class 12 11 2024'!I9 -> 1 | T9: =SUM(IF(WEEKDAY(M$6,2)<6,M9,0),IF(WEEKDAY(N$6,2)<6,N9,0),IF(WEEKDAY(O$6,2)<6,O9,0),IF(WEEKDAY(P$6,2)<6,P9,0),IF(WEEKDAY(Q$6,2)<6,Q9,0),IF(WEEKDAY(R$6,2)<6,R9,0),IF(WEEKDAY(S$6,2)<6,S9,0))/5 -> 0.4 | U9: =SUM(M9:S9)/7 -> 1.1428571 | W9: 0.041666667 | X9: =B9+M9 -> 0 | Y9: =C9+N9 -> 0 | Z9: =D9+O9 -> 1 | AA9: =E9+P9 -> 3 | AB9: =F9+Q9 -> 7 | AC9: =G9+R9 -> 0 | AD9: =H9+S9 -> 1 | AE9: =SUM(IF(WEEKDAY(X$6,2)<6,X9,0),IF(WEEKDAY(Y$6,2)<6,Y9,0),IF(WEEKDAY(Z$6,2)<6,Z9,0),IF(WEEKDAY(AA$6,2)<6,AA9,0),IF(WEEKDAY(AB$6,2)<6,AB9,0),IF(WEEKDAY(AC$6,2)<6,AC9,0),IF(WEEKDAY(AD$6,2)<6,AD9,0))/5 -> 0.4 | AF9: =SUM(X9:AD9)/7 -> 1.7142857
A10: 0.083333333 | B10: ='Class 06 11 2024'!B10 -> 0 | C10: ='Class 07 11 2024'!B10 -> 0 | D10: ='Class 08 11 2024'!B10 -> 2 | E10: ='Class 09 11 2024'!B10 -> 0 | F10: ='Class 10 11 2024'!B10 -> 0 | G10: ='Class 11 11 2024'!B10 -> 0 | H10: ='Class 12 11 2024'!B10 -> 0 | I10: =SUM(IF(WEEKDAY(B$6,2)<6,B10,0),IF(WEEKDAY(C$6,2)<6,C10,0),IF(WEEKDAY(D$6,2)<6,D10,0),IF(WEEKDAY(E$6,2)<6,E10,0),IF(WEEKDAY(F$6,2)<6,F10,0),IF(WEEKDAY(G$6,2)<6,G10,0),IF(WEEKDAY(H$6,2)<6,H10,0))/5 -> 0.4 | J10: =SUM(B10:H10)/7 -> 0.28571429 | L10: 0.083333333 | M10: ='Class 06 11 2024'!I10 -> 0 | N10: ='Class 07 11 2024'!I10 -> 0 | O10: ='Class 08 11 2024'!I10 -> 2 | P10: ='Class 09 11 2024'!I10 -> 1 | Q10: ='Class 10 11 2024'!I10 -> 1 | R10: ='Class 11 11 2024'!I10 -> 0 | S10: ='Class 12 11 2024'!I10 -> 0 | T10: =SUM(IF(WEEKDAY(M$6,2)<6,M10,0),IF(WEEKDAY(N$6,2)<6,N10,0),IF(WEEKDAY(O$6,2)<6,O10,0),IF(WEEKDAY(P$6,2)<6,P10,0),IF(WEEKDAY(Q$6,2)<6,Q10,0),IF(WEEKDAY(R$6,2)<6,R10,0),IF(WEEKDAY(S$6,2)<6,S10,0))/5 -> 0.4 | U10: =SUM(M10:S10)/7 -> 0.57142857 | W10: 0.083333333 | X10: =B10+M10 -> 0 | Y10: =C10+N10 -> 0 | Z10: =D10+O10 -> 4 | AA10: =E10+P10 -> 1 | AB10: =F10+Q10 -> 1 | AC10: =G10+R10 -> 0 | AD10: =H10+S10 -> 0 | AE10: =SUM(IF(WEEKDAY(X$6,2)<6,X10,0),IF(WEEKDAY(Y$6,2)<6,Y10,0),IF(WEEKDAY(Z$6,2)<6,Z10,0),IF(WEEKDAY(AA$6,2)<6,AA10,0),IF(WEEKDAY(AB$6,2)<6,AB10,0),IF(WEEKDAY(AC$6,2)<6,AC10,0),IF(WEEKDAY(AD$6,2)<6,AD10,0))/5 -> 0.8 | AF10: =SUM(X10:AD10)/7 -> 0.85714286
A11: 0.125 | B11: ='Class 06 11 2024'!B11 -> 0 | C11: ='Class 07 11 2024'!B11 -> 0 | D11: ='Class 08 11 2024'!B11 -> 0 | E11: ='Class 09 11 2024'!B11 -> 1 | F11: ='Class 10 11 2024'!B11 -> 1 | G11: ='Class 11 11 2024'!B11 -> 0 | H11: ='Class 12 11 2024'!B11 -> 1 | I11: =SUM(IF(WEEKDAY(B$6,2)<6,B11,0),IF(WEEKDAY(C$6,2)<6,C11,0),IF(WEEKDAY(D$6,2)<6,D11,0),IF(WEEKDAY(E$6,2)<6,E11,0),IF(WEEKDAY(F$6,2)<6,F11,0),IF(WEEKDAY(G$6,2)<6,G11,0),IF(WEEKDAY(H$6,2)<6,H11,0))/5 -> 0.2 | J11: =SUM(B11:H11)/7 -> 0.42857143 | L11: 0.125 | M11: ='Class 06 11 2024'!I11 -> 0 | N11: ='Class 07 11 2024'!I11 -> 0 | O11: ='Class 08 11 2024'!I11 -> 0 | P11: ='Class 09 11 2024'!I11 -> 0 | Q11: ='Class 10 11 2024'!I11 -> 0 | R11: ='Class 11 11 2024'!I11 -> 0 | S11: ='Class 12 11 2024'!I11 -> 0 | T11: =SUM(IF(WEEKDAY(M$6,2)<6,M11,0),IF(WEEKDAY(N$6,2)<6,N11,0),IF(WEEKDAY(O$6,2)<6,O11,0),IF(WEEKDAY(P$6,2)<6,P11,0),IF(WEEKDAY(Q$6,2)<6,Q11,0),IF(WEEKDAY(R$6,2)<6,R11,0),IF(WEEKDAY(S$6,2)<6,S11,0))/5 -> 0 | U11: =SUM(M11:S11)/7 -> 0 | W11: 0.125 | X11: =B11+M11 -> 0 | Y11: =C11+N11 -> 0 | Z11: =D11+O11 -> 0 | AA11: =E11+P11 -> 1 | AB11: =F11+Q11 -> 1 | AC11: =G11+R11 -> 0 | AD11: =H11+S11 -> 1 | AE11: =SUM(IF(WEEKDAY(X$6,2)<6,X11,0),IF(WEEKDAY(Y$6,2)<6,Y11,0),IF(WEEKDAY(Z$6,2)<6,Z11,0),IF(WEEKDAY(AA$6,2)<6,AA11,0),IF(WEEKDAY(AB$6,2)<6,AB11,0),IF(WEEKDAY(AC$6,2)<6,AC11,0),IF(WEEKDAY(AD$6,2)<6,AD11,0))/5 -> 0.2 | AF11: =SUM(X11:AD11)/7 -> 0.42857143
A12: 0.16666667 | B12: ='Class 06 11 2024'!B12 -> 0 | C12: ='Class 07 11 2024'!B12 -> 0 | D12: ='Class 08 11 2024'!B12 -> 1 | E12: ='Class 09 11 2024'!B12 -> 0 | F12: ='Class 10 11 2024'!B12 -> 2 | G12: ='Class 11 11 2024'!B12 -> 0 | H12: ='Class 12 11 2024'!B12 -> 0 | I12: =SUM(IF(WEEKDAY(B$6,2)<6,B12,0),IF(WEEKDAY(C$6,2)<6,C12,0),IF(WEEKDAY(D$6,2)<6,D12,0),IF(WEEKDAY(E$6,2)<6,E12,0),IF(WEEKDAY(F$6,2)<6,F12,0),IF(WEEKDAY(G$6,2)<6,G12,0),IF(WEEKDAY(H$6,2)<6,H12,0))/5 -> 0.2 | J12: =SUM(B12:H12)/7 -> 0.42857143 | L12: 0.16666667 | M12: ='Class 06 11 2024'!I12 -> 0 | N12: ='Class 07 11 2024'!I12 -> 0 | O12: ='Class 08 11 2024'!I12 -> 0 | P12: ='Class 09 11 2024'!I12 -> 1 | Q12: ='Class 10 11 2024'!I12 -> 0 | R12: ='Class 11 11 2024'!I12 -> 0 | S12: ='Class 12 11 2024'!I12 -> 0 | T12: =SUM(IF(WEEKDAY(M$6,2)<6,M12,0),IF(WEEKDAY(N$6,2)<6,N12,0),IF(WEEKDAY(O$6,2)<6,O12,0),IF(WEEKDAY(P$6,2)<6,P12,0),IF(WEEKDAY(Q$6,2)<6,Q12,0),IF(WEEKDAY(R$6,2)<6,R12,0),IF(WEEKDAY(S$6,2)<6,S12,0))/5 -> 0 | U12: =SUM(M12:S12)/7 -> 0.14285714 | W12: 0.16666667 | X12: =B12+M12 -> 0 | Y12: =C12+N12 -> 0 | Z12: =D12+O12 -> 1 | AA12: =E12+P12 -> 1 | AB12: =F12+Q12 -> 2 | AC12: =G12+R12 -> 0 | AD12: =H12+S12 -> 0 | AE12: =SUM(IF(WEEKDAY(X$6,2)<6,X12,0),IF(WEEKDAY(Y$6,2)<6,Y12,0),IF(WEEKDAY(Z$6,2)<6,Z12,0),IF(WEEKDAY(AA$6,2)<6,AA12,0),IF(WEEKDAY(AB$6,2)<6,AB12,0),IF(WEEKDAY(AC$6,2)<6,AC12,0),IF(WEEKDAY(AD$6,2)<6,AD12,0))/5 -> 0.2 | AF12: =SUM(X12:AD12)/7 -> 0.57142857
A13: 0.20833333 | B13: ='Class 06 11 2024'!B13 -> 1 | C13: ='Class 07 11 2024'!B13 -> 2 | D13: ='Class 08 11 2024'!B13 -> 1 | E13: ='Class 09 11 2024'!B13 -> 0 | F13: ='Class 10 11 2024'!B13 -> 0 | G13: ='Class 11 11 2024'!B13 -> 4 | H13: ='Class 12 11 2024'!B13 -> 1 | I13: =SUM(IF(WEEKDAY(B$6,2)<6,B13,0),IF(WEEKDAY(C$6,2)<6,C13,0),IF(WEEKDAY(D$6,2)<6,D13,0),IF(WEEKDAY(E$6,2)<6,E13,0),IF(WEEKDAY(F$6,2)<6,F13,0),IF(WEEKDAY(G$6,2)<6,G13,0),IF(WEEKDAY(H$6,2)<6,H13,0))/5 -> 1.8 | J13: =SUM(B13:H13)/7 -> 1.2857143 | L13: 0.20833333 | M13: ='Class 06 11 2024'!I13 -> 0 | N13: ='Class 07 11 2024'!I13 -> 0 | O13: ='Class 08 11 2024'!I13 -> 0 | P13: ='Class 09 11 2024'!I13 -> 1 | Q13: ='Class 10 11 2024'!I13 -> 0 | R13: ='Class 11 11 2024'!I13 -> 0 | S13: ='Class 12 11 2024'!I13 -> 0 | T13: =SUM(IF(WEEKDAY(M$6,2)<6,M13,0),IF(WEEKDAY(N$6,2)<6,N13,0),IF(WEEKDAY(O$6,2)<6,O13,0),IF(WEEKDAY(P$6,2)<6,P13,0),IF(WEEKDAY(Q$6,2)<6,Q13,0),IF(WEEKDAY(R$6,2)<6,R13,0),IF(WEEKDAY(S$6,2)<6,S13,0))/5 -> 0 | U13: =SUM(M13:S13)/7 -> 0.14285714 | W13: 0.20833333 | X13: =B13+M13 -> 1 | Y13: =C13+N13 -> 2 | Z13: =D13+O13 -> 1 | AA13: =E13+P13 -> 1 | AB13: =F13+Q13 -> 0 | AC13: =G13+R13 -> 4 | AD13: =H13+S13 -> 1 | AE13: =SUM(IF(WEEKDAY(X$6,2)<6,X13,0),IF(WEEKDAY(Y$6,2)<6,Y13,0),IF(WEEKDAY(Z$6,2)<6,Z13,0),IF(WEEKDAY(AA$6,2)<6,AA13,0),IF(WEEKDAY(AB$6,2)<6,AB13,0),IF(WEEKDAY(AC$6,2)<6,AC13,0),IF(WEEKDAY(AD$6,2)<6,AD13,0))/5 -> 1.8 | AF13: =SUM(X13:AD13)/7 -> 1.4285714
A14: 0.25 | B14: ='Class 06 11 2024'!B14 -> 3 | C14: ='Class 07 11 2024'!B14 -> 3 | D14: ='Class 08 11 2024'!B14 -> 2 | E14: ='Class 09 11 2024'!B14 -> 5 | F14: ='Class 10 11 2024'!B14 -> 1 | G14: ='Class 11 11 2024'!B14 -> 1 | H14: ='Class 12 11 2024'!B14 -> 1 | I14: =SUM(IF(WEEKDAY(B$6,2)<6,B14,0),IF(WEEKDAY(C$6,2)<6,C14,0),IF(WEEKDAY(D$6,2)<6,D14,0),IF(WEEKDAY(E$6,2)<6,E14,0),IF(WEEKDAY(F$6,2)<6,F14,0),IF(WEEKDAY(G$6,2)<6,G14,0),IF(WEEKDAY(H$6,2)<6,H14,0))/5 -> 2 | J14: =SUM(B14:H14)/7 -> 2.2857143 | L14: 0.25 | M14: ='Class 06 11 2024'!I14 -> 0 | N14: ='Class 07 11 2024'!I14 -> 0 | O14: ='Class 08 11 2024'!I14 -> 0 | P14: ='Class 09 11 2024'!I14 -> 0 | Q14: ='Class 10 11 2024'!I14 -> 0 | R14: ='Class 11 11 2024'!I14 -> 0 | S14: ='Class 12 11 2024'!I14 -> 1 | T14: =SUM(IF(WEEKDAY(M$6,2)<6,M14,0),IF(WEEKDAY(N$6,2)<6,N14,0),IF(WEEKDAY(O$6,2)<6,O14,0),IF(WEEKDAY(P$6,2)<6,P14,0),IF(WEEKDAY(Q$6,2)<6,Q14,0),IF(WEEKDAY(R$6,2)<6,R14,0),IF(WEEKDAY(S$6,2)<6,S14,0))/5 -> 0.2 | U14: =SUM(M14:S14)/7 -> 0.14285714 | W14: 0.25 | X14: =B14+M14 -> 3 | Y14: =C14+N14 -> 3 | Z14: =D14+O14 -> 2 | AA14: =E14+P14 -> 5 | AB14: =F14+Q14 -> 1 | AC14: =G14+R14 -> 1 | AD14: =H14+S14 -> 2 | AE14: =SUM(IF(WEEKDAY(X$6,2)<6,X14,0),IF(WEEKDAY(Y$6,2)<6,Y14,0),IF(WEEKDAY(Z$6,2)<6,Z14,0),IF(WEEKDAY(AA$6,2)<6,AA14,0),IF(WEEKDAY(AB$6,2)<6,AB14,0),IF(WEEKDAY(AC$6,2)<6,AC14,0),IF(WEEKDAY(AD$6,2)<6,AD14,0))/5 -> 2.2 | AF14: =SUM(X14:AD14)/7 -> 2.4285714
A15: 0.29166667 | B15: ='Class 06 11 2024'!B15 -> 7 | C15: ='Class 07 11 2024'!B15 -> 6 | D15: ='Class 08 11 2024'!B15 -> 8 | E15: ='Class 09 11 2024'!B15 -> 1 | F15: ='Class 10 11 2024'!B15 -> 4 | G15: ='Class 11 11 2024'!B15 -> 5 | H15: ='Class 12 11 2024'!B15 -> 7 | I15: =SUM(IF(WEEKDAY(B$6,2)<6,B15,0),IF(WEEKDAY(C$6,2)<6,C15,0),IF(WEEKDAY(D$6,2)<6,D15,0),IF(WEEKDAY(E$6,2)<6,E15,0),IF(WEEKDAY(F$6,2)<6,F15,0),IF(WEEKDAY(G$6,2)<6,G15,0),IF(WEEKDAY(H$6,2)<6,H15,0))/5 -> 6.6 | J15: =SUM(B15:H15)/7 -> 5.4285714 | L15: 0.29166667 | M15: ='Class 06 11 2024'!I15 -> 6 | N15: ='Class 07 11 2024'!I15 -> 4 | O15: ='Class 08 11 2024'!I15 -> 3 | P15: ='Class 09 11 2024'!I15 -> 0 | Q15: ='Class 10 11 2024'!I15 -> 0 | R15: ='Class 11 11 2024'!I15 -> 3 | S15: ='Class 12 11 2024'!I15 -> 2 | T15: =SUM(IF(WEEKDAY(M$6,2)<6,M15,0),IF(WEEKDAY(N$6,2)<6,N15,0),IF(WEEKDAY(O$6,2)<6,O15,0),IF(WEEKDAY(P$6,2)<6,P15,0),IF(WEEKDAY(Q$6,2)<6,Q15,0),IF(WEEKDAY(R$6,2)<6,R15,0),IF(WEEKDAY(S$6,2)<6,S15,0))/5 -> 3.6 | U15: =SUM(M15:S15)/7 -> 2.5714286 | W15: 0.29166667 | X15: =B15+M15 -> 13 | Y15: =C15+N15 -> 10 | Z15: =D15+O15 -> 11 | AA15: =E15+P15 -> 1 | AB15: =F15+Q15 -> 4 | AC15: =G15+R15 -> 8 | AD15: =H15+S15 -> 9 | AE15: =SUM(IF(WEEKDAY(X$6,2)<6,X15,0),IF(WEEKDAY(Y$6,2)<6,Y15,0),IF(WEEKDAY(Z$6,2)<6,Z15,0),IF(WEEKDAY(AA$6,2)<6,AA15,0),IF(WEEKDAY(AB$6,2)<6,AB15,0),IF(WEEKDAY(AC$6,2)<6,AC15,0),IF(WEEKDAY(AD$6,2)<6,AD15,0))/5 -> 10.2 | AF15: =SUM(X15:AD15)/7 -> 8
A16: 0.33333333 | B16: ='Class 06 11 2024'!B16 -> 11 | C16: ='Class 07 11 2024'!B16 -> 14 | D16: ='Class 08 11 2024'!B16 -> 11 | E16: ='Class 09 11 2024'!B16 -> 3 | F16: ='Class 10 11 2024'!B16 -> 2 | G16: ='Class 11 11 2024'!B16 -> 14 | H16: ='Class 12 11 2024'!B16 -> 14 | I16: =SUM(IF(WEEKDAY(B$6,2)<6,B16,0),IF(WEEKDAY(C$6,2)<6,C16,0),IF(WEEKDAY(D$6,2)<6,D16,0),IF(WEEKDAY(E$6,2)<6,E16,0),IF(WEEKDAY(F$6,2)<6,F16,0),IF(WEEKDAY(G$6,2)<6,G16,0),IF(WEEKDAY(H$6,2)<6,H16,0))/5 -> 12.8 | J16: =SUM(B16:H16)/7 -> 9.8571429 | L16: 0.33333333 | M16: ='Class 06 11 2024'!I16 -> 6 | N16: ='Class 07 11 2024'!I16 -> 6 | O16: ='Class 08 11 2024'!I16 -> 3 | P16: ='Class 09 11 2024'!I16 -> 0 | Q16: ='Class 10 11 2024'!I16 -> 1 | R16: ='Class 11 11 2024'!I16 -> 10 | S16: ='Class 12 11 2024'!I16 -> 11 | T16: =SUM(IF(WEEKDAY(M$6,2)<6,M16,0),IF(WEEKDAY(N$6,2)<6,N16,0),IF(WEEKDAY(O$6,2)<6,O16,0),IF(WEEKDAY(P$6,2)<6,P16,0),IF(WEEKDAY(Q$6,2)<6,Q16,0),IF(WEEKDAY(R$6,2)<6,R16,0),IF(WEEKDAY(S$6,2)<6,S16,0))/5 -> 7.2 | U16: =SUM(M16:S16)/7 -> 5.2857143 | W16: 0.33333333 | X16: =B16+M16 -> 17 | Y16: =C16+N16 -> 20 | Z16: =D16+O16 -> 14 | AA16: =E16+P16 -> 3 | AB16: =F16+Q16 -> 3 | AC16: =G16+R16 -> 24 | AD16: =H16+S16 -> 25 | AE16: =SUM(IF(WEEKDAY(X$6,2)<6,X16,0),IF(WEEKDAY(Y$6,2)<6,Y16,0),IF(WEEKDAY(Z$6,2)<6,Z16,0),IF(WEEKDAY(AA$6,2)<6,AA16,0),IF(WEEKDAY(AB$6,2)<6,AB16,0),IF(WEEKDAY(AC$6,2)<6,AC16,0),IF(WEEKDAY(AD$6,2)<6,AD16,0))/5 -> 20 | AF16: =SUM(X16:AD16)/7 -> 15.142857
A17: 0.375 | B17: ='Class 06 11 2024'!B17 -> 43 | C17: ='Class 07 11 2024'!B17 -> 36 | D17: ='Class 08 11 2024'!B17 -> 35 | E17: ='Class 09 11 2024'!B17 -> 9 | F17: ='Class 10 11 2024'!B17 -> 9 | G17: ='Class 11 11 2024'!B17 -> 37 | H17: ='Class 12 11 2024'!B17 -> 39 | I17: =SUM(IF(WEEKDAY(B$6,2)<6,B17,0),IF(WEEKDAY(C$6,2)<6,C17,0),IF(WEEKDAY(D$6,2)<6,D17,0),IF(WEEKDAY(E$6,2)<6,E17,0),IF(WEEKDAY(F$6,2)<6,F17,0),IF(WEEKDAY(G$6,2)<6,G17,0),IF(WEEKDAY(H$6,2)<6,H17,0))/5 -> 38 | J17: =SUM(B17:H17)/7 -> 29.714286 | L17: 0.375 | M17: ='Class 06 11 2024'!I17 -> 13 | N17: ='Class 07 11 2024'!I17 -> 14 | O17: ='Class 08 11 2024'!I17 -> 13 | P17: ='Class 09 11 2024'!I17 -> 6 | Q17: ='Class 10 11 2024'!I17 -> 4 | R17: ='Class 11 11 2024'!I17 -> 16 | S17: ='Class 12 11 2024'!I17 -> 22 | T17: =SUM(IF(WEEKDAY(M$6,2)<6,M17,0),IF(WEEKDAY(N$6,2)<6,N17,0),IF(WEEKDAY(O$6,2)<6,O17,0),IF(WEEKDAY(P$6,2)<6,P17,0),IF(WEEKDAY(Q$6,2)<6,Q17,0),IF(WEEKDAY(R$6,2)<6,R17,0),IF(WEEKDAY(S$6,2)<6,S17,0))/5 -> 15.6 | U17: =SUM(M17:S17)/7 -> 12.571429 | W17: 0.375 | X17: =B17+M17 -> 56 | Y17: =C17+N17 -> 50 | Z17: =D17+O17 -> 48 | AA17: =E17+P17 -> 15 | AB17: =F17+Q17 -> 13 | AC17: =G17+R17 -> 53 | AD17: =H17+S17 -> 61 | AE17: =SUM(IF(WEEKDAY(X$6,2)<6,X17,0),IF(WEEKDAY(Y$6,2)<6,Y17,0),IF(WEEKDAY(Z$6,2)<6,Z17,0),IF(WEEKDAY(AA$6,2)<6,AA17,0),IF(WEEKDAY(AB$6,2)<6,AB17,0),IF(WEEKDAY(AC$6,2)<6,AC17,0),IF(WEEKDAY(AD$6,2)<6,AD17,0))/5 -> 53.6 | AF17: =SUM(X17:AD17)/7 -> 42.285714
A18: 0.41666667 | B18: ='Class 06 11 2024'!B18 -> 16 | C18: ='Class 07 11 2024'!B18 -> 18 | D18: ='Class 08 11 2024'!B18 -> 16 | E18: ='Class 09 11 2024'!B18 -> 15 | F18: ='Class 10 11 2024'!B18 -> 21 | G18: ='Class 11 11 2024'!B18 -> 10 | H18: ='Class 12 11 2024'!B18 -> 20 | I18: =SUM(IF(WEEKDAY(B$6,2)<6,B18,0),IF(WEEKDAY(C$6,2)<6,C18,0),IF(WEEKDAY(D$6,2)<6,D18,0),IF(WEEKDAY(E$6,2)<6,E18,0),IF(WEEKDAY(F$6,2)<6,F18,0),IF(WEEKDAY(G$6,2)<6,G18,0),IF(WEEKDAY(H$6,2)<6,H18,0))/5 -> 16 | J18: =SUM(B18:H18)/7 -> 16.571429 | L18: 0.41666667 | M18: ='Class 06 11 2024'!I18 -> 13 | N18: ='Class 07 11 2024'!I18 -> 11 | O18: ='Class 08 11 2024'!I18 -> 9 | P18: ='Class 09 11 2024'!I18 -> 12 | Q18: ='Class 10 11 2024'!I18 -> 15 | R18: ='Class 11 11 2024'!I18 -> 12 | S18: ='Class 12 11 2024'!I18 -> 14 | T18: =SUM(IF(WEEKDAY(M$6,2)<6,M18,0),IF(WEEKDAY(N$6,2)<6,N18,0),IF(WEEKDAY(O$6,2)<6,O18,0),IF(WEEKDAY(P$6,2)<6,P18,0),IF(WEEKDAY(Q$6,2)<6,Q18,0),IF(WEEKDAY(R$6,2)<6,R18,0),IF(WEEKDAY(S$6,2)<6,S18,0))/5 -> 11.8 | U18: =SUM(M18:S18)/7 -> 12.285714 | W18: 0.41666667 | X18: =B18+M18 -> 29 | Y18: =C18+N18 -> 29 | Z18: =D18+O18 -> 25 | AA18: =E18+P18 -> 27 | AB18: =F18+Q18 -> 36 | AC18: =G18+R18 -> 22 | AD18: =H18+S18 -> 34 | AE18: =SUM(IF(WEEKDAY(X$6,2)<6,X18,0),IF(WEEKDAY(Y$6,2)<6,Y18,0),IF(WEEKDAY(Z$6,2)<6,Z18,0),IF(WEEKDAY(AA$6,2)<6,AA18,0),IF(WEEKDAY(AB$6,2)<6,AB18,0),IF(WEEKDAY(AC$6,2)<6,AC18,0),IF(WEEKDAY(AD$6,2)<6,AD18,0))/5 -> 27.8 | AF18: =SUM(X18:AD18)/7 -> 28.857143
A19: 0.45833333 | B19: ='Class 06 11 2024'!B19 -> 16 | C19: ='Class 07 11 2024'!B19 -> 19 | D19: ='Class 08 11 2024'!B19 -> 19 | E19: ='Class 09 11 2024'!B19 -> 18 | F19: ='Class 10 11 2024'!B19 -> 11 | G19: ='Class 11 11 2024'!B19 -> 14 | H19: ='Class 12 11 2024'!B19 -> 13 | I19: =SUM(IF(WEEKDAY(B$6,2)<6,B19,0),IF(WEEKDAY(C$6,2)<6,C19,0),IF(WEEKDAY(D$6,2)<6,D19,0),IF(WEEKDAY(E$6,2)<6,E19,0),IF(WEEKDAY(F$6,2)<6,F19,0),IF(WEEKDAY(G$6,2)<6,G19,0),IF(WEEKDAY(H$6,2)<6,H19,0))/5 -> 16.2 | J19: =SUM(B19:H19)/7 -> 15.714286 | L19: 0.45833333 | M19: ='Class 06 11 2024'!I19 -> 12 | N19: ='Class 07 11 2024'!I19 -> 12 | O19: ='Class 08 11 2024'!I19 -> 13 | P19: ='Class 09 11 2024'!I19 -> 15 | Q19: ='Class 10 11 2024'!I19 -> 19 | R19: ='Class 11 11 2024'!I19 -> 14 | S19: ='Class 12 11 2024'!I19 -> 13 | T19: =SUM(IF(WEEKDAY(M$6,2)<6,M19,0),IF(WEEKDAY(N$6,2)<6,N19,0),IF(WEEKDAY(O$6,2)<6,O19,0),IF(WEEKDAY(P$6,2)<6,P19,0),IF(WEEKDAY(Q$6,2)<6,Q19,0),IF(WEEKDAY(R$6,2)<6,R19,0),IF(WEEKDAY(S$6,2)<6,S19,0))/5 -> 12.8 | U19: =SUM(M19:S19)/7 -> 14 | W19: 0.45833333 | X19: =B19+M19 -> 28 | Y19: =C19+N19 -> 31 | Z19: =D19+O19 -> 32 | AA19: =E19+P19 -> 33 | AB19: =F19+Q19 -> 30 | AC19: =G19+R19 -> 28 | AD19: =H19+S19 -> 26 | AE19: =SUM(IF(WEEKDAY(X$6,2)<6,X19,0),IF(WEEKDAY(Y$6,2)<6,Y19,0),IF(WEEKDAY(Z$6,2)<6,Z19,0),IF(WEEKDAY(AA$6,2)<6,AA19,0),IF(WEEKDAY(AB$6,2)<6,AB19,0),IF(WEEKDAY(AC$6,2)<6,AC19,0),IF(WEEKDAY(AD$6,2)<6,AD19,0))/5 -> 29 | AF19: =SUM(X19:AD19)/7 -> 29.714286
... A31: 0.95833333 | B31: ='Class 06 11 2024'!B31 -> 1 | C31: ='Class 07 11 2024'!B31 -> 2 | D31: ='Class 08 11 2024'!B31 -> 5 | E31: ='Class 09 11 2024'!B31 -> 2 | F31: ='Class 10 11 2024'!B31 -> 1 | G31: ='Class 11 11 2024'!B31 -> 4 | H31: ='Class 12 11 2024'!B31 -> 2 | I31: =SUM(IF(WEEKDAY(B$6,2)<6,B31,0),IF(WEEKDAY(C$6,2)<6,C31,0),IF(WEEKDAY(D$6,2)<6,D31,0),IF(WEEKDAY(E$6,2)<6,E31,0),IF(WEEKDAY(F$6,2)<6,F31,0),IF(WEEKDAY(G$6,2)<6,G31,0),IF(WEEKDAY(H$6,2)<6,H31,0))/5 -> 2.8 | J31: =SUM(B31:H31)/7 -> 2.4285714 | L31: 0.95833333 | M31: ='Class 06 11 2024'!I31 -> 3 | N31: ='Class 07 11 2024'!I31 -> 5 | O31: ='Class 08 11 2024'!I31 -> 5 | P31: ='Class 09 11 2024'!I31 -> 8 | Q31: ='Class 10 11 2024'!I31 -> 1 | R31: ='Class 11 11 2024'!I31 -> 8 | S31: ='Class 12 11 2024'!I31 -> 7 | T31: =SUM(IF(WEEKDAY(M$6,2)<6,M31,0),IF(WEEKDAY(N$6,2)<6,N31,0),IF(WEEKDAY(O$6,2)<6,O31,0),IF(WEEKDAY(P$6,2)<6,P31,0),IF(WEEKDAY(Q$6,2)<6,Q31,0),IF(WEEKDAY(R$6,2)<6,R31,0),IF(WEEKDAY(S$6,2)<6,S31,0))/5 -> 5.6 | U31: =SUM(M31:S31)/7 -> 5.2857143 | W31: 0.95833333 | X31: =B31+M31 -> 4 | Y31: =C31+N31 -> 7 | Z31: =D31+O31 -> 10 | AA31: =E31+P31 -> 10 | AB31: =F31+Q31 -> 2 | AC31: =G31+R31 -> 12 | AD31: =H31+S31 -> 9 | AE31: =SUM(IF(WEEKDAY(X$6,2)<6,X31,0),IF(WEEKDAY(Y$6,2)<6,Y31,0),IF(WEEKDAY(Z$6,2)<6,Z31,0),IF(WEEKDAY(AA$6,2)<6,AA31,0),IF(WEEKDAY(AB$6,2)<6,AB31,0),IF(WEEKDAY(AC$6,2)<6,AC31,0),IF(WEEKDAY(AD$6,2)<6,AD31,0))/5 -> 8.4 | AF31: =SUM(X31:AD31)/7 -> 7.7142857
A33: Total | L33: Total | W33: Total
A34: 12H(7-19) | B34: =SUM(B15:B26) -> 232 | C34: =SUM(C15:C26) -> 248 | D34: =SUM(D15:D26) -> 263 | E34: =SUM(E15:E26) -> 203 | F34: =SUM(F15:F26) -> 178 | G34: =SUM(G15:G26) -> 248 | H34: =SUM(H15:H26) -> 244 | I34: =SUM(IF(WEEKDAY(B$6,2)<6,B34,0),IF(WEEKDAY(C$6,2)<6,C34,0),IF(WEEKDAY(D$6,2)<6,D34,0),IF(WEEKDAY(E$6,2)<6,E34,0),IF(WEEKDAY(F$6,2)<6,F34,0),IF(WEEKDAY(G$6,2)<6,G34,0),IF(WEEKDAY(H$6,2)<6,H34,0))/5 -> 247 | J34: =SUM(B34:H34)/7 -> 230.85714 | L34: 12H(7-19) | M34: =SUM(M15:M26) -> 205 | N34: =SUM(N15:N26) -> 207 | O34: =SUM(O15:O26) -> 214 | P34: =SUM(P15:P26) -> 190 | Q34: =SUM(Q15:Q26) -> 172 | R34: =SUM(R15:R26) -> 196 | S34: =SUM(S15:S26) -> 230 | T34: =SUM(IF(WEEKDAY(M$6,2)<6,M34,0),IF(WEEKDAY(N$6,2)<6,N34,0),IF(WEEKDAY(O$6,2)<6,O34,0),IF(WEEKDAY(P$6,2)<6,P34,0),IF(WEEKDAY(Q$6,2)<6,Q34,0),IF(WEEKDAY(R$6,2)<6,R34,0),IF(WEEKDAY(S$6,2)<6,S34,0))/5 -> 210.4 | U34: =SUM(M34:S34)/7 -> 202 | W34: 12H(7-19) | X34: =SUM(X15:X26) -> 437 | Y34: =SUM(Y15:Y26) -> 455 | Z34: =SUM(Z15:Z26) -> 477 | AA34: =SUM(AA15:AA26) -> 393 | AB34: =SUM(AB15:AB26) -> 350 | AC34: =SUM(AC15:AC26) -> 444 | AD34: =SUM(AD15:AD26) -> 474 | AE34: =SUM(IF(WEEKDAY(X$6,2)<6,X34,0),IF(WEEKDAY(Y$6,2)<6,Y34,0),IF(WEEKDAY(Z$6,2)<6,Z34,0),IF(WEEKDAY(AA$6,2)<6,AA34,0),IF(WEEKDAY(AB$6,2)<6,AB34,0),IF(WEEKDAY(AC$6,2)<6,AC34,0),IF(WEEKDAY(AD$6,2)<6,AD34,0))/5 -> 457.4 | AF34: =SUM(X34:AD34)/7 -> 432.85714
A35: 16H(6-22) | B35: =SUM(B14:B29) -> 284 | C35: =SUM(C14:C29) -> 301 | D35: =SUM(D14:D29) -> 333 | E35: =SUM(E14:E29) -> 248 | F35: =SUM(F14:F29) -> 205 | G35: =SUM(G14:G29) -> 281 | H35: =SUM(H14:H29) -> 281 | I35: =SUM(IF(WEEKDAY(B$6,2)<6,B35,0),IF(WEEKDAY(C$6,2)<6,C35,0),IF(WEEKDAY(D$6,2)<6,D35,0),IF(WEEKDAY(E$6,2)<6,E35,0),IF(WEEKDAY(F$6,2)<6,F35,0),IF(WEEKDAY(G$6,2)<6,G35,0),IF(WEEKDAY(H$6,2)<6,H35,0))/5 -> 296 | J35: =SUM(B35:H35)/7 -> 276.14286 | L35: 16H(6-22) | M35: =SUM(M14:M29) -> 258 | N35: =SUM(N14:N29) -> 261 | O35: =SUM(O14:O29) -> 262 | P35: =SUM(P14:P29) -> 218 | Q35: =SUM(Q14:Q29) -> 202 | R35: =SUM(R14:R29) -> 230 | S35: =SUM(S14:S29) -> 277 | T35: =SUM(IF(WEEKDAY(M$6,2)<6,M35,0),IF(WEEKDAY(N$6,2)<6,N35,0),IF(WEEKDAY(O$6,2)<6,O35,0),IF(WEEKDAY(P$6,2)<6,P35,0),IF(WEEKDAY(Q$6,2)<6,Q35,0),IF(WEEKDAY(R$6,2)<6,R35,0),IF(WEEKDAY(S$6,2)<6,S35,0))/5 -> 257.6 | U35: =SUM(M35:S35)/7 -> 244 | W35: 16H(6-22) | X35: =SUM(X14:X29) -> 542 | Y35: =SUM(Y14:Y29) -> 562 | Z35: =SUM(Z14:Z29) -> 595 | AA35: =SUM(AA14:AA29) -> 466 | AB35: =SUM(AB14:AB29) -> 407 | AC35: =SUM(AC14:AC29) -> 511 | AD35: =SUM(AD14:AD29) -> 558 | AE35: =SUM(IF(WEEKDAY(X$6,2)<6,X35,0),IF(WEEKDAY(Y$6,2)<6,Y35,0),IF(WEEKDAY(Z$6,2)<6,Z35,0),IF(WEEKDAY(AA$6,2)<6,AA35,0),IF(WEEKDAY(AB$6,2)<6,AB35,0),IF(WEEKDAY(AC$6,2)<6,AC35,0),IF(WEEKDAY(AD$6,2)<6,AD35,0))/5 -> 553.6 | AF35: =SUM(X35:AD35)/7 -> 520.14286
A36: 18H(6-24) | B36: =SUM(B14:B31) -> 288 | C36: =SUM(C14:C31) -> 309 | D36: =SUM(D14:D31) -> 351 | E36: =SUM(E14:E31) -> 254 | F36: =SUM(F14:F31) -> 209 | G36: =SUM(G14:G31) -> 293 | H36: =SUM(H14:H31) -> 290 | I36: =SUM(IF(WEEKDAY(B$6,2)<6,B36,0),IF(WEEKDAY(C$6,2)<6,C36,0),IF(WEEKDAY(D$6,2)<6,D36,0),IF(WEEKDAY(E$6,2)<6,E36,0),IF(WEEKDAY(F$6,2)<6,F36,0),IF(WEEKDAY(G$6,2)<6,G36,0),IF(WEEKDAY(H$6,2)<6,H36,0))/5 -> 306.2 | J36: =SUM(B36:H36)/7 -> 284.85714 | L36: 18H(6-24) | M36: =SUM(M14:M31) -> 269 | N36: =SUM(N14:N31) -> 277 | O36: =SUM(O14:O31) -> 280 | P36: =SUM(P14:P31) -> 232 | Q36: =SUM(Q14:Q31) -> 211 | R36: =SUM(R14:R31) -> 246 | S36: =SUM(S14:S31) -> 293 | T36: =SUM(IF(WEEKDAY(M$6,2)<6,M36,0),IF(WEEKDAY(N$6,2)<6,N36,0),IF(WEEKDAY(O$6,2)<6,O36,0),IF(WEEKDAY(P$6,2)<6,P36,0),IF(WEEKDAY(Q$6,2)<6,Q36,0),IF(WEEKDAY(R$6,2)<6,R36,0),IF(WEEKDAY(S$6,2)<6,S36,0))/5 -> 273 | U36: =SUM(M36:S36)/7 -> 258.28571 | W36: 18H(6-24) | X36: =SUM(X14:X31) -> 557 | Y36: =SUM(Y14:Y31) -> 586 | Z36: =SUM(Z14:Z31) -> 631 | AA36: =SUM(AA14:AA31) -> 486 | AB36: =SUM(AB14:AB31) -> 420 | AC36: =SUM(AC14:AC31) -> 539 | AD36: =SUM(AD14:AD31) -> 583 | AE36: =SUM(IF(WEEKDAY(X$6,2)<6,X36,0),IF(WEEKDAY(Y$6,2)<6,Y36,0),IF(WEEKDAY(Z$6,2)<6,Z36,0),IF(WEEKDAY(AA$6,2)<6,AA36,0),IF(WEEKDAY(AB$6,2)<6,AB36,0),IF(WEEKDAY(AC$6,2)<6,AC36,0),IF(WEEKDAY(AD$6,2)<6,AD36,0))/5 -> 579.2 | AF36: =SUM(X36:AD36)/7 -> 543.14286
A37: 24H(0-24) | B37: =SUM(B8:B31) -> 290 | C37: =SUM(C8:C31) -> 311 | D37: =SUM(D8:D31) -> 355 | E37: =SUM(E8:E31) -> 257 | F37: =SUM(F8:F31) -> 218 | G37: =SUM(G8:G31) -> 298 | H37: =SUM(H8:H31) -> 293 | I37: =SUM(IF(WEEKDAY(B$6,2)<6,B37,0),IF(WEEKDAY(C$6,2)<6,C37,0),IF(WEEKDAY(D$6,2)<6,D37,0),IF(WEEKDAY(E$6,2)<6,E37,0),IF(WEEKDAY(F$6,2)<6,F37,0),IF(WEEKDAY(G$6,2)<6,G37,0),IF(WEEKDAY(H$6,2)<6,H37,0))/5 -> 309.4 | J37: =SUM(B37:H37)/7 -> 288.85714 | L37: 24H(0-24) | M37: =SUM(M8:M31) -> 270 | N37: =SUM(N8:N31) -> 279 | O37: =SUM(O8:O31) -> 285 | P37: =SUM(P8:P31) -> 240 | Q37: =SUM(Q8:Q31) -> 219 | R37: =SUM(R8:R31) -> 247 | S37: =SUM(S8:S31) -> 295 | T37: =SUM(IF(WEEKDAY(M$6,2)<6,M37,0),IF(WEEKDAY(N$6,2)<6,N37,0),IF(WEEKDAY(O$6,2)<6,O37,0),IF(WEEKDAY(P$6,2)<6,P37,0),IF(WEEKDAY(Q$6,2)<6,Q37,0),IF(WEEKDAY(R$6,2)<6,R37,0),IF(WEEKDAY(S$6,2)<6,S37,0))/5 -> 275.2 | U37: =SUM(M37:S37)/7 -> 262.14286 | W37: 24H(0-24) | X37: =SUM(X8:X31) -> 560 | Y37: =SUM(Y8:Y31) -> 590 | Z37: =SUM(Z8:Z31) -> 640 | AA37: =SUM(AA8:AA31) -> 497 | AB37: =SUM(AB8:AB31) -> 437 | AC37: =SUM(AC8:AC31) -> 545 | AD37: =SUM(AD8:AD31) -> 588 | AE37: =SUM(IF(WEEKDAY(X$6,2)<6,X37,0),IF(WEEKDAY(Y$6,2)<6,Y37,0),IF(WEEKDAY(Z$6,2)<6,Z37,0),IF(WEEKDAY(AA$6,2)<6,AA37,0),IF(WEEKDAY(AB$6,2)<6,AB37,0),IF(WEEKDAY(AC$6,2)<6,AC37,0),IF(WEEKDAY(AD$6,2)<6,AD37,0))/5 -> 584.6 | AF37: =SUM(X37:AD37)/7 -> 551
A39: AM Peak | B39: =INDEX(($A8:$J19),MATCH(B40,B8:B19,0),1) -> 0.375 | C39: =INDEX(($A8:$J19),MATCH(C40,C8:C19,0),1) -> 0.375 | D39: =INDEX(($A8:$J19),MATCH(D40,D8:D19,0),1) -> 0.375 | E39: =INDEX(($A8:$J19),MATCH(E40,E8:E19,0),1) -> 0.45833333 | F39: =INDEX(($A8:$J19),MATCH(F40,F8:F19,0),1) -> 0.41666667 | G39: =INDEX(($A8:$J19),MATCH(G40,G8:G19,0),1) -> 0.375 | H39: =INDEX(($A8:$J19),MATCH(H40,H8:H19,0),1) -> 0.375 | I39: =INDEX(($A8:$J19),MATCH(I40,I8:I19,0),1) -> 0.375 | J39: =INDEX(($A8:$J19),MATCH(J40,J8:J19,0),1) -> 0.375 | L39: AM Peak | M39: =INDEX(($L8:$U19),MATCH(M40,M8:M19,0),1) -> 0.375 | N39: =INDEX(($L8:$U19),MATCH(N40,N8:N19,0),1) -> 0.375 | O39: =INDEX(($L8:$U19),MATCH(O40,O8:O19,0),1) -> 0.375 | P39: =INDEX(($L8:$U19),MATCH(P40,P8:P19,0),1) -> 0.45833333 | Q39: =INDEX(($L8:$U19),MATCH(Q40,Q8:Q19,0),1) -> 0.45833333 | R39: =INDEX(($L8:$U19),MATCH(R40,R8:R19,0),1) -> 0.375 | S39: =INDEX(($L8:$U19),MATCH(S40,S8:S19,0),1) -> 0.375 | T39: =INDEX(($L8:$U19),MATCH(T40,T8:T19,0),1) -> 0.375 | U39: =INDEX(($L8:$U19),MATCH(U40,U8:U19,0),1) -> 0.45833333 | W39: AM Peak | X39: =INDEX(($W8:$AF19),MATCH(X40,X8:X19,0),1) -> 0.375 | Y39: =INDEX(($W8:$AF19),MATCH(Y40,Y8:Y19,0),1) -> 0.375 | Z39: =INDEX(($W8:$AF19),MATCH(Z40,Z8:Z19,0),1) -> 0.375 | AA39: =INDEX(($W8:$AF19),MATCH(AA40,AA8:AA19,0),1) -> 0.45833333 | AB39: =INDEX(($W8:$AF19),MATCH(AB40,AB8:AB19,0),1) -> 0.41666667 | AC39: =INDEX(($W8:$AF19),MATCH(AC40,AC8:AC19,0),1) -> 0.375 | AD39: =INDEX(($W8:$AF19),MATCH(AD40,AD8:AD19,0),1) -> 0.375 | AE39: =INDEX(($W8:$AF19),MATCH(AE40,AE8:AE19,0),1) -> 0.375 | AF39: =INDEX(($W8:$AF19),MATCH(AF40,AF8:AF19,0),1) -> 0.375
B40: =MAX(B8:B19) -> 43 | C40: =MAX(C8:C19) -> 36 | D40: =MAX(D8:D19) -> 35 | E40: =MAX(E8:E19) -> 18 | F40: =MAX(F8:F19) -> 21 | G40: =MAX(G8:G19) -> 37 | H40: =MAX(H8:H19) -> 39 | I40: =MAX(I8:I19) -> 38 | J40: =MAX(J8:J19) -> 29.714286 | M40: =MAX(M8:M19) -> 13 | N40: =MAX(N8:N19) -> 14 | O40: =MAX(O8:O19) -> 13 | P40: =MAX(P8:P19) -> 15 | Q40: =MAX(Q8:Q19) -> 19 | R40: =MAX(R8:R19) -> 16 | S40: =MAX(S8:S19) -> 22 | T40: =MAX(T8:T19) -> 15.6 | U40: =MAX(U8:U19) -> 14 | X40: =MAX(X8:X19) -> 56 | Y40: =MAX(Y8:Y19) -> 50 | Z40: =MAX(Z8:Z19) -> 48 | AA40: =MAX(AA8:AA19) -> 33 | AB40: =MAX(AB8:AB19) -> 36 | AC40: =MAX(AC8:AC19) -> 53 | AD40: =MAX(AD8:AD19) -> 61 | AE40: =MAX(AE8:AE19) -> 53.6 | AF40: =MAX(AF8:AF19) -> 42.285714
A42: PM Peak | B42: =INDEX(($A20:$J31),MATCH(B43,B20:B31,0),1) -> 0.75 | C42: =INDEX(($A20:$J31),MATCH(C43,C20:C31,0),1) -> 0.625 | D42: =INDEX(($A20:$J31),MATCH(D43,D20:D31,0),1) -> 0.70833333 | E42: =INDEX(($A20:$J31),MATCH(E43,E20:E31,0),1) -> 0.625 | F42: =INDEX(($A20:$J31),MATCH(F43,F20:F31,0),1) -> 0.58333333 | G42: =INDEX(($A20:$J31),MATCH(G43,G20:G31,0),1) -> 0.70833333 | H42: =INDEX(($A20:$J31),MATCH(H43,H20:H31,0),1) -> 0.70833333 | I42: =INDEX(($A20:$J31),MATCH(I43,I20:I31,0),1) -> 0.75 | J42: =INDEX(($A20:$J31),MATCH(J43,J20:J31,0),1) -> 0.70833333 | L42: PM Peak | M42: =INDEX(($L20:$U31),MATCH(M43,M20:M31,0),1) -> 0.66666667 | N42: =INDEX(($L20:$U31),MATCH(N43,N20:N31,0),1) -> 0.66666667 | O42: =INDEX(($L20:$U31),MATCH(O43,O20:O31,0),1) -> 0.66666667 | P42: =INDEX(($L20:$U31),MATCH(P43,P20:P31,0),1) -> 0.625 | Q42: =INDEX(($L20:$U31),MATCH(Q43,Q20:Q31,0),1) -> 0.66666667 | R42: =INDEX(($L20:$U31),MATCH(R43,R20:R31,0),1) -> 0.66666667 | S42: =INDEX(($L20:$U31),MATCH(S43,S20:S31,0),1) -> 0.70833333 | T42: =INDEX(($L20:$U31),MATCH(T43,T20:T31,0),1) -> 0.66666667 | U42: =INDEX(($L20:$U31),MATCH(U43,U20:U31,0),1) -> 0.66666667 | W42: PM Peak | X42: =INDEX(($W20:$AF31),MATCH(X43,X20:X31,0),1) -> 0.66666667 | Y42: =INDEX(($W20:$AF31),MATCH(Y43,Y20:Y31,0),1) -> 0.70833333 | Z42: =INDEX(($W20:$AF31),MATCH(Z43,Z20:Z31,0),1) -> 0.70833333 | AA42: =INDEX(($W20:$AF31),MATCH(AA43,AA20:AA31,0),1) -> 0.625 | AB42: =INDEX(($W20:$AF31),MATCH(AB43,AB20:AB31,0),1) -> 0.54166667 | AC42: =INDEX(($W20:$AF31),MATCH(AC43,AC20:AC31,0),1) -> 0.66666667 | AD42: =INDEX(($W20:$AF31),MATCH(AD43,AD20:AD31,0),1) -> 0.70833333 | AE42: =INDEX(($W20:$AF31),MATCH(AE43,AE20:AE31,0),1) -> 0.70833333 | AF42: =INDEX(($W20:$AF31),MATCH(AF43,AF20:AF31,0),1) -> 0.66666667
B43: =MAX(B20:B31) -> 27 | C43: =MAX(C20:C31) -> 33 | D43: =MAX(D20:D31) -> 32 | E43: =MAX(E20:E31) -> 32 | F43: =MAX(F20:F31) -> 23 | G43: =MAX(G20:G31) -> 32 | H43: =MAX(H20:H31) -> 31 | I43: =MAX(I20:I31) -> 28.4 | J43: =MAX(J20:J31) -> 24.857143 | M43: =MAX(M20:M31) -> 33 | N43: =MAX(N20:N31) -> 35 | O43: =MAX(O20:O31) -> 37 | P43: =MAX(P20:P31) -> 31 | Q43: =MAX(Q20:Q31) -> 25 | R43: =MAX(R20:R31) -> 32 | S43: =MAX(S20:S31) -> 38 | T43: =MAX(T20:T31) -> 33.2 | U43: =MAX(U20:U31) -> 30 | X43: =MAX(X20:X31) -> 58 | Y43: =MAX(Y20:Y31) -> 61 | Z43: =MAX(Z20:Z31) -> 69 | AA43: =MAX(AA20:AA31) -> 63 | AB43: =MAX(AB20:AB31) -> 46 | AC43: =MAX(AC20:AC31) -> 56 | AD43: =MAX(AD20:AD31) -> 69 | AE43: =MAX(AE20:AE31) -> 58 | AF43: =MAX(AF20:AF31) -> 53.857143
A44: Paul Castle Associates | L44: Paul Castle Associates | W44: Paul Castle Associates

Sheet Class Summary
A1: ='Flow Summary'!A1 -> Wrexham ATC, Cristionydd Lane
A4: Direction: | B4: ='Flow Summary'!B4 -> Southbound | H4: Direction: | I4: ='Flow Summary'!M4 -> Northbound | O4: Direction: | P4: Total Flow
B5: Total Volume | C5: LIGHT | D5: OGV1 | E5: OGV2 | F5: BUS | I5: Total Volume | J5: LIGHT | K5: OGV1 | L5: OGV2 | M5: BUS | P5: Total Volume | Q5: LIGHT | R5: OGV1 | S5: OGV2 | T5: BUS
A6: 45602 | B6: =SUM(C6:F6) -> 290 | C6: ='Class 06 11 2024'!C37 -> 208 | D6: ='Class 06 11 2024'!D37 -> 80 | E6: ='Class 06 11 2024'!E37 -> 0 | F6: ='Class 06 11 2024'!F37 -> 2 | H6: =A6 -> 45602 | I6: =SUM(J6:M6) -> 270 | J6: ='Class 06 11 2024'!J37 -> 254 | K6: ='Class 06 11 2024'!K37 -> 15 | L6: ='Class 06 11 2024'!L37 -> 1 | M6: ='Class 06 11 2024'!M37 -> 0 | O6: =A6 -> 45602 | P6: =SUM(Q6:T6) -> 560 | Q6: =C6+J6 -> 462 | R6: =D6+K6 -> 95 | S6: =E6+L6 -> 1 | T6: =F6+M6 -> 2
A7: =A6+1 -> 45603 | B7: =SUM(C7:F7) -> 311 | C7: ='Class 07 11 2024'!C37 -> 232 | D7: ='Class 07 11 2024'!D37 -> 73 | E7: ='Class 07 11 2024'!E37 -> 0 | F7: ='Class 07 11 2024'!F37 -> 6 | H7: =A7 -> 45603 | I7: =SUM(J7:M7) -> 279 | J7: ='Class 07 11 2024'!J37 -> 267 | K7: ='Class 07 11 2024'!K37 -> 12 | L7: ='Class 07 11 2024'!L37 -> 0 | M7: ='Class 07 11 2024'!M37 -> 0 | O7: =A7 -> 45603 | P7: =SUM(Q7:T7) -> 590 | Q7: =C7+J7 -> 499 | R7: =D7+K7 -> 85 | S7: =E7+L7 -> 0 | T7: =F7+M7 -> 6
A8: =A7+1 -> 45604 | B8: =SUM(C8:F8) -> 355 | C8: ='Class 08 11 2024'!C37 -> 248 | D8: ='Class 08 11 2024'!D37 -> 105 | E8: ='Class 08 11 2024'!E37 -> 0 | F8: ='Class 08 11 2024'!F37 -> 2 | H8: =A8 -> 45604 | I8: =SUM(J8:M8) -> 285 | J8: ='Class 08 11 2024'!J37 -> 272 | K8: ='Class 08 11 2024'!K37 -> 13 | L8: ='Class 08 11 2024'!L37 -> 0 | M8: ='Class 08 11 2024'!M37 -> 0 | O8: =A8 -> 45604 | P8: =SUM(Q8:T8) -> 640 | Q8: =C8+J8 -> 520 | R8: =D8+K8 -> 118 | S8: =E8+L8 -> 0 | T8: =F8+M8 -> 2
A9: =A8+1 -> 45605 | B9: =SUM(C9:F9) -> 257 | C9: ='Class 09 11 2024'!C37 -> 189 | D9: ='Class 09 11 2024'!D37 -> 68 | E9: ='Class 09 11 2024'!E37 -> 0 | F9: ='Class 09 11 2024'!F37 -> 0 | H9: =A9 -> 45605 | I9: =SUM(J9:M9) -> 240 | J9: ='Class 09 11 2024'!J37 -> 230 | K9: ='Class 09 11 2024'!K37 -> 10 | L9: ='Class 09 11 2024'!L37 -> 0 | M9: ='Class 09 11 2024'!M37 -> 0 | O9: =A9 -> 45605 | P9: =SUM(Q9:T9) -> 497 | Q9: =C9+J9 -> 419 | R9: =D9+K9 -> 78 | S9: =E9+L9 -> 0 | T9: =F9+M9 -> 0
A10: =A9+1 -> 45606 | B10: =SUM(C10:F10) -> 218 | C10: ='Class 10 11 2024'!C37 -> 164 | D10: ='Class 10 11 2024'!D37 -> 53 | E10: ='Class 10 11 2024'!E37 -> 0 | F10: ='Class 10 11 2024'!F37 -> 1 | H10: =A10 -> 45606 | I10: =SUM(J10:M10) -> 219 | J10: ='Class 10 11 2024'!J37 -> 212 | K10: ='Class 10 11 2024'!K37 -> 7 | L10: ='Class 10 11 2024'!L37 -> 0 | M10: ='Class 10 11 2024'!M37 -> 0 | O10: =A10 -> 45606 | P10: =SUM(Q10:T10) -> 437 | Q10: =C10+J10 -> 376 | R10: =D10+K10 -> 60 | S10: =E10+L10 -> 0 | T10: =F10+M10 -> 1
A11: =A10+1 -> 45607 | B11: =SUM(C11:F11) -> 298 | C11: ='Class 11 11 2024'!C37 -> 213 | D11: ='Class 11 11 2024'!D37 -> 81 | E11: ='Class 11 11 2024'!E37 -> 0 | F11: ='Class 11 11 2024'!F37 -> 4 | H11: =A11 -> 45607 | I11: =SUM(J11:M11) -> 247 | J11: ='Class 11 11 2024'!J37 -> 229 | K11: ='Class 11 11 2024'!K37 -> 17 | L11: ='Class 11 11 2024'!L37 -> 0 | M11: ='Class 11 11 2024'!M37 -> 1 | O11: =A11 -> 45607 | P11: =SUM(Q11:T11) -> 545 | Q11: =C11+J11 -> 442 | R11: =D11+K11 -> 98 | S11: =E11+L11 -> 0 | T11: =F11+M11 -> 5
A12: =A11+1 -> 45608 | B12: =SUM(C12:F12) -> 293 | C12: ='Class 12 11 2024'!C37 -> 214 | D12: ='Class 12 11 2024'!D37 -> 77 | E12: ='Class 12 11 2024'!E37 -> 0 | F12: ='Class 12 11 2024'!F37 -> 2 | H12: =A12 -> 45608 | I12: =SUM(J12:M12) -> 295 | J12: ='Class 12 11 2024'!J37 -> 278 | K12: ='Class 12 11 2024'!K37 -> 16 | L12: ='Class 12 11 2024'!L37 -> 1 | M12: ='Class 12 11 2024'!M37 -> 0 | O12: =A12 -> 45608 | P12: =SUM(Q12:T12) -> 588 | Q12: =C12+J12 -> 492 | R12: =D12+K12 -> 93 | S12: =E12+L12 -> 1 | T12: =F12+M12 -> 2
A13: 5 Day Ave. | B13: =SUM(IF(WEEKDAY($A6,2)<6,B6,0),IF(WEEKDAY($A7,2)<6,B7,0),IF(WEEKDAY($A8,2)<6,B8,0),IF(WEEKDAY($A9,2)<6,B9,0),IF(WEEKDAY($A10,2)<6,B10,0),IF(WEEKDAY($A11,2)<6,B11,0),IF(WEEKDAY($A12,2)<6,B12,0))/5 -> 309.4 | C13: =SUM(IF(WEEKDAY($A6,2)<6,C6,0),IF(WEEKDAY($A7,2)<6,C7,0),IF(WEEKDAY($A8,2)<6,C8,0),IF(WEEKDAY($A9,2)<6,C9,0),IF(WEEKDAY($A10,2)<6,C10,0),IF(WEEKDAY($A11,2)<6,C11,0),IF(WEEKDAY($A12,2)<6,C12,0))/5 -> 223 | D13: =SUM(IF(WEEKDAY($A6,2)<6,D6,0),IF(WEEKDAY($A7,2)<6,D7,0),IF(WEEKDAY($A8,2)<6,D8,0),IF(WEEKDAY($A9,2)<6,D9,0),IF(WEEKDAY($A10,2)<6,D10,0),IF(WEEKDAY($A11,2)<6,D11,0),IF(WEEKDAY($A12,2)<6,D12,0))/5 -> 83.2 | E13: =SUM(IF(WEEKDAY($A6,2)<6,E6,0),IF(WEEKDAY($A7,2)<6,E7,0),IF(WEEKDAY($A8,2)<6,E8,0),IF(WEEKDAY($A9,2)<6,E9,0),IF(WEEKDAY($A10,2)<6,E10,0),IF(WEEKDAY($A11,2)<6,E11,0),IF(WEEKDAY($A12,2)<6,E12,0))/5 -> 0 | F13: =SUM(IF(WEEKDAY($A6,2)<6,F6,0),IF(WEEKDAY($A7,2)<6,F7,0),IF(WEEKDAY($A8,2)<6,F8,0),IF(WEEKDAY($A9,2)<6,F9,0),IF(WEEKDAY($A10,2)<6,F10,0),IF(WEEKDAY($A11,2)<6,F11,0),IF(WEEKDAY($A12,2)<6,F12,0))/5 -> 3.2 | H13: 5 Day Ave. | I13: =SUM(IF(WEEKDAY($A6,2)<6,I6,0),IF(WEEKDAY($A7,2)<6,I7,0),IF(WEEKDAY($A8,2)<6,I8,0),IF(WEEKDAY($A9,2)<6,I9,0),IF(WEEKDAY($A10,2)<6,I10,0),IF(WEEKDAY($A11,2)<6,I11,0),IF(WEEKDAY($A12,2)<6,I12,0))/5 -> 275.2 | J13: =SUM(IF(WEEKDAY($A6,2)<6,J6,0),IF(WEEKDAY($A7,2)<6,J7,0),IF(WEEKDAY($A8,2)<6,J8,0),IF(WEEKDAY($A9,2)<6,J9,0),IF(WEEKDAY($A10,2)<6,J10,0),IF(WEEKDAY($A11,2)<6,J11,0),IF(WEEKDAY($A12,2)<6,J12,0))/5 -> 260 | K13: =SUM(IF(WEEKDAY($A6,2)<6,K6,0),IF(WEEKDAY($A7,2)<6,K7,0),IF(WEEKDAY($A8,2)<6,K8,0),IF(WEEKDAY($A9,2)<6,K9,0),IF(WEEKDAY($A10,2)<6,K10,0),IF(WEEKDAY($A11,2)<6,K11,0),IF(WEEKDAY($A12,2)<6,K12,0))/5 -> 14.6 | L13: =SUM(IF(WEEKDAY($A6,2)<6,L6,0),IF(WEEKDAY($A7,2)<6,L7,0),IF(WEEKDAY($A8,2)<6,L8,0),IF(WEEKDAY($A9,2)<6,L9,0),IF(WEEKDAY($A10,2)<6,L10,0),IF(WEEKDAY($A11,2)<6,L11,0),IF(WEEKDAY($A12,2)<6,L12,0))/5 -> 0.4 | M13: =SUM(IF(WEEKDAY($A6,2)<6,M6,0),IF(WEEKDAY($A7,2)<6,M7,0),IF(WEEKDAY($A8,2)<6,M8,0),IF(WEEKDAY($A9,2)<6,M9,0),IF(WEEKDAY($A10,2)<6,M10,0),IF(WEEKDAY($A11,2)<6,M11,0),IF(WEEKDAY($A12,2)<6,M12,0))/5 -> 0.2 | O13: 5 Day Ave. | P13: =SUM(IF(WEEKDAY($A6,2)<6,P6,0),IF(WEEKDAY($A7,2)<6,P7,0),IF(WEEKDAY($A8,2)<6,P8,0),IF(WEEKDAY($A9,2)<6,P9,0),IF(WEEKDAY($A10,2)<6,P10,0),IF(WEEKDAY($A11,2)<6,P11,0),IF(WEEKDAY($A12,2)<6,P12,0))/5 -> 584.6 | Q13: =SUM(IF(WEEKDAY($A6,2)<6,Q6,0),IF(WEEKDAY($A7,2)<6,Q7,0),IF(WEEKDAY($A8,2)<6,Q8,0),IF(WEEKDAY($A9,2)<6,Q9,0),IF(WEEKDAY($A10,2)<6,Q10,0),IF(WEEKDAY($A11,2)<6,Q11,0),IF(WEEKDAY($A12,2)<6,Q12,0))/5 -> 483 | R13: =SUM(IF(WEEKDAY($A6,2)<6,R6,0),IF(WEEKDAY($A7,2)<6,R7,0),IF(WEEKDAY($A8,2)<6,R8,0),IF(WEEKDAY($A9,2)<6,R9,0),IF(WEEKDAY($A10,2)<6,R10,0),IF(WEEKDAY($A11,2)<6,R11,0),IF(WEEKDAY($A12,2)<6,R12,0))/5 -> 97.8 | S13: =SUM(IF(WEEKDAY($A6,2)<6,S6,0),IF(WEEKDAY($A7,2)<6,S7,0),IF(WEEKDAY($A8,2)<6,S8,0),IF(WEEKDAY($A9,2)<6,S9,0),IF(WEEKDAY($A10,2)<6,S10,0),IF(WEEKDAY($A11,2)<6,S11,0),IF(WEEKDAY($A12,2)<6,S12,0))/5 -> 0.4 | T13: =SUM(IF(WEEKDAY($A6,2)<6,T6,0),IF(WEEKDAY($A7,2)<6,T7,0),IF(WEEKDAY($A8,2)<6,T8,0),IF(WEEKDAY($A9,2)<6,T9,0),IF(WEEKDAY($A10,2)<6,T10,0),IF(WEEKDAY($A11,2)<6,T11,0),IF(WEEKDAY($A12,2)<6,T12,0))/5 -> 3.4
A14: 7 Day Ave. | B14: =SUM(B6:B12)/7 -> 288.85714 | C14: =SUM(C6:C12)/7 -> 209.71429 | D14: =SUM(D6:D12)/7 -> 76.714286 | E14: =SUM(E6:E12)/7 -> 0 | F14: =SUM(F6:F12)/7 -> 2.4285714 | H14: 7 Day Ave. | I14: =SUM(I6:I12)/7 -> 262.14286 | J14: =SUM(J6:J12)/7 -> 248.85714 | K14: =SUM(K6:K12)/7 -> 12.857143 | L14: =SUM(L6:L12)/7 -> 0.28571429 | M14: =SUM(M6:M12)/7 -> 0.14285714 | O14: 7 Day Ave. | P14: =SUM(P6:P12)/7 -> 551 | Q14: =SUM(Q6:Q12)/7 -> 458.57143 | R14: =SUM(R6:R12)/7 -> 89.571429 | S14: =SUM(S6:S12)/7 -> 0.28571429 | T14: =SUM(T6:T12)/7 -> 2.5714286
B17: Total Volume | C17: LIGHT | D17: OGV1 | E17: OGV2 | F17: BUS | I17: Total Volume | J17: LIGHT | K17: OGV1 | L17: OGV2 | M17: BUS | P17: Total Volume | Q17: LIGHT | R17: OGV1 | S17: OGV2 | T17: BUS
A18: =A6 -> 45602 | B18: =SUM(C18:F18) -> 1 | C18: =C6/$B6 -> 0.71724138 | D18: =D6/$B6 -> 0.27586207 | E18: =E6/$B6 -> 0 | F18: =F6/$B6 -> 0.0068965517 | H18: =A18 -> 45602 | I18: =SUM(J18:M18) -> 1 | J18: =J6/$I6 -> 0.94074074 | K18: =K6/$I6 -> 0.055555556 | L18: =L6/$I6 -> 0.0037037037 | M18: =M6/$I6 -> 0 | O18: =A18 -> 45602 | P18: =SUM(Q18:T18) -> 1 | Q18: =Q6/$P6 -> 0.825 | R18: =R6/$P6 -> 0.16964286 | S18: =S6/$P6 -> 0.0017857143 | T18: =T6/$P6 -> 0.0035714286
A19: =A7 -> 45603 | B19: =SUM(C19:F19) -> 1 | C19: =C7/$B7 -> 0.74598071 | D19: =D7/$B7 -> 0.23472669 | E19: =E7/$B7 -> 0 | F19: =F7/$B7 -> 0.019292605 | H19: =A19 -> 45603 | I19: =SUM(J19:M19) -> 1 | J19: =J7/$I7 -> 0.95698925 | K19: =K7/$I7 -> 0.043010753 | L19: =L7/$I7 -> 0 | M19: =M7/$I7 -> 0 | O19: =A19 -> 45603 | P19: =SUM(Q19:T19) -> 1 | Q19: =Q7/$P7 -> 0.84576271 | R19: =R7/$P7 -> 0.1440678 | S19: =S7/$P7 -> 0 | T19: =T7/$P7 -> 0.010169492
A20: =A8 -> 45604 | B20: =SUM(C20:F20) -> 1 | C20: =C8/$B8 -> 0.69859155 | D20: =D8/$B8 -> 0.29577465 | E20: =E8/$B8 -> 0 | F20: =F8/$B8 -> 0.0056338028 | H20: =A20 -> 45604 | I20: =SUM(J20:M20) -> 1 | J20: =J8/$I8 -> 0.95438596 | K20: =K8/$I8 -> 0.045614035 | L20: =L8/$I8 -> 0 | M20: =M8/$I8 -> 0 | O20: =A20 -> 45604 | P20: =SUM(Q20:T20) -> 1 | Q20: =Q8/$P8 -> 0.8125 | R20: =R8/$P8 -> 0.184375 | S20: =S8/$P8 -> 0 | T20: =T8/$P8 -> 0.003125
A21: =A9 -> 45605 | B21: =SUM(C21:F21) -> 1 | C21: =C9/$B9 -> 0.73540856 | D21: =D9/$B9 -> 0.26459144 | E21: =E9/$B9 -> 0 | F21: =F9/$B9 -> 0 | H21: =A21 -> 45605 | I21: =SUM(J21:M21) -> 1 | J21: =J9/$I9 -> 0.95833333 | K21: =K9/$I9 -> 0.041666667 | L21: =L9/$I9 -> 0 | M21: =M9/$I9 -> 0 | O21: =A21 -> 45605 | P21: =SUM(Q21:T21) -> 1 | Q21: =Q9/$P9 -> 0.84305835 | R21: =R9/$P9 -> 0.15694165 | S21: =S9/$P9 -> 0 | T21: =T9/$P9 -> 0
A22: =A10 -> 45606 | B22: =SUM(C22:F22) -> 1 | C22: =C10/$B10 -> 0.75229358 | D22: =D10/$B10 -> 0.24311927 | E22: =E10/$B10 -> 0 | F22: =F10/$B10 -> 0.004587156 | H22: =A22 -> 45606 | I22: =SUM(J22:M22) -> 1 | J22: =J10/$I10 -> 0.96803653 | K22: =K10/$I10 -> 0.03196347 | L22: =L10/$I10 -> 0 | M22: =M10/$I10 -> 0 | O22: =A22 -> 45606 | P22: =SUM(Q22:T22) -> 1 | Q22: =Q10/$P10 -> 0.8604119 | R22: =R10/$P10 -> 0.13729977 | S22: =S10/$P10 -> 0 | T22: =T10/$P10 -> 0.0022883295
A23: =A11 -> 45607 | B23: =SUM(C23:F23) -> 1 | C23: =C11/$B11 -> 0.7147651 | D23: =D11/$B11 -> 0.27181208 | E23: =E11/$B11 -> 0 | F23: =F11/$B11 -> 0.013422819 | H23: =A23 -> 45607 | I23: =SUM(J23:M23) -> 1 | J23: =J11/$I11 -> 0.92712551 | K23: =K11/$I11 -> 0.068825911 | L23: =L11/$I11 -> 0 | M23: =M11/$I11 -> 0.004048583 | O23: =A23 -> 45607 | P23: =SUM(Q23:T23) -> 1 | Q23: =Q11/$P11 -> 0.81100917 | R23: =R11/$P11 -> 0.17981651 | S23: =S11/$P11 -> 0 | T23: =T11/$P11 -> 0.0091743119
A24: =A12 -> 45608 | B24: =SUM(C24:F24) -> 1 | C24: =C12/$B12 -> 0.73037543 | D24: =D12/$B12 -> 0.26279863 | E24: =E12/$B12 -> 0 | F24: =F12/$B12 -> 0.0068259386 | H24: =A24 -> 45608 | I24: =SUM(J24:M24) -> 1 | J24: =J12/$I12 -> 0.94237288 | K24: =K12/$I12 -> 0.054237288 | L24: =L12/$I12 -> 0.0033898305 | M24: =M12/$I12 -> 0 | O24: =A24 -> 45608 | P24: =SUM(Q24:T24) -> 1 | Q24: =Q12/$P12 -> 0.83673469 | R24: =R12/$P12 -> 0.15816327 | S24: =S12/$P12 -> 0.0017006803 | T24: =T12/$P12 -> 0.0034013605
A25: 5 Day Ave. | B25: =SUM(C25:F25) -> 1 | C25: =C13/$B13 -> 0.72074984 | D25: =D13/$B13 -> 0.26890756 | E25: =E13/$B13 -> 0 | F25: =F13/$B13 -> 0.010342599 | H25: 5 Day Ave. | I25: =SUM(J25:M25) -> 1 | J25: =J13/$I13 -> 0.94476744 | K25: =K13/$I13 -> 0.053052326 | L25: =L13/$I13 -> 0.0014534884 | M25: =M13/$I13 -> 0.00072674419 | O25: 5 Day Ave. | P25: =SUM(Q25:T25) -> 1 | Q25: =Q13/$P13 -> 0.82620595 | R25: =R13/$P13 -> 0.16729388 | S25: =S13/$P13 -> 0.00068422853 | T25: =T13/$P13 -> 0.0058159425
A26: 7 Day Ave. | B26: =SUM(C26:F26) -> 1 | C26: =C14/$B14 -> 0.72601385 | D26: =D14/$B14 -> 0.26557864 | E26: =E14/$B14 -> 0 | F26: =F14/$B14 -> 0.0084075173 | H26: 7 Day Ave. | I26: =SUM(J26:M26) -> 1 | J26: =J14/$I14 -> 0.9493188 | K26: =K14/$I14 -> 0.049046322 | L26: =L14/$I14 -> 0.0010899183 | M26: =M14/$I14 -> 0.00054495913 | O26: 7 Day Ave. | P26: =SUM(Q26:T26) -> 1 | Q26: =Q14/$P14 -> 0.83225305 | R26: =R14/$P14 -> 0.16256158 | S26: =S14/$P14 -> 0.00051853772 | T26: =T14/$P14 -> 0.0046668395
A27: Paul Castle Associates | H27: Paul Castle Associates | O27: Paul Castle Associates

Sheet (0-24) Speed Summary
A1: ='Flow Summary'!A1 -> Wrexham ATC, Cristionydd Lane
A4: Direction: | B4: ='Flow Summary'!B4 -> Southbound
B7: Total Volume | C7: 85th Percentile | D7: Mean Average | E7: Standard Deviation | F7: ='Speed 06 11 2024'!F7 -> Bin 1 <10mph | G7: ='Speed 06 11 2024'!G7 -> Bin 2 10<15 | H7: ='Speed 06 11 2024'!H7 -> Bin 3 15<20 | I7: ='Speed 06 11 2024'!I7 -> Bin 4 20<25 | J7: ='Speed 06 11 2024'!J7 -> Bin 5 25<30 | K7: ='Speed 06 11 2024'!K7 -> Bin 6 30<35 | L7: ='Speed 06 11 2024'!L7 -> Bin 7 35<40 | M7: ='Speed 06 11 2024'!M7 -> Bin 8 40<45 | ... Q7: ='Speed 06 11 2024'!Q7 -> Bin 12 >=60
A8: ='Class Summary'!A6 -> 45602 | B8: =SUM(F8:Q8) -> 290 | C8: ='Speed 06 11 2024'!C37 -> 35.806968 | D8: ='Speed 06 11 2024'!D37 -> 28.753448 | E8: ='Speed 06 11 2024'!E37 -> 6.8057887 | F8: ='Speed 06 11 2024'!F37 -> 2 | G8: ='Speed 06 11 2024'!G37 -> 7 | H8: ='Speed 06 11 2024'!H37 -> 14 | I8: ='Speed 06 11 2024'!I37 -> 47 | J8: ='Speed 06 11 2024'!J37 -> 94 | ... Q8: ='Speed 06 11 2024'!Q37 -> 1
A9: ='Class Summary'!A7 -> 45603 | B9: =SUM(F9:Q9) -> 311 | C9: ='Speed 07 11 2024'!C37 -> 34.824643 | D9: ='Speed 07 11 2024'!D37 -> 27.823151 | E9: ='Speed 07 11 2024'!E37 -> 6.7555887 | F9: ='Speed 07 11 2024'!F37 -> 1 | G9: ='Speed 07 11 2024'!G37 -> 13 | H9: ='Speed 07 11 2024'!H37 -> 18 | I9: ='Speed 07 11 2024'!I37 -> 58 | J9: ='Speed 07 11 2024'!J37 -> 112 | ... Q9: ='Speed 07 11 2024'!Q37 -> 0
A10: ='Class Summary'!A8 -> 45604 | B10: =SUM(F10:Q10) -> 355 | C10: ='Speed 08 11 2024'!C37 -> 34.79054 | D10: ='Speed 08 11 2024'!D37 -> 28.13662 | E10: ='Speed 08 11 2024'!E37 -> 6.420224 | F10: ='Speed 08 11 2024'!F37 -> 2 | G10: ='Speed 08 11 2024'!G37 -> 13 | H10: ='Speed 08 11 2024'!H37 -> 13 | I10: ='Speed 08 11 2024'!I37 -> 65 | J10: ='Speed 08 11 2024'!J37 -> 128 | ... Q10: ='Speed 08 11 2024'!Q37 -> 0
A11: ='Class Summary'!A9 -> 45605 | B11: =SUM(F11:Q11) -> 257 | C11: ='Speed 09 11 2024'!C37 -> 35.905945 | D11: ='Speed 09 11 2024'!D37 -> 28.628405 | E11: ='Speed 09 11 2024'!E37 -> 7.0219418 | F11: ='Speed 09 11 2024'!F37 -> 0 | G11: ='Speed 09 11 2024'!G37 -> 9 | H11: ='Speed 09 11 2024'!H37 -> 15 | I11: ='Speed 09 11 2024'!I37 -> 44 | J11: ='Speed 09 11 2024'!J37 -> 85 | ... Q11: ='Speed 09 11 2024'!Q37 -> 0
A12: ='Class Summary'!A10 -> 45606 | B12: =SUM(F12:Q12) -> 218 | C12: ='Speed 10 11 2024'!C37 -> 34.99262 | D12: ='Speed 10 11 2024'!D37 -> 27.889908 | E12: ='Speed 10 11 2024'!E37 -> 6.8532537 | F12: ='Speed 10 11 2024'!F37 -> 0 | G12: ='Speed 10 11 2024'!G37 -> 12 | H12: ='Speed 10 11 2024'!H37 -> 10 | I12: ='Speed 10 11 2024'!I37 -> 37 | J12: ='Speed 10 11 2024'!J37 -> 83 | ... Q12: ='Speed 10 11 2024'!Q37 -> 0
A13: ='Class Summary'!A11 -> 45607 | B13: =SUM(F13:Q13) -> 298 | C13: ='Speed 11 11 2024'!C37 -> 34.758108 | D13: ='Speed 11 11 2024'!D37 -> 28.525168 | E13: ='Speed 11 11 2024'!E37 -> 6.01403 | F13: ='Speed 11 11 2024'!F37 -> 1 | G13: ='Speed 11 11 2024'!G37 -> 9 | H13: ='Speed 11 11 2024'!H37 -> 12 | I13: ='Speed 11 11 2024'!I37 -> 47 | J13: ='Speed 11 11 2024'!J37 -> 103 | ... Q13: ='Speed 11 11 2024'!Q37 -> 0
A14: ='Class Summary'!A12 -> 45608 | B14: =SUM(F14:Q14) -> 293 | C14: ='Speed 12 11 2024'!C37 -> 35.092993 | D14: ='Speed 12 11 2024'!D37 -> 28.44198 | E14: ='Speed 12 11 2024'!E37 -> 6.4174189 | F14: ='Speed 12 11 2024'!F37 -> 2 | G14: ='Speed 12 11 2024'!G37 -> 7 | H14: ='Speed 12 11 2024'!H37 -> 13 | I14: ='Speed 12 11 2024'!I37 -> 49 | J14: ='Speed 12 11 2024'!J37 -> 107 | ... Q14: ='Speed 12 11 2024'!Q37 -> 0
A15: 5 Day Ave. | B15: =SUM(IF(WEEKDAY($A8,2)<6,B8,0),IF(WEEKDAY($A9,2)<6,B9,0),IF(WEEKDAY($A10,2)<6,B10,0),IF(WEEKDAY($A11,2)<6,B11,0),IF(WEEKDAY($A12,2)<6,B12,0),IF(WEEKDAY($A13,2)<6,B13,0),IF(WEEKDAY($A14,2)<6,B14,0))/5 -> 309.4 | C15: =SUM(IF(WEEKDAY($A8,2)<6,C8,0),IF(WEEKDAY($A9,2)<6,C9,0),IF(WEEKDAY($A10,2)<6,C10,0),IF(WEEKDAY($A11,2)<6,C11,0),IF(WEEKDAY($A12,2)<6,C12,0),IF(WEEKDAY($A13,2)<6,C13,0),IF(WEEKDAY($A14,2)<6,C14,0))/5 -> 35.05465 | D15: =SUM(IF(WEEKDAY($A8,2)<6,D8,0),IF(WEEKDAY($A9,2)<6,D9,0),IF(WEEKDAY($A10,2)<6,D10,0),IF(WEEKDAY($A11,2)<6,D11,0),IF(WEEKDAY($A12,2)<6,D12,0),IF(WEEKDAY($A13,2)<6,D13,0),IF(WEEKDAY($A14,2)<6,D14,0))/5 -> 28.336073 | E15: =SUM(IF(WEEKDAY($A8,2)<6,E8,0),IF(WEEKDAY($A9,2)<6,E9,0),IF(WEEKDAY($A10,2)<6,E10,0),IF(WEEKDAY($A11,2)<6,E11,0),IF(WEEKDAY($A12,2)<6,E12,0),IF(WEEKDAY($A13,2)<6,E13,0),IF(WEEKDAY($A14,2)<6,E14,0))/5 -> 6.4826101 | F15: =SUM(IF(WEEKDAY($A8,2)<6,F8,0),IF(WEEKDAY($A9,2)<6,F9,0),IF(WEEKDAY($A10,2)<6,F10,0),IF(WEEKDAY($A11,2)<6,F11,0),IF(WEEKDAY($A12,2)<6,F12,0),IF(WEEKDAY($A13,2)<6,F13,0),IF(WEEKDAY($A14,2)<6,F14,0))/5 -> 1.6 | G15: =SUM(IF(WEEKDAY($A8,2)<6,G8,0),IF(WEEKDAY($A9,2)<6,G9,0),IF(WEEKDAY($A10,2)<6,G10,0),IF(WEEKDAY($A11,2)<6,G11,0),IF(WEEKDAY($A12,2)<6,G12,0),IF(WEEKDAY($A13,2)<6,G13,0),IF(WEEKDAY($A14,2)<6,G14,0))/5 -> 9.8 | H15: =SUM(IF(WEEKDAY($A8,2)<6,H8,0),IF(WEEKDAY($A9,2)<6,H9,0),IF(WEEKDAY($A10,2)<6,H10,0),IF(WEEKDAY($A11,2)<6,H11,0),IF(WEEKDAY($A12,2)<6,H12,0),IF(WEEKDAY($A13,2)<6,H13,0),IF(WEEKDAY($A14,2)<6,H14,0))/5 -> 14 | I15: =SUM(IF(WEEKDAY($A8,2)<6,I8,0),IF(WEEKDAY($A9,2)<6,I9,0),IF(WEEKDAY($A10,2)<6,I10,0),IF(WEEKDAY($A11,2)<6,I11,0),IF(WEEKDAY($A12,2)<6,I12,0),IF(WEEKDAY($A13,2)<6,I13,0),IF(WEEKDAY($A14,2)<6,I14,0))/5 -> 53.2 | ... Q15: =SUM(IF(WEEKDAY($A8,2)<6,Q8,0),IF(WEEKDAY($A9,2)<6,Q9,0),IF(WEEKDAY($A10,2)<6,Q10,0),IF(WEEKDAY($A11,2)<6,Q11,0),IF(WEEKDAY($A12,2)<6,Q12,0),IF(WEEKDAY($A13,2)<6,Q13,0),IF(WEEKDAY($A14,2)<6,Q14,0))/5 -> 0.2
A16: 7 Day Ave. | B16: =SUM(B8:B14)/7 -> 288.85714 | C16: =SUM(C8:C14)/7 -> 35.167402 | D16: =SUM(D8:D14)/7 -> 28.314097 | E16: =SUM(E8:E14)/7 -> 6.6126065 | F16: =SUM(F8:F14)/7 -> 1.1428571 | G16: =SUM(G8:G14)/7 -> 10 | H16: =SUM(H8:H14)/7 -> 13.571429 | I16: =SUM(I8:I14)/7 -> 49.571429 | ... Q16: =SUM(Q8:Q14)/7 -> 0.14285714
A17: Paul Castle Associates
A22: Direction: | B22: ='Flow Summary'!M4 -> Northbound
B25: Total Volume | C25: 85th Percentile | D25: Mean Average | E25: Standard Deviation | F25: =F7 -> Bin 1 <10mph | G25: =G7 -> Bin 2 10<15 | H25: =H7 -> Bin 3 15<20 | I25: =I7 -> Bin 4 20<25 | J25: =J7 -> Bin 5 25<30 | K25: =K7 -> Bin 6 30<35 | L25: =L7 -> Bin 7 35<40 | M25: =M7 -> Bin 8 40<45 | ... Q25: =Q7 -> Bin 12 >=60
A26: =A8 -> 45602 | B26: =SUM(F26:Q26) -> 270 | C26: ='Speed 06 11 2024'!C83 -> 29.518783 | D26: ='Speed 06 11 2024'!D83 -> 24.261111 | E26: ='Speed 06 11 2024'!E83 -> 5.073014 | F26: ='Speed 06 11 2024'!F83 -> 1 | G26: ='Speed 06 11 2024'!G83 -> 12 | H26: ='Speed 06 11 2024'!H83 -> 25 | I26: ='Speed 06 11 2024'!I83 -> 119 | J26: ='Speed 06 11 2024'!J83 -> 85 | ... Q26: ='Speed 06 11 2024'!Q83 -> 0
A27: =A9 -> 45603 | B27: =SUM(F27:Q27) -> 279 | C27: ='Speed 07 11 2024'!C83 -> 28.57006 | D27: ='Speed 07 11 2024'!D83 -> 23.351254 | E27: ='Speed 07 11 2024'!E83 -> 5.0355131 | F27: ='Speed 07 11 2024'!F83 -> 5 | G27: ='Speed 07 11 2024'!G83 -> 9 | H27: ='Speed 07 11 2024'!H83 -> 40 | I27: ='Speed 07 11 2024'!I83 -> 128 | J27: ='Speed 07 11 2024'!J83 -> 77 | ... Q27: ='Speed 07 11 2024'!Q83 -> 0
A28: =A10 -> 45604 | B28: =SUM(F28:Q28) -> 285 | C28: ='Speed 08 11 2024'!C83 -> 28.525501 | D28: ='Speed 08 11 2024'!D83 -> 23.578947 | E28: ='Speed 08 11 2024'!E83 -> 4.7728227 | F28: ='Speed 08 11 2024'!F83 -> 5 | G28: ='Speed 08 11 2024'!G83 -> 7 | H28: ='Speed 08 11 2024'!H83 -> 30 | I28: ='Speed 08 11 2024'!I83 -> 145 | J28: ='Speed 08 11 2024'!J83 -> 80 | ... Q28: ='Speed 08 11 2024'!Q83 -> 0
A29: =A11 -> 45605 | B29: =SUM(F29:Q29) -> 240 | C29: ='Speed 09 11 2024'!C83 -> 29.126823 | D29: ='Speed 09 11 2024'!D83 -> 23.966667 | E29: ='Speed 09 11 2024'!E83 -> 4.9789235 | F29: ='Speed 09 11 2024'!F83 -> 4 | G29: ='Speed 09 11 2024'!G83 -> 9 | H29: ='Speed 09 11 2024'!H83 -> 20 | I29: ='Speed 09 11 2024'!I83 -> 107 | J29: ='Speed 09 11 2024'!J83 -> 83 | ... Q29: ='Speed 09 11 2024'!Q83 -> 0
A30: =A12 -> 45606 | B30: =SUM(F30:Q30) -> 219 | C30: ='Speed 10 11 2024'!C83 -> 28.77254 | D30: ='Speed 10 11 2024'!D83 -> 23.920091 | E30: ='Speed 10 11 2024'!E83 -> 4.6820228 | F30: ='Speed 10 11 2024'!F83 -> 2 | G30: ='Speed 10 11 2024'!G83 -> 6 | H30: ='Speed 10 11 2024'!H83 -> 26 | I30: ='Speed 10 11 2024'!I83 -> 96 | J30: ='Speed 10 11 2024'!J83 -> 73 | ... Q30: ='Speed 10 11 2024'!Q83 -> 0
A31: =A13 -> 45607 | B31: =SUM(F31:Q31) -> 247 | C31: ='Speed 11 11 2024'!C83 -> 28.926326 | D31: ='Speed 11 11 2024'!D83 -> 24.325911 | E31: ='Speed 11 11 2024'!E83 -> 4.438841 | F31: ='Speed 11 11 2024'!F83 -> 2 | G31: ='Speed 11 11 2024'!G83 -> 7 | H31: ='Speed 11 11 2024'!H83 -> 17 | I31: ='Speed 11 11 2024'!I83 -> 112 | J31: ='Speed 11 11 2024'!J83 -> 92 | ... Q31: ='Speed 11 11 2024'!Q83 -> 0
A32: =A14 -> 45608 | B32: =SUM(F32:Q32) -> 295 | C32: ='Speed 12 11 2024'!C83 -> 28.657282 | D32: ='Speed 12 11 2024'!D83 -> 23.944068 | E32: ='Speed 12 11 2024'!E83 -> 4.5476791 | F32: ='Speed 12 11 2024'!F83 -> 2 | G32: ='Speed 12 11 2024'!G83 -> 9 | H32: ='Speed 12 11 2024'!H83 -> 31 | I32: ='Speed 12 11 2024'!I83 -> 131 | J32: ='Speed 12 11 2024'!J83 -> 108 | ... Q32: ='Speed 12 11 2024'!Q83 -> 0
A33: 5 Day Ave. | B33: =SUM(IF(WEEKDAY($A26,2)<6,B26,0),IF(WEEKDAY($A27,2)<6,B27,0),IF(WEEKDAY($A28,2)<6,B28,0),IF(WEEKDAY($A29,2)<6,B29,0),IF(WEEKDAY($A30,2)<6,B30,0),IF(WEEKDAY($A31,2)<6,B31,0),IF(WEEKDAY($A32,2)<6,B32,0))/5 -> 275.2 | C33: =SUM(IF(WEEKDAY($A26,2)<6,C26,0),IF(WEEKDAY($A27,2)<6,C27,0),IF(WEEKDAY($A28,2)<6,C28,0),IF(WEEKDAY($A29,2)<6,C29,0),IF(WEEKDAY($A30,2)<6,C30,0),IF(WEEKDAY($A31,2)<6,C31,0),IF(WEEKDAY($A32,2)<6,C32,0))/5 -> 28.83959 | D33: =SUM(IF(WEEKDAY($A26,2)<6,D26,0),IF(WEEKDAY($A27,2)<6,D27,0),IF(WEEKDAY($A28,2)<6,D28,0),IF(WEEKDAY($A29,2)<6,D29,0),IF(WEEKDAY($A30,2)<6,D30,0),IF(WEEKDAY($A31,2)<6,D31,0),IF(WEEKDAY($A32,2)<6,D32,0))/5 -> 23.892258 | E33: =SUM(IF(WEEKDAY($A26,2)<6,E26,0),IF(WEEKDAY($A27,2)<6,E27,0),IF(WEEKDAY($A28,2)<6,E28,0),IF(WEEKDAY($A29,2)<6,E29,0),IF(WEEKDAY($A30,2)<6,E30,0),IF(WEEKDAY($A31,2)<6,E31,0),IF(WEEKDAY($A32,2)<6,E32,0))/5 -> 4.773574 | F33: =SUM(IF(WEEKDAY($A26,2)<6,F26,0),IF(WEEKDAY($A27,2)<6,F27,0),IF(WEEKDAY($A28,2)<6,F28,0),IF(WEEKDAY($A29,2)<6,F29,0),IF(WEEKDAY($A30,2)<6,F30,0),IF(WEEKDAY($A31,2)<6,F31,0),IF(WEEKDAY($A32,2)<6,F32,0))/5 -> 3 | G33: =SUM(IF(WEEKDAY($A26,2)<6,G26,0),IF(WEEKDAY($A27,2)<6,G27,0),IF(WEEKDAY($A28,2)<6,G28,0),IF(WEEKDAY($A29,2)<6,G29,0),IF(WEEKDAY($A30,2)<6,G30,0),IF(WEEKDAY($A31,2)<6,G31,0),IF(WEEKDAY($A32,2)<6,G32,0))/5 -> 8.8 | H33: =SUM(IF(WEEKDAY($A26,2)<6,H26,0),IF(WEEKDAY($A27,2)<6,H27,0),IF(WEEKDAY($A28,2)<6,H28,0),IF(WEEKDAY($A29,2)<6,H29,0),IF(WEEKDAY($A30,2)<6,H30,0),IF(WEEKDAY($A31,2)<6,H31,0),IF(WEEKDAY($A32,2)<6,H32,0))/5 -> 28.6 | I33: =SUM(IF(WEEKDAY($A26,2)<6,I26,0),IF(WEEKDAY($A27,2)<6,I27,0),IF(WEEKDAY($A28,2)<6,I28,0),IF(WEEKDAY($A29,2)<6,I29,0),IF(WEEKDAY($A30,2)<6,I30,0),IF(WEEKDAY($A31,2)<6,I31,0),IF(WEEKDAY($A32,2)<6,I32,0))/5 -> 127 | ... Q33: =SUM(IF(WEEKDAY($A26,2)<6,Q26,0),IF(WEEKDAY($A27,2)<6,Q27,0),IF(WEEKDAY($A28,2)<6,Q28,0),IF(WEEKDAY($A29,2)<6,Q29,0),IF(WEEKDAY($A30,2)<6,Q30,0),IF(WEEKDAY($A31,2)<6,Q31,0),IF(WEEKDAY($A32,2)<6,Q32,0))/5 -> 0
A34: 7 Day Ave. | B34: =SUM(B26:B32)/7 -> 262.14286 | C34: =SUM(C26:C32)/7 -> 28.871045 | D34: =SUM(D26:D32)/7 -> 23.906864 | E34: =SUM(E26:E32)/7 -> 4.7898309 | F34: =SUM(F26:F32)/7 -> 3 | G34: =SUM(G26:G32)/7 -> 8.4285714 | H34: =SUM(H26:H32)/7 -> 27 | I34: =SUM(I26:I32)/7 -> 119.71429 | ... Q34: =SUM(Q26:Q32)/7 -> 0
A35: Paul Castle Associates
A40: Direction: | B40: Total Flow
B43: Total Volume | C43: 85th Percentile | D43: Mean Average | E43: Standard Deviation | F43: =F7 -> Bin 1 <10mph | G43: =G7 -> Bin 2 10<15 | H43: =H7 -> Bin 3 15<20 | I43: =I7 -> Bin 4 20<25 | J43: =J7 -> Bin 5 25<30 | K43: =K7 -> Bin 6 30<35 | L43: =L7 -> Bin 7 35<40 | M43: =M7 -> Bin 8 40<45 | ... Q43: =Q7 -> Bin 12 >=60
A44: =A8 -> 45602 | B44: =SUM(F44:Q44) -> 560 | C44: ='Speed 06 11 2024'!C129 -> 33.254278 | D44: ='Speed 06 11 2024'!D129 -> 26.5875 | E44: ='Speed 06 11 2024'!E129 -> 6.4326304 | F44: ='Speed 06 11 2024'!F129 -> 3 | G44: ='Speed 06 11 2024'!G129 -> 19 | H44: ='Speed 06 11 2024'!H129 -> 39 | I44: ='Speed 06 11 2024'!I129 -> 166 | J44: ='Speed 06 11 2024'!J129 -> 179 | ... Q44: ='Speed 06 11 2024'!Q129 -> 1
A45: =A9 -> 45603 | B45: =SUM(F45:Q45) -> 590 | C45: ='Speed 07 11 2024'!C129 -> 32.343141 | D45: ='Speed 07 11 2024'!D129 -> 25.708475 | E45: ='Speed 07 11 2024'!E129 -> 6.4016469 | F45: ='Speed 07 11 2024'!F129 -> 6 | G45: ='Speed 07 11 2024'!G129 -> 22 | H45: ='Speed 07 11 2024'!H129 -> 58 | I45: ='Speed 07 11 2024'!I129 -> 186 | J45: ='Speed 07 11 2024'!J129 -> 189 | ... Q45: ='Speed 07 11 2024'!Q129 -> 0
A46: =A10 -> 45604 | B46: =SUM(F46:Q46) -> 640 | C46: ='Speed 08 11 2024'!C129 -> 32.504102 | D46: ='Speed 08 11 2024'!D129 -> 26.107031 | E46: ='Speed 08 11 2024'!E129 -> 6.1723953 | F46: ='Speed 08 11 2024'!F129 -> 7 | G46: ='Speed 08 11 2024'!G129 -> 20 | H46: ='Speed 08 11 2024'!H129 -> 43 | I46: ='Speed 08 11 2024'!I129 -> 210 | J46: ='Speed 08 11 2024'!J129 -> 208 | ... Q46: ='Speed 08 11 2024'!Q129 -> 0
A47: =A11 -> 45605 | B47: =SUM(F47:Q47) -> 497 | C47: ='Speed 09 11 2024'!C129 -> 33.160078 | D47: ='Speed 09 11 2024'!D129 -> 26.377264 | E47: ='Speed 09 11 2024'!E129 -> 6.5445916 | F47: ='Speed 09 11 2024'!F129 -> 4 | G47: ='Speed 09 11 2024'!G129 -> 18 | H47: ='Speed 09 11 2024'!H129 -> 35 | I47: ='Speed 09 11 2024'!I129 -> 151 | J47: ='Speed 09 11 2024'!J129 -> 168 | ... Q47: ='Speed 09 11 2024'!Q129 -> 0
A48: =A12 -> 45606 | B48: =SUM(F48:Q48) -> 437 | C48: ='Speed 10 11 2024'!C129 -> 32.3132 | D48: ='Speed 10 11 2024'!D129 -> 25.900458 | E48: ='Speed 10 11 2024'!E129 -> 6.187517 | F48: ='Speed 10 11 2024'!F129 -> 2 | G48: ='Speed 10 11 2024'!G129 -> 18 | H48: ='Speed 10 11 2024'!H129 -> 36 | I48: ='Speed 10 11 2024'!I129 -> 133 | J48: ='Speed 10 11 2024'!J129 -> 156 | ... Q48: ='Speed 10 11 2024'!Q129 -> 0
A49: =A13 -> 45607 | B49: =SUM(F49:Q49) -> 545 | C49: ='Speed 11 11 2024'!C129 -> 32.578772 | D49: ='Speed 11 11 2024'!D129 -> 26.622018 | E49: ='Speed 11 11 2024'!E129 -> 5.7475436 | F49: ='Speed 11 11 2024'!F129 -> 3 | G49: ='Speed 11 11 2024'!G129 -> 16 | H49: ='Speed 11 11 2024'!H129 -> 29 | I49: ='Speed 11 11 2024'!I129 -> 159 | J49: ='Speed 11 11 2024'!J129 -> 195 | ... Q49: ='Speed 11 11 2024'!Q129 -> 0
A50: =A14 -> 45608 | B50: =SUM(F50:Q50) -> 588 | C50: ='Speed 12 11 2024'!C129 -> 32.396088 | D50: ='Speed 12 11 2024'!D129 -> 26.185374 | E50: ='Speed 12 11 2024'!E129 -> 5.992584 | F50: ='Speed 12 11 2024'!F129 -> 4 | G50: ='Speed 12 11 2024'!G129 -> 16 | H50: ='Speed 12 11 2024'!H129 -> 44 | I50: ='Speed 12 11 2024'!I129 -> 180 | J50: ='Speed 12 11 2024'!J129 -> 215 | ... Q50: ='Speed 12 11 2024'!Q129 -> 0
A51: 5 Day Ave. | B51: =SUM(IF(WEEKDAY($A44,2)<6,B44,0),IF(WEEKDAY($A45,2)<6,B45,0),IF(WEEKDAY($A46,2)<6,B46,0),IF(WEEKDAY($A47,2)<6,B47,0),IF(WEEKDAY($A48,2)<6,B48,0),IF(WEEKDAY($A49,2)<6,B49,0),IF(WEEKDAY($A50,2)<6,B50,0))/5 -> 584.6 | C51: =SUM(IF(WEEKDAY($A44,2)<6,C44,0),IF(WEEKDAY($A45,2)<6,C45,0),IF(WEEKDAY($A46,2)<6,C46,0),IF(WEEKDAY($A47,2)<6,C47,0),IF(WEEKDAY($A48,2)<6,C48,0),IF(WEEKDAY($A49,2)<6,C49,0),IF(WEEKDAY($A50,2)<6,C50,0))/5 -> 32.615276 | D51: =SUM(IF(WEEKDAY($A44,2)<6,D44,0),IF(WEEKDAY($A45,2)<6,D45,0),IF(WEEKDAY($A46,2)<6,D46,0),IF(WEEKDAY($A47,2)<6,D47,0),IF(WEEKDAY($A48,2)<6,D48,0),IF(WEEKDAY($A49,2)<6,D49,0),IF(WEEKDAY($A50,2)<6,D50,0))/5 -> 26.24208 | E51: =SUM(IF(WEEKDAY($A44,2)<6,E44,0),IF(WEEKDAY($A45,2)<6,E45,0),IF(WEEKDAY($A46,2)<6,E46,0),IF(WEEKDAY($A47,2)<6,E47,0),IF(WEEKDAY($A48,2)<6,E48,0),IF(WEEKDAY($A49,2)<6,E49,0),IF(WEEKDAY($A50,2)<6,E50,0))/5 -> 6.14936 | F51: =SUM(IF(WEEKDAY($A44,2)<6,F44,0),IF(WEEKDAY($A45,2)<6,F45,0),IF(WEEKDAY($A46,2)<6,F46,0),IF(WEEKDAY($A47,2)<6,F47,0),IF(WEEKDAY($A48,2)<6,F48,0),IF(WEEKDAY($A49,2)<6,F49,0),IF(WEEKDAY($A50,2)<6,F50,0))/5 -> 4.6 | G51: =SUM(IF(WEEKDAY($A44,2)<6,G44,0),IF(WEEKDAY($A45,2)<6,G45,0),IF(WEEKDAY($A46,2)<6,G46,0),IF(WEEKDAY($A47,2)<6,G47,0),IF(WEEKDAY($A48,2)<6,G48,0),IF(WEEKDAY($A49,2)<6,G49,0),IF(WEEKDAY($A50,2)<6,G50,0))/5 -> 18.6 | H51: =SUM(IF(WEEKDAY($A44,2)<6,H44,0),IF(WEEKDAY($A45,2)<6,H45,0),IF(WEEKDAY($A46,2)<6,H46,0),IF(WEEKDAY($A47,2)<6,H47,0),IF(WEEKDAY($A48,2)<6,H48,0),IF(WEEKDAY($A49,2)<6,H49,0),IF(WEEKDAY($A50,2)<6,H50,0))/5 -> 42.6 | I51: =SUM(IF(WEEKDAY($A44,2)<6,I44,0),IF(WEEKDAY($A45,2)<6,I45,0),IF(WEEKDAY($A46,2)<6,I46,0),IF(WEEKDAY($A47,2)<6,I47,0),IF(WEEKDAY($A48,2)<6,I48,0),IF(WEEKDAY($A49,2)<6,I49,0),IF(WEEKDAY($A50,2)<6,I50,0))/5 -> 180.2 | ... Q51: =SUM(IF(WEEKDAY($A44,2)<6,Q44,0),IF(WEEKDAY($A45,2)<6,Q45,0),IF(WEEKDAY($A46,2)<6,Q46,0),IF(WEEKDAY($A47,2)<6,Q47,0),IF(WEEKDAY($A48,2)<6,Q48,0),IF(WEEKDAY($A49,2)<6,Q49,0),IF(WEEKDAY($A50,2)<6,Q50,0))/5 -> 0.2
A52: 7 Day Ave. | B52: =SUM(B44:B50)/7 -> 551 | C52: =SUM(C44:C50)/7 -> 32.649952 | D52: =SUM(D44:D50)/7 -> 26.212589 | E52: =SUM(E44:E50)/7 -> 6.2112727 | F52: =SUM(F44:F50)/7 -> 4.1428571 | G52: =SUM(G44:G50)/7 -> 18.428571 | H52: =SUM(H44:H50)/7 -> 40.571429 | I52: =SUM(I44:I50)/7 -> 169.28571 | ... Q52: =SUM(Q44:Q50)/7 -> 0.14285714
A53: Paul Castle Associates

Sheet (10-12) Speed Summary
A1: ='Flow Summary'!A1 -> Wrexham ATC, Cristionydd Lane
