Workbook
Name _ftn1: 'Landcover descriptions'!$B$28
Name _ftnref1: 'Landcover descriptions'!$C$22
Name _Hlk96526273: 'Landcover descriptions'!$C$22

Sheet Introduction
C6: Carmarthenshire County Council Nutrient Budget Calculator
D7: a tool for assessing the nutrient loading from residential development to a European designated site.

Sheet Background
C1: Background - what is nutrient neutrality?
A5: Instructions
B7: Following the Court of Justice of the European Union (CJEU) ruling known as the ‘Dutch Case’, mitigation to achieve ‘nutrient neutrality’ is required for new developments that would otherwise contribute significant additional nutrient loads to a European designated site (hereafter, European site) that is close to unfavourable condition or in unfavourable condition due to nutrient pollution.
B8: The additional nutrient load from the increase in wastewater and/or the change in the land use of the development land created by a new residential development can create an impact pathway for potential negative effects on European sites that are already suffering from problems related to nutrient loading. This impact pathway is shown diagrammatically below:
B10: Habitats Regulations Assessments (HRAs) of new residential developments need to consider whether nutrient loading will result in ‘Likely Significant Effects’ (LSE) on a European site. If an HRA finds LSE due to nutrient loading, the Appropriate Assessment will need to consider whether this nutrient load needs to be mitigated in order to remove adverse effects on the European site.
B11: The first step in an HRA involving nutrient neutrality is understanding both whether a residential development will need mitigation to achieve nutrient neutrality and, if so, the amount of nutrients that require mitigating on an annual basis. In order to understand the amount of nutrients a new residential development will create, a nutrient budget for the development is required.
B12: The Afonydd Cleddau / Cleddau Rivers Special Area of Conservation (SAC), Afon Tywi / River Tywi SAC, the Afon Teifi / River Teifi SAC and the Afon Gwy / River Wye SAC are in unfavourable condition or are close to unfavourable condition due to excessive phosphorus levels. Parts of the catchments of these European sites are within the Carmarthenshire County Council boundary. If a development is within these catchments, a phosphorus budget will need to be completed in order to determine if the site will result in 'adverse effects on site integrity' in these European sites due to an increase in nutrient loading caused by the development.
B13: This tool provides a step-by-step approach to calculating the phosphorus budget for a new residential development. Before a phosphorus budget can be completed using the methodology, certain site-specific details for the European Site in question need to be determined. The required details for each stage of the nutrient budget methodology are shown in the instructions tab, with an associated guidance document that informs users of this methodology how to generate the key inputs.

Sheet Instructions
C1: Instructions
B7: Overview:
B8: To calculate the nutrient loading to a European site, the user will need to navigate this tool in the order of the four stages of the nutrient budget:
B20: Site-specific information about the development will need to be entered into Stages 1-3 in order for the tool to calculate the nutrient budget in Stage 4. The outputs from each stage of the nutrient budget are used to calculate the budget using the equation shown below:
B27: Basic Instructions:
B29: Key: | D29: Values to be entered by the user
D30: Fixed or calculated values
D31: Lookup tables
B33: When a cell is selected, instructions are shown on how to fill out the cell:
B42: When using this tool, it is recommended that the user saves a new copy of this workbook for each nutrient budget calculation, in order to retain a default blank copy.
B43: The values already included in this tool have been chosen based on research to determine suitable inputs to the nutrient budget that meet the HRA tests of beyond reasonable scientific doubt, in perpetuity (practically speaking this is 80-125 years) and in accordance with the precautionary principle. It is highly unadvisable to edit the values in this tool without a sufficient evidence base to justify any changes.
B45: Stage specific instructions:
B47: Stage 1: calculate the new nutrient load associated with the additional wastewater:
B48: In this section the user will need to enter:
B49: > The estimated date of first occupancy
B50: > The average occupancy rate of the development. The default setting is 2.3 people per dwelling/unit. Only change this value if there is sufficient evidence that the development will be different to this value.
B51: > The estimated average water usage per person. This is set to a default of 120 litres/person/day which is 10 litres higher than the standard set by the Welsh Ministers of 110 litres/person/day of wholesome water where a dwelling/unit is erected. The extra 10 litres is a precautionary approach to account for water usage variations. If a dwelling/unit is formed by a material change of use of a building, then this value should be changed to 135 litres/person/day. This value is 10 litres above the standard in order to be precautionary.
B52: > The number of dwellings/units that will comprise the development at the time of project completion.
B53: > The Wastewater Treatment Works (WwTW) to which the development will drain. If the WwTW the site will drain to is not known, please obtain this information from Dwr Cymru/Welsh Water in order to complete the calculator. If connecting to the sewerage network is unfeasible and a septic tank or package treatment plant is being used, please select this option. Please be aware that if total phosphorus (TP) final effluent concentrations (in mg/l) are specified by the manufacturer, please select 'Septic Tank user defined' or 'Package Treatment Plant user defined' and enter the manufacturer specified value in the cell where prompted.
B55: Stage 2 - calculate the annual nutrient load from existing (pre-development) land use on the development site:
... B58: Instructions on how to find the soil drainage information
B59: a) Go to this link: | C59: http://www.landis.org.uk/soilscapes/#.
B60: b) Find the site location on the map by using the search bar on the right side of the map in the 'Search' tab. Searching an area will generate a pop up window in which you can view the soil information by clicking 'View soil information'. If this is not an option then click on the relevant soil type on the map and click on the 'Soil information' tab on the right hand side of the map, below the 'Search' tab.
B61: c) The 'Soil drainage type' value can be found In the 'Soil information' under the title 'Drainage:'
B62: d) Make a note of this soil type and select the relevant soil drainage type from the drop down list in the relevant cell.
B63: Instructions on how to find the annual average rainfall that the development will receive:
B64: a) Go to this link: | C64: https://nrfa.ceh.ac.uk/data/station/spatial/60010
B65: b) This link will bring the user to the Tywi at Capel Dewi flow gauge catchment information page.
B66: c) Click on the dropdown list next to the title 'Select spatial data type to view:' on the left of the map and select 'Rainfall'. Next select the Legend tab.
B67: d) Zoom in on the map to find the location of the development and find the corresponding rainfall range from the Legend.
B68: e) Select the rainfall band from the drop down list in the table. If your rainfall band is not in the drop down list, please select the closest band shown in the list.
B69: The drop down list of landcover types contains ten agricultural landcover types and eight different non-agricultural landcover types that may be present in the development. The ten agricultural landcover types that are selectable in Stage 2 are based on the Defra robust farm types. The descriptions of each landcover type can be found in the 'Landcover descriptions' sheet. The guidance document that accompanies this calculator provides some examples of developments and the appropriate landcover type to select. Please find out what landcover types are within the development before completing this tool. If there is a landcover within the development area that is not in the list please select the most similar landcover type.
B71: Stage 3 - calculate the annual nutrient load from new (post-development) land use on the development site:
B72: In this section the user will need to select the type(s) and area(s) of the landcover present on the new site.
B73: The drop down list of landcover types contains eight different landcover types that may be present on the development site. Please find out what landcover types will be within the development site before completing this tool. If there is a landcover within the development site that is not in the list please select the most similar landcover type.
B74: The guidance document that accompanies this calculator breaks down what is included in each landcover type.
B76: Stage 4 - calculate the net change in nutrient loading for the site and the final annual nutrient budget for the development site:
B77: This final stage automatically calculates the results from Stage 1-3 using the equation below.
B78: The value(s) shown are how much nutrient mitigation is required in kilograms per year to achieve nutrient neutrality.

Sheet Development site details
C1: Development site details
A5: Instructions | C5: User Inputs required
B7: Date: | C7: 45015
B8: Site Name: | C8: Site 5, Wrexham
B9: Planning Application number:
B10: Site Address: | C10: Site 5, Clywedog Road South, Wrexham, LL13 9AE

Sheet Stage 1
C1: Stage 1 - additional nutrient loading from wastewater
A5: Instructions | C5: User Inputs required
B7: Date of first occupancy: | C7: 45381
B8: Average occupancy rate: | C8: 15
B9: Water usage (litres/person/day): | C9: 50
B10: Development Proposal (dwellings/units): | C10: 1
B11: Wastewater treatment works: | C11: Alltwalis STW
B12: Wastewater treatment works P permit (mg TP/litre): | C12: =IFERROR(IF(OR(C11="Package Treatment Plant user defined",C11="Septic Tank user defined"),"Please enter value in cell to the right:",VLOOKUP('Stage 1'!C11,Lookups!B9:D55,2,FALSE)),"") -> 8
B14: Additional population | C14: =IF(ISBLANK(C10),"",C8*C10) -> 15 | D14: persons
B15: Wastewater by development | C15: =IFERROR(C14*C9,"") -> 750 | D15: litres/day
B16: TP discharge from WwTW | C16: =IFERROR(IF(C12="Please enter value in cell to the right:",IF(AND(C12="Please enter value in cell to the right:",ISNUMBER(D12)),C15*D12, VLOOKUP((LEFT(C11,(LEN(C11)-13))&" default"),Lookups!B9:C10,2,FALSE)*C15),IF(OR(C11="Package Treatment Plant default",C11="Septic Tank default"),C12*C15,C12*C15)),"") -> 6000 | D16: mg TP / day
B17: Convert to kg/TP/d | C17: =IFERROR($C$16/1000000,"") -> 0.006 | D17: kg TP / day
B18: Convert to kg/TP/yr | C18: =IFERROR($C$17*365.25,"") -> 2.1915 | D18: kg TP/yr
B19: Annual wastewater TP load | C19: =C18 -> 2.1915 | D19: kg TP/yr

Sheet Stage 2
C1: Stage 2 - phosphorus loading from exisiting land use
A5: Instructions | B5: User Inputs required
B7: Soil drainage type: | D7: Impeded drainage
B8: Annual average rainfall (mm): | D8: 900.1 - 950
B10: Existing Land Use Type(s) | C10: Area (ha) | D10: Annual phosphorus nutrient export (kg TP/year)
B11: Greenspace | C11: 3.01 | D11: =IF(OR(ISBLANK(B11),ISBLANK(C11)),"",IFERROR(C11*VLOOKUP((IF(OR(B11="Residential land",B11="Commercial/industrial land",B11="Open land – built environment",B11="Greenspace",B11="Community food growing",B11="Woodland",B11="Shrub", B11="Water"), "|||"&B11, (B11&"|"&VLOOKUP('Stage 2'!$D$8,Lookups!$B$190:$D$200,3,FALSE)&"|"&VLOOKUP($D$7,Lookups!$B$59:$C$64,2,FALSE)))),Lookups!$E$68:$F$165,2,FALSE),"")) -> 0.0602
D12: =IF(OR(ISBLANK(B12),ISBLANK(C12)),"",IFERROR(C12*VLOOKUP((IF(OR(B12="Residential land",B12="Commercial/industrial land",B12="Open land – built environment",B12="Greenspace",B12="Community food growing",B12="Woodland",B12="Shrub", B12="Water"), "|||"&B12, (B12&"|"&VLOOKUP('Stage 2'!$D$8,Lookups!$B$190:$D$200,3,FALSE)&"|"&VLOOKUP($D$7,Lookups!$B$59:$C$64,2,FALSE)))),Lookups!$E$68:$F$165,2,FALSE),""))
D13: =IF(OR(ISBLANK(B13),ISBLANK(C13)),"",IFERROR(C13*VLOOKUP((IF(OR(B13="Residential land",B13="Commercial/industrial land",B13="Open land – built environment",B13="Greenspace",B13="Community food growing",B13="Woodland",B13="Shrub", B13="Water"), "|||"&B13, (B13&"|"&VLOOKUP('Stage 2'!$D$8,Lookups!$B$190:$D$200,3,FALSE)&"|"&VLOOKUP($D$7,Lookups!$B$59:$C$64,2,FALSE)))),Lookups!$E$68:$F$165,2,FALSE),""))
D14: =IF(OR(ISBLANK(B14),ISBLANK(C14)),"",IFERROR(C14*VLOOKUP((IF(OR(B14="Residential land",B14="Commercial/industrial land",B14="Open land – built environment",B14="Greenspace",B14="Community food growing",B14="Woodland",B14="Shrub", B14="Water"), "|||"&B14, (B14&"|"&VLOOKUP('Stage 2'!$D$8,Lookups!$B$190:$D$200,3,FALSE)&"|"&VLOOKUP($D$7,Lookups!$B$59:$C$64,2,FALSE)))),Lookups!$E$68:$F$165,2,FALSE),""))
D15: =IF(OR(ISBLANK(B15),ISBLANK(C15)),"",IFERROR(C15*VLOOKUP((IF(OR(B15="Residential land",B15="Commercial/industrial land",B15="Open land – built environment",B15="Greenspace",B15="Community food growing",B15="Woodland",B15="Shrub", B15="Water"), "|||"&B15, (B15&"|"&VLOOKUP('Stage 2'!$D$8,Lookups!$B$190:$D$200,3,FALSE)&"|"&VLOOKUP($D$7,Lookups!$B$59:$C$64,2,FALSE)))),Lookups!$E$68:$F$165,2,FALSE),""))
D16: =IF(OR(ISBLANK(B16),ISBLANK(C16)),"",IFERROR(C16*VLOOKUP((IF(OR(B16="Residential land",B16="Commercial/industrial land",B16="Open land – built environment",B16="Greenspace",B16="Community food growing",B16="Woodland",B16="Shrub", B16="Water"), "|||"&B16, (B16&"|"&VLOOKUP('Stage 2'!$D$8,Lookups!$B$190:$D$200,3,FALSE)&"|"&VLOOKUP($D$7,Lookups!$B$59:$C$64,2,FALSE)))),Lookups!$E$68:$F$165,2,FALSE),""))
D17: =IF(OR(ISBLANK(B17),ISBLANK(C17)),"",IFERROR(C17*VLOOKUP((IF(OR(B17="Residential land",B17="Commercial/industrial land",B17="Open land – built environment",B17="Greenspace",B17="Community food growing",B17="Woodland",B17="Shrub", B17="Water"), "|||"&B17, (B17&"|"&VLOOKUP('Stage 2'!$D$8,Lookups!$B$190:$D$200,3,FALSE)&"|"&VLOOKUP($D$7,Lookups!$B$59:$C$64,2,FALSE)))),Lookups!$E$68:$F$165,2,FALSE),""))
D18: =IF(OR(ISBLANK(B18),ISBLANK(C18)),"",IFERROR(C18*VLOOKUP((IF(OR(B18="Residential land",B18="Commercial/industrial land",B18="Open land – built environment",B18="Greenspace",B18="Community food growing",B18="Woodland",B18="Shrub", B18="Water"), "|||"&B18, (B18&"|"&VLOOKUP('Stage 2'!$D$8,Lookups!$B$190:$D$200,3,FALSE)&"|"&VLOOKUP($D$7,Lookups!$B$59:$C$64,2,FALSE)))),Lookups!$E$68:$F$165,2,FALSE),""))
D19: =IF(OR(ISBLANK(B19),ISBLANK(C19)),"",IFERROR(C19*VLOOKUP((IF(OR(B19="Residential land",B19="Commercial/industrial land",B19="Open land – built environment",B19="Greenspace",B19="Community food growing",B19="Woodland",B19="Shrub", B19="Water"), "|||"&B19, (B19&"|"&VLOOKUP('Stage 2'!$D$8,Lookups!$B$190:$D$200,3,FALSE)&"|"&VLOOKUP($D$7,Lookups!$B$59:$C$64,2,FALSE)))),Lookups!$E$68:$F$165,2,FALSE),""))
D20: =IF(OR(ISBLANK(B20),ISBLANK(C20)),"",IFERROR(C20*VLOOKUP((IF(OR(B20="Residential land",B20="Commercial/industrial land",B20="Open land – built environment",B20="Greenspace",B20="Community food growing",B20="Woodland",B20="Shrub", B20="Water"), "|||"&B20, (B20&"|"&VLOOKUP('Stage 2'!$D$8,Lookups!$B$190:$D$200,3,FALSE)&"|"&VLOOKUP($D$7,Lookups!$B$59:$C$64,2,FALSE)))),Lookups!$E$68:$F$165,2,FALSE),""))
D21: =IF(OR(ISBLANK(B21),ISBLANK(C21)),"",IFERROR(C21*VLOOKUP((IF(OR(B21="Residential land",B21="Commercial/industrial land",B21="Open land – built environment",B21="Greenspace",B21="Community food growing",B21="Woodland",B21="Shrub", B21="Water"), "|||"&B21, (B21&"|"&VLOOKUP('Stage 2'!$D$8,Lookups!$B$190:$D$200,3,FALSE)&"|"&VLOOKUP($D$7,Lookups!$B$59:$C$64,2,FALSE)))),Lookups!$E$68:$F$165,2,FALSE),""))
D22: =IF(OR(ISBLANK(B22),ISBLANK(C22)),"",IFERROR(C22*VLOOKUP((IF(OR(B22="Residential land",B22="Commercial/industrial land",B22="Open land – built environment",B22="Greenspace",B22="Community food growing",B22="Woodland",B22="Shrub", B22="Water"), "|||"&B22, (B22&"|"&VLOOKUP('Stage 2'!$D$8,Lookups!$B$190:$D$200,3,FALSE)&"|"&VLOOKUP($D$7,Lookups!$B$59:$C$64,2,FALSE)))),Lookups!$E$68:$F$165,2,FALSE),""))
D23: =IF(OR(ISBLANK(B23),ISBLANK(C23)),"",IFERROR(C23*VLOOKUP((IF(OR(B23="Residential land",B23="Commercial/industrial land",B23="Open land – built environment",B23="Greenspace",B23="Community food growing",B23="Woodland",B23="Shrub", B23="Water"), "|||"&B23, (B23&"|"&VLOOKUP('Stage 2'!$D$8,Lookups!$B$190:$D$200,3,FALSE)&"|"&VLOOKUP($D$7,Lookups!$B$59:$C$64,2,FALSE)))),Lookups!$E$68:$F$165,2,FALSE),""))
... D28: =IF(OR(ISBLANK(B28),ISBLANK(C28)),"",IFERROR(C28*VLOOKUP((IF(OR(B28="Residential land",B28="Commercial/industrial land",B28="Open land – built environment",B28="Greenspace",B28="Community food growing",B28="Woodland",B28="Shrub", B28="Water"), "|||"&B28, (B28&"|"&VLOOKUP('Stage 2'!$D$8,Lookups!$B$190:$D$200,3,FALSE)&"|"&VLOOKUP($D$7,Lookups!$B$59:$C$64,2,FALSE)))),Lookups!$E$68:$F$165,2,FALSE),""))
B29: Total: | C29: =SUM(C11:C28) -> 3.01 | D29: =SUM(D11:D28) -> 0.0602

Sheet Stage 3
C1: Stage 3 - phosphorus loading from new land use
A5: Instructions | B5: User Inputs required
B7: New Land Use Type(s) | C7: Area (ha) | D7: Annual phosphorus nutrient export (kg TP/year) | E7: {=IF(OR(B7:B24="Agriculture"), "Please enter phosphorus loading calculated in Farmscoper in correct row", "")}
D8: =IF(OR(ISBLANK(B8),ISBLANK(C8)),"",IFERROR(C8*VLOOKUP((IF(OR(B8="Residential land",B8="Commercial/industrial land",B8="Open land – built environment",B8="Greenspace",B8="Community food growing",B8="Woodland",B8="Shrub", B8="Water"), "|||"&B8, (B8&"|"&VLOOKUP('Stage 2'!$D$8,Lookups!$B$190:$D$200,3,FALSE)&"|"&VLOOKUP('Stage 2'!$D$7,Lookups!$B$59:$C$64,2,FALSE)))),Lookups!$E$68:$F$165,2,FALSE),""))
B9: Greenspace | C9: 0.63 | D9: =IF(OR(ISBLANK(B9),ISBLANK(C9)),"",IFERROR(C9*VLOOKUP((IF(OR(B9="Residential land",B9="Commercial/industrial land",B9="Open land – built environment",B9="Greenspace",B9="Community food growing",B9="Woodland",B9="Shrub", B9="Water"), "|||"&B9, (B9&"|"&VLOOKUP('Stage 2'!$D$8,Lookups!$B$190:$D$200,3,FALSE)&"|"&VLOOKUP('Stage 2'!$D$7,Lookups!$B$59:$C$64,2,FALSE)))),Lookups!$E$68:$F$165,2,FALSE),"")) -> 0.0126
B10: Commercial/industrial land | C10: 2.38 | D10: =IF(OR(ISBLANK(B10),ISBLANK(C10)),"",IFERROR(C10*VLOOKUP((IF(OR(B10="Residential land",B10="Commercial/industrial land",B10="Open land – built environment",B10="Greenspace",B10="Community food growing",B10="Woodland",B10="Shrub", B10="Water"), "|||"&B10, (B10&"|"&VLOOKUP('Stage 2'!$D$8,Lookups!$B$190:$D$200,3,FALSE)&"|"&VLOOKUP('Stage 2'!$D$7,Lookups!$B$59:$C$64,2,FALSE)))),Lookups!$E$68:$F$165,2,FALSE),"")) -> 3.2243591
D11: =IF(OR(ISBLANK(B11),ISBLANK(C11)),"",IFERROR(C11*VLOOKUP((IF(OR(B11="Residential land",B11="Commercial/industrial land",B11="Open land – built environment",B11="Greenspace",B11="Community food growing",B11="Woodland",B11="Shrub", B11="Water"), "|||"&B11, (B11&"|"&VLOOKUP('Stage 2'!$D$8,Lookups!$B$190:$D$200,3,FALSE)&"|"&VLOOKUP('Stage 2'!$D$7,Lookups!$B$59:$C$64,2,FALSE)))),Lookups!$E$68:$F$165,2,FALSE),""))
D12: =IF(OR(ISBLANK(B12),ISBLANK(C12)),"",IFERROR(C12*VLOOKUP((IF(OR(B12="Residential land",B12="Commercial/industrial land",B12="Open land – built environment",B12="Greenspace",B12="Community food growing",B12="Woodland",B12="Shrub", B12="Water"), "|||"&B12, (B12&"|"&VLOOKUP('Stage 2'!$D$8,Lookups!$B$190:$D$200,3,FALSE)&"|"&VLOOKUP('Stage 2'!$D$7,Lookups!$B$59:$C$64,2,FALSE)))),Lookups!$E$68:$F$165,2,FALSE),""))
D13: =IF(OR(ISBLANK(B13),ISBLANK(C13)),"",IFERROR(C13*VLOOKUP((IF(OR(B13="Residential land",B13="Commercial/industrial land",B13="Open land – built environment",B13="Greenspace",B13="Community food growing",B13="Woodland",B13="Shrub", B13="Water"), "|||"&B13, (B13&"|"&VLOOKUP('Stage 2'!$D$8,Lookups!$B$190:$D$200,3,FALSE)&"|"&VLOOKUP('Stage 2'!$D$7,Lookups!$B$59:$C$64,2,FALSE)))),Lookups!$E$68:$F$165,2,FALSE),""))
D14: =IF(OR(ISBLANK(B14),ISBLANK(C14)),"",IFERROR(C14*VLOOKUP((IF(OR(B14="Residential land",B14="Commercial/industrial land",B14="Open land – built environment",B14="Greenspace",B14="Community food growing",B14="Woodland",B14="Shrub", B14="Water"), "|||"&B14, (B14&"|"&VLOOKUP('Stage 2'!$D$8,Lookups!$B$190:$D$200,3,FALSE)&"|"&VLOOKUP('Stage 2'!$D$7,Lookups!$B$59:$C$64,2,FALSE)))),Lookups!$E$68:$F$165,2,FALSE),""))
D15: =IF(OR(ISBLANK(B15),ISBLANK(C15)),"",IFERROR(C15*VLOOKUP((IF(OR(B15="Residential land",B15="Commercial/industrial land",B15="Open land – built environment",B15="Greenspace",B15="Community food growing",B15="Woodland",B15="Shrub", B15="Water"), "|||"&B15, (B15&"|"&VLOOKUP('Stage 2'!$D$8,Lookups!$B$190:$D$200,3,FALSE)&"|"&VLOOKUP('Stage 2'!$D$7,Lookups!$B$59:$C$64,2,FALSE)))),Lookups!$E$68:$F$165,2,FALSE),""))
D16: =IF(OR(ISBLANK(B16),ISBLANK(C16)),"",IFERROR(C16*VLOOKUP((IF(OR(B16="Residential land",B16="Commercial/industrial land",B16="Open land – built environment",B16="Greenspace",B16="Community food growing",B16="Woodland",B16="Shrub", B16="Water"), "|||"&B16, (B16&"|"&VLOOKUP('Stage 2'!$D$8,Lookups!$B$190:$D$200,3,FALSE)&"|"&VLOOKUP('Stage 2'!$D$7,Lookups!$B$59:$C$64,2,FALSE)))),Lookups!$E$68:$F$165,2,FALSE),""))
D17: =IF(OR(ISBLANK(B17),ISBLANK(C17)),"",IFERROR(C17*VLOOKUP((IF(OR(B17="Residential land",B17="Commercial/industrial land",B17="Open land – built environment",B17="Greenspace",B17="Community food growing",B17="Woodland",B17="Shrub", B17="Water"), "|||"&B17, (B17&"|"&VLOOKUP('Stage 2'!$D$8,Lookups!$B$190:$D$200,3,FALSE)&"|"&VLOOKUP('Stage 2'!$D$7,Lookups!$B$59:$C$64,2,FALSE)))),Lookups!$E$68:$F$165,2,FALSE),""))
D18: =IF(OR(ISBLANK(B18),ISBLANK(C18)),"",IFERROR(C18*VLOOKUP((IF(OR(B18="Residential land",B18="Commercial/industrial land",B18="Open land – built environment",B18="Greenspace",B18="Community food growing",B18="Woodland",B18="Shrub", B18="Water"), "|||"&B18, (B18&"|"&VLOOKUP('Stage 2'!$D$8,Lookups!$B$190:$D$200,3,FALSE)&"|"&VLOOKUP('Stage 2'!$D$7,Lookups!$B$59:$C$64,2,FALSE)))),Lookups!$E$68:$F$165,2,FALSE),""))
D19: =IF(OR(ISBLANK(B19),ISBLANK(C19)),"",IFERROR(C19*VLOOKUP((IF(OR(B19="Residential land",B19="Commercial/industrial land",B19="Open land – built environment",B19="Greenspace",B19="Community food growing",B19="Woodland",B19="Shrub", B19="Water"), "|||"&B19, (B19&"|"&VLOOKUP('Stage 2'!$D$8,Lookups!$B$190:$D$200,3,FALSE)&"|"&VLOOKUP('Stage 2'!$D$7,Lookups!$B$59:$C$64,2,FALSE)))),Lookups!$E$68:$F$165,2,FALSE),""))
D20: =IF(OR(ISBLANK(B20),ISBLANK(C20)),"",IFERROR(C20*VLOOKUP((IF(OR(B20="Residential land",B20="Commercial/industrial land",B20="Open land – built environment",B20="Greenspace",B20="Community food growing",B20="Woodland",B20="Shrub", B20="Water"), "|||"&B20, (B20&"|"&VLOOKUP('Stage 2'!$D$8,Lookups!$B$190:$D$200,3,FALSE)&"|"&VLOOKUP('Stage 2'!$D$7,Lookups!$B$59:$C$64,2,FALSE)))),Lookups!$E$68:$F$165,2,FALSE),""))
D21: =IF(OR(ISBLANK(B21),ISBLANK(C21)),"",IFERROR(C21*VLOOKUP((IF(OR(B21="Residential land",B21="Commercial/industrial land",B21="Open land – built environment",B21="Greenspace",B21="Community food growing",B21="Woodland",B21="Shrub", B21="Water"), "|||"&B21, (B21&"|"&VLOOKUP('Stage 2'!$D$8,Lookups!$B$190:$D$200,3,FALSE)&"|"&VLOOKUP('Stage 2'!$D$7,Lookups!$B$59:$C$64,2,FALSE)))),Lookups!$E$68:$F$165,2,FALSE),""))
D22: =IF(OR(ISBLANK(B22),ISBLANK(C22)),"",IFERROR(C22*VLOOKUP((IF(OR(B22="Residential land",B22="Commercial/industrial land",B22="Open land – built environment",B22="Greenspace",B22="Community food growing",B22="Woodland",B22="Shrub", B22="Water"), "|||"&B22, (B22&"|"&VLOOKUP('Stage 2'!$D$8,Lookups!$B$190:$D$200,3,FALSE)&"|"&VLOOKUP('Stage 2'!$D$7,Lookups!$B$59:$C$64,2,FALSE)))),Lookups!$E$68:$F$165,2,FALSE),""))
... D24: =IF(OR(ISBLANK(B24),ISBLANK(C24)),"",IFERROR(C24*VLOOKUP((IF(OR(B24="Residential land",B24="Commercial/industrial land",B24="Open land – built environment",B24="Greenspace",B24="Community food growing",B24="Woodland",B24="Shrub", B24="Water"), "|||"&B24, (B24&"|"&VLOOKUP('Stage 2'!$D$8,Lookups!$B$190:$D$200,3,FALSE)&"|"&VLOOKUP('Stage 2'!$D$7,Lookups!$B$59:$C$64,2,FALSE)))),Lookups!$E$68:$F$165,2,FALSE),""))
B25: Total: | C25: =SUM(C8:C24) -> 3.01 | D25: =SUM(D8:D24) -> 3.2369591

Sheet Stage 4
C1: Stage 4 - final budget
A5: Instructions | C5: Calculated Outputs
B7: P loading to WwTW: | C7: ='Stage 1'!C19 -> 2.1915
B8: Net P loading from land use change: | C8: ='Stage 3'!D25-'Stage 2'!D29 -> 3.1767591
B9: P budget: | C9: =C7+C8 -> 5.3682591
B10: P budget + 20% buffer: | C10: =IF(C9<0,C9,C9*1.2) -> 6.4419109
B11: =IFERROR(IF(AND('Stage 1'!$C$7<DATE(2025,1,1),OR((VLOOKUP('Stage 1'!$C$11,Lookups!#REF!,2,FALSE))>(VLOOKUP('Stage 1'!$C$11,Lookups!#REF!,4,FALSE)),(VLOOKUP('Stage 1'!$C$11,Lookups!#REF!,3,FALSE))>(VLOOKUP('Stage 1'!$C$11,Lookups!#REF!,5,FALSE)))),"Post-2025 Annual Nutrient Budget","Annual Nutrient Budget"),"")
B12: The total annual phosphorus load to mitigate is: | C12: =IF(ROUND(C10,2)<0,0&" kg TP/year",ROUND(C10,2)&" kg TP/year") -> 6.44 kg TP/year

Sheet Landcover descriptions
B1: Stage 2 & 3 landcover type descriptions
A5: Instructions
B7: Landcover type | C7: Description
B8: Cereals | C8: Agricultural areas on which cereals, combinable crops and set aside are farmed.
B9: General | C9: Agricultural areas on which arable crops (including field scale vegetables) are farmed.
B10: Horticulture | C10: Agricultural areas on which fruit (including vineyards), hardy nursery stock, glasshouse flowers and vegetables, market garden scale vegetables, outdoor bulbs and flowers, and mushrooms are farmed.
B11: Indoor Pig farming | C11: Agricultural areas on which pigs farmed indoors.
B12: Outdoor Pig farming | C12: Agricultural areas on which pigs farmed outdoors.
B13: Poultry | C13: Agricultural areas on which poultry are farmed.
B14: Dairy | C14: Agricultural areas on which dairy cows are farmed.
B15: Less Favoured Area (LFA) grazing | C15: Agricultural areas on which cattle, sheep and other grazing livestock are farmed in locations where agricultural production is difficult. An area is classified as an LFA holding if 50 per cent or more of its total area is classed as LFA.
B16: Lowland grazing | C16: Agricultural areas on which cattle, sheep and other grazing livestock are farmed. A holding is classified as lowland if less than 50 per cent of its total area is classed as a lowland grazing area.
B17: Mixed | C17: Agricultural areas in which none of the above categories are farmed or where it is too difficult to select a single category to describe the farm type.
B18: Greenspace | C18: Natural and semi-natural outdoor spaces provided for recreational use where fertilisers will not be applied and dog waste is managed, e.g. semi-natural parks. This does not include green infrastructure within the built urban environment, such as gardens, or grass verges, as these are included in the residential urban land category.
... B25: Community food growing | C25: Areas that are used for local food production, such as allotments.
B27: Notes:
B28: [1] Following the precautionary principle blue-green SuDS are incorporated into the Residential land type as they are likely to have similar nutrient inputs as the surrounding residential land.

Sheet Mitigation Options
C1: Mitigation - what are the options?
A5: Instructions
B7: Overview: There are numerous mitigation options that could be used to offset the nutrient load identified in Stage 4 of this calculator. However, there are many factors of nutrient removal and longevity of nutrient removal that is required for mitigation to be deemed compliant as part of an HRA. As such, there is need to identify and carefully plan mitigation measures that not only have potential to remove nutrients from the environment but will also pass the tests set by an HRA of nutrient neutrality. HRA tests: For a mitigation scheme to be deemed compliant with the Habitats Regulations, it will be required to pass the following tests: > The scale of nutrient reductions that can be achieved by a mitigation scheme are based on best available evidence. > The available evidence for a mitigation scheme suggests the scheme will be effective beyond reasonable scientific doubt. > The estimates for nutrient reductions suggested for the scheme are precautionary, in line with the Precautionary Principle. > The reductions in nutrient loading can be secured in perpetuity which, for the purposes of a housing development, is considered to be 80-125 years.
B8: Effectiveness of mitigation measures: It is difficult to accurately predict the nutrient removal from a nature-based mitigation solution because they vary depending a range of factors. The effectiveness of a single type of nutrient mitigation solution to remove can be affected by: > Design specifics > Location, including soil characteristics, geology, topography, hydrological connectivity and more. > Incoming nutrient inputs > Maintenance regime > Seasonality The uncertainty of a selected mitigation solution can be reduced by: > Providing sound underlying scientific rationale for the nutrient removal processes active within the mitigation solution > Carefully designing an appropriate and robust solution that is tailored to the location based on the best available evidence > Ensuring the estimates of nutrient removal are suitably precautionary, i.e. they do not overestimate the potential nutrient removal benefit > Detailing the key management and maintenance steps in order to ensure functionality in perpetuity > Monitoring / sampling of the proposed location of the mitigation solution A range of mitigation solutions and some of the key factors affecting the efficacy of certain mitigation solutions are detailed below. In order to determine if a mitigation solutions will be effective, an assessment will be required to show that the solution has accounted for relevant factors and can quantify the reduction in nutrient loading the solution will provide.
B9: Potential mitigation solutions: > SuDS > Wetlands > Riparian buffer strips > Field margin buffer strips > Agroforestry > Agricultural abandonment
B10: Factors affecting the efficacy of SuDS: > Use of a 'treatment train' - logical sequence of water management practices > Incoming nutrient loading > Hydraulic loading rate > Vegetation used > Soil characteristics including nutrient concentration > Geology > Maintenance regime
B11: Factors affecting the efficacy of wetlands: > Wetland type > Area of wetland > Volume of wetland > Use of a 'treatment train' > Inlet nutrient concentration > Hydraulic loading rate > Residence time > Substrate material > Vegetation used > Soil characteristics including nutrient concentration > Geology > Maintenance regime
B12: Factors affecting the efficacy of buffer strips > Width > Inlet nutrient concentration > Vegetation used > Soil characteristics including nutrient concentration > Geology > Maintenance regime > Topography
B13: Factors affecting the efficacy of agricultural land use change > Previous land use > New land use > Vegetation used > Soil characteristics including nutrient concentration > Geology > Maintenance regime > Topography

Sheet Lookups
B1: Lookup tables
A5: Instructions
B7: Table 1: Wastewater Treatment Works Lookup table
B8: WwTW Name | C8: P limit (mg/l)
B9: Package Treatment Plant default | C9: 9.7
B10: Septic Tank default | C10: 11.6
B11: Package Treatment Plant user defined
B12: Septic Tank user defined
B13: Abergorlech WwTW Llandeilo | C13: 8
B14: Alltwalis STW | C14: 8
B15: Bethlehem STW Bethlehem Llandeilo | C15: 8
B16: Brechfa WwTW | C16: 8
B17: Bro Dolau STW Rhydcymerau | C17: 8
B18: Bro Nant STW Nantyffin Brechfa | C18: 8
B19: Broad Oak WwTW Fe Broad Oak | C19: 8
B20: Bronwydd STW | C20: 8
B21: Bryngwyn WwTW Gwynfe Rd Llandeilo | C21: 8
B22: Caio STW | C22: 8
B23: Capel Iwan STW | C23: 8
B24: Cilycwm WwTW | C24: 8
... B55: Twynllanan STW | C55: 8
B57: Table 2: Stage 2 and 3 soil drainage lookup
B58: Soilscape drainage term | C58: Farmscoper term | D58: Definition
B59: Freely draining | C59: FreeDrain | D59: Free Draining
B60: Slightly impeded drainage | C60: DrainedAr | D60: Drained for arable
B61: Impeded drainage | C61: DrainedArGr | D61: Drained for arable and grassland
B62: Variable | C62: DrainedAr | D62: Drained for arable
B63: Surface Wetness | C63: DrainedAr | D63: Drained for arable
B64: Naturally wet | C64: DrainedAr | D64: Drained for arable
B66: Table 3: Stage 2 and 3 landcover phosphorus export coefficient lookup
B67: Farmscoper Farm Term | C67: Climate | D67: Farmscoper Soil Drainage Term | E67: Lookup | F67: Phosphorous export coefficient
B68: Cereals | C68: 900to1200 | D68: FreeDrain | E68: =B68&"|"&C68&"|"&D68 -> Cereals|900to1200|FreeDrain | F68: 0.15419329
B69: Cereals | C69: 900to1200 | D69: DrainedAr | E69: =B69&"|"&C69&"|"&D69 -> Cereals|900to1200|DrainedAr | F69: 0.5799636
B70: Cereals | C70: 900to1200 | D70: DrainedArGr | E70: =B70&"|"&C70&"|"&D70 -> Cereals|900to1200|DrainedArGr | F70: 0.92581492
B71: Cereals | C71: 1200to1500 | D71: FreeDrain | E71: =B71&"|"&C71&"|"&D71 -> Cereals|1200to1500|FreeDrain | F71: 0.23215407
B72: Cereals | C72: 1200to1500 | D72: DrainedAr | E72: =B72&"|"&C72&"|"&D72 -> Cereals|1200to1500|DrainedAr | F72: 0.94015338
B73: Cereals | C73: 1200to1500 | D73: DrainedArGr | E73: =B73&"|"&C73&"|"&D73 -> Cereals|1200to1500|DrainedArGr | F73: 1.3664542
B74: Cereals | C74: Over1500 | D74: FreeDrain | E74: =B74&"|"&C74&"|"&D74 -> Cereals|Over1500|FreeDrain | F74: 0.41558249
B75: Cereals | C75: Over1500 | D75: DrainedAr | E75: =B75&"|"&C75&"|"&D75 -> Cereals|Over1500|DrainedAr | F75: 1.252717
B76: Cereals | C76: Over1500 | D76: DrainedArGr | E76: =B76&"|"&C76&"|"&D76 -> Cereals|Over1500|DrainedArGr | F76: 2.4525963
B77: General cropping | C77: 900to1200 | D77: FreeDrain | E77: =B77&"|"&C77&"|"&D77 -> General cropping|900to1200|FreeDrain | F77: 0.13214204
B78: General cropping | C78: 900to1200 | D78: DrainedAr | E78: =B78&"|"&C78&"|"&D78 -> General cropping|900to1200|DrainedAr | F78: 0.39675244
B79: General cropping | C79: 900to1200 | D79: DrainedArGr | E79: =B79&"|"&C79&"|"&D79 -> General cropping|900to1200|DrainedArGr | F79: 0.803165
... B157: Outdoor pig farming | C157: Over1500 | D157: DrainedArGr | E157: =B157&"|"&C157&"|"&D157 -> Outdoor pig farming|Over1500|DrainedArGr | F157: 6.2150095
B158: Greenspace | C158: - | D158: - | E158: ="|"&"|"&"|"&B158 -> |||Greenspace | F158: 0.02
B159: Community food growing | C159: - | D159: - | E159: ="|"&"|"&"|"&B159 -> |||Community food growing | F159: =VLOOKUP("General cropping"&"|"&VLOOKUP('Stage 2'!D8,Lookups!B190:D200,3,FALSE)&"|"&"FreeDrain",Lookups!E68:F157,2,FALSE) -> 0.13214204
B160: Woodland | C160: - | D160: - | E160: ="|"&"|"&"|"&B160 -> |||Woodland | F160: 0.02
B161: Shrub | C161: - | D161: - | E161: ="|"&"|"&"|"&B161 -> |||Shrub | F161: 0.02
B162: Water | C162: - | D162: - | E162: ="|"&"|"&"|"&B162 -> |||Water | F162: 0
B163: Residential land | C163: - | D163: - | E163: ="|"&"|"&"|"&B163 -> |||Residential land | F163: =VLOOKUP('Stage 2'!$D$8,$B$190:$G$200,4,FALSE) -> 1.8515227
B164: Commercial/industrial land | C164: - | D164: - | E164: ="|"&"|"&"|"&B164 -> |||Commercial/industrial land | F164: =VLOOKUP('Stage 2'!$D$8,$B$190:$G$200,5,FALSE) -> 1.3547727
B165: Open land – built environment | C165: - | D165: - | E165: ="|"&"|"&"|"&B165 -> |||Open land – built environment | F165: =VLOOKUP('Stage 2'!$D$8,$B$190:$G$200,6,FALSE) -> 0.9935
B167: Table 4: Stage 2 and 3 landcover dropdown lookup
B168: All Landcover types
B169: Cereals
B170: General cropping
B171: Horticulture
B172: Indoor pig farming
B173: Poultry
B174: Dairy
B175: Less Favoured Area grazing
B176: Lowland grazing
B177: Mixed
B178: Outdoor pig farming
... B188: Table 5: Stage 2 and 3 rainfall and urban export coefficient lookup
B189: Rainfall band | C189: Mid | D189: Farmscoper Equivalent | E189: Residential P export coefficient (kg/ha/yr) | F189: Commercial / industrial P export coefficient (kg/ha/yr) | G189: Open urban P export coefficient (kg/ha/yr)
B190: 900.1 - 950 | C190: 925.05 | D190: 900to1200 | E190: 1.8515227 | F190: 1.3547727 | G190: 0.9935
B191: 950.1 - 1,000 | C191: 975.05 | D191: 900to1200 | E191: 1.9515996 | F191: 1.4279997 | G191: 1.0471998
B192: 1,000.1 - 1,100 | C192: 1050.05 | D192: 900to1200 | E192: 2.101715 | F192: 1.5378402 | G192: 1.1277495
B193: 1,100.1 - 1,200 | C193: 1150.05 | D193: 900to1200 | E193: 2.3018688 | F193: 1.6842942 | G193: 1.2351491
B194: 1,200.1 - 1,400 | C194: 1300.05 | D194: 1200to1500 | E194: 2.6020995 | F194: 1.9039752 | G194: 1.3962485
B195: 1,400.1 - 1,600 | C195: 1500.05 | D195: 1200to1500 | E195: 3.0024071 | F195: 2.1968832 | G195: 1.6110477
B196: 1,600.1 - 2,000 | C196: 1800.05 | D196: Over1500 | E196: 3.6028685 | F196: 2.6362452 | G196: 1.9332465
B197: 2,000.1 - 2,400 | C197: 2200.05 | D197: Over1500 | E197: 4.4034837 | F197: 3.2220612 | G197: 2.3628449
B198: 2,400.1 - 3,000 | C198: 2700.05 | D198: Over1500 | E198: 5.4042527 | F198: 3.9543312 | G198: 2.8998429
B199: 3,000.1 - 4,000 | C199: 3500.05 | D199: Over1500 | E199: 7.0054831 | F199: 5.1259632 | G199: 3.7590397
B200: 4,000.1 - 5,500 | C200: 4750.05 | D200: Over1500 | E200: 9.5074056 | F200: 6.9566382 | G200: 5.1015347
