Workbook
Name Tab_1: dls!$A:$S

Sheet dls
A1: FormRef | B1: TableRef | C1: YearCode | D1: MonthCode | E1: LACode | F1: Sitenumber | G1: Name | H1: Postcode | I1: EastingRef | J1: NorthingRef | K1: Numbercaravans | L1: ResPitchesOccupied | M1: ResPitchesVacant | N1: ResPitchesTotal | O1: TransPitchesOccupied | P1: TransPitchesVacant | Q1: TransPitchesTotal | R1: OnGypsyLand | S1: SiteTolerated
A2: GYP | B2: 1 | C2: 201718 | D2: 7 | E2: =IF(Home!$S$16=0,"",Home!$S$16) -> 522 | F2: 1 | G2: =IF('Table 1'!C13="","",'Table 1'!C13) -> Ruthin Road | H2: =IF('Table 1'!C13="","",IF('Table 1'!D13="","X",'Table 1'!D13)) -> X | I2: =IF('Table 1'!C13="","",IF('Table 1'!E13="","X",'Table 1'!E13)) -> 331059 | J2: =IF('Table 1'!C13="","",IF('Table 1'!F13="","X",'Table 1'!F13)) -> 350439 | K2: =IF('Table 1'!G13="","",'Table 1'!G13) -> 28 | L2: =IF('Table 1'!H13="","",'Table 1'!H13) -> 15 | M2: =IF('Table 1'!I13="","",'Table 1'!I13) -> 0 | N2: =IF('Table 1'!J13="","",'Table 1'!J13) -> 15 | O2: =IF('Table 1'!L13="","",'Table 1'!L13) -> 0 | P2: =IF('Table 1'!M13="","",'Table 1'!M13) -> 0 | Q2: =IF('Table 1'!N13="","",'Table 1'!N13) -> 0
A3: GYP | B3: 1 | C3: 201718 | D3: 7 | E3: =IF(Home!$S$16=0,"",Home!$S$16) -> 522 | F3: 2 | G3: =IF('Table 1'!C14="","",'Table 1'!C14) | H3: =IF('Table 1'!C14="","",IF('Table 1'!D14="","X",'Table 1'!D14)) | I3: =IF('Table 1'!C14="","",IF('Table 1'!E14="","X",'Table 1'!E14)) | J3: =IF('Table 1'!C14="","",IF('Table 1'!F14="","X",'Table 1'!F14)) | K3: =IF('Table 1'!G14="","",'Table 1'!G14) | L3: =IF('Table 1'!H14="","",'Table 1'!H14) | M3: =IF('Table 1'!I14="","",'Table 1'!I14) | N3: =IF('Table 1'!J14="","",'Table 1'!J14) | O3: =IF('Table 1'!L14="","",'Table 1'!L14) | P3: =IF('Table 1'!M14="","",'Table 1'!M14) | Q3: =IF('Table 1'!N14="","",'Table 1'!N14)
A4: GYP | B4: 1 | C4: 201718 | D4: 7 | E4: =IF(Home!$S$16=0,"",Home!$S$16) -> 522 | F4: 3 | G4: =IF('Table 1'!C15="","",'Table 1'!C15) | H4: =IF('Table 1'!C15="","",IF('Table 1'!D15="","X",'Table 1'!D15)) | I4: =IF('Table 1'!C15="","",IF('Table 1'!E15="","X",'Table 1'!E15)) | J4: =IF('Table 1'!C15="","",IF('Table 1'!F15="","X",'Table 1'!F15)) | K4: =IF('Table 1'!G15="","",'Table 1'!G15) | L4: =IF('Table 1'!H15="","",'Table 1'!H15) | M4: =IF('Table 1'!I15="","",'Table 1'!I15) | N4: =IF('Table 1'!J15="","",'Table 1'!J15) | O4: =IF('Table 1'!L15="","",'Table 1'!L15) | P4: =IF('Table 1'!M15="","",'Table 1'!M15) | Q4: =IF('Table 1'!N15="","",'Table 1'!N15)
A5: GYP | B5: 1 | C5: 201718 | D5: 7 | E5: =IF(Home!$S$16=0,"",Home!$S$16) -> 522 | F5: 4 | G5: =IF('Table 1'!C16="","",'Table 1'!C16) | H5: =IF('Table 1'!C16="","",IF('Table 1'!D16="","X",'Table 1'!D16)) | I5: =IF('Table 1'!C16="","",IF('Table 1'!E16="","X",'Table 1'!E16)) | J5: =IF('Table 1'!C16="","",IF('Table 1'!F16="","X",'Table 1'!F16)) | K5: =IF('Table 1'!G16="","",'Table 1'!G16) | L5: =IF('Table 1'!H16="","",'Table 1'!H16) | M5: =IF('Table 1'!I16="","",'Table 1'!I16) | N5: =IF('Table 1'!J16="","",'Table 1'!J16) | O5: =IF('Table 1'!L16="","",'Table 1'!L16) | P5: =IF('Table 1'!M16="","",'Table 1'!M16) | Q5: =IF('Table 1'!N16="","",'Table 1'!N16)
A6: GYP | B6: 1 | C6: 201718 | D6: 7 | E6: =IF(Home!$S$16=0,"",Home!$S$16) -> 522 | F6: 5 | G6: =IF('Table 1'!C17="","",'Table 1'!C17) | H6: =IF('Table 1'!C17="","",IF('Table 1'!D17="","X",'Table 1'!D17)) | I6: =IF('Table 1'!C17="","",IF('Table 1'!E17="","X",'Table 1'!E17)) | J6: =IF('Table 1'!C17="","",IF('Table 1'!F17="","X",'Table 1'!F17)) | K6: =IF('Table 1'!G17="","",'Table 1'!G17) | L6: =IF('Table 1'!H17="","",'Table 1'!H17) | M6: =IF('Table 1'!I17="","",'Table 1'!I17) | N6: =IF('Table 1'!J17="","",'Table 1'!J17) | O6: =IF('Table 1'!L17="","",'Table 1'!L17) | P6: =IF('Table 1'!M17="","",'Table 1'!M17) | Q6: =IF('Table 1'!N17="","",'Table 1'!N17)
A7: GYP | B7: 1 | C7: 201718 | D7: 7 | E7: =IF(Home!$S$16=0,"",Home!$S$16) -> 522 | F7: 6 | G7: =IF('Table 1'!C18="","",'Table 1'!C18) | H7: =IF('Table 1'!C18="","",IF('Table 1'!D18="","X",'Table 1'!D18)) | I7: =IF('Table 1'!C18="","",IF('Table 1'!E18="","X",'Table 1'!E18)) | J7: =IF('Table 1'!C18="","",IF('Table 1'!F18="","X",'Table 1'!F18)) | K7: =IF('Table 1'!G18="","",'Table 1'!G18) | L7: =IF('Table 1'!H18="","",'Table 1'!H18) | M7: =IF('Table 1'!I18="","",'Table 1'!I18) | N7: =IF('Table 1'!J18="","",'Table 1'!J18) | O7: =IF('Table 1'!L18="","",'Table 1'!L18) | P7: =IF('Table 1'!M18="","",'Table 1'!M18) | Q7: =IF('Table 1'!N18="","",'Table 1'!N18)
A8: GYP | B8: 1 | C8: 201718 | D8: 7 | E8: =IF(Home!$S$16=0,"",Home!$S$16) -> 522 | F8: 7 | G8: =IF('Table 1'!C19="","",'Table 1'!C19) | H8: =IF('Table 1'!C19="","",IF('Table 1'!D19="","X",'Table 1'!D19)) | I8: =IF('Table 1'!C19="","",IF('Table 1'!E19="","X",'Table 1'!E19)) | J8: =IF('Table 1'!C19="","",IF('Table 1'!F19="","X",'Table 1'!F19)) | K8: =IF('Table 1'!G19="","",'Table 1'!G19) | L8: =IF('Table 1'!H19="","",'Table 1'!H19) | M8: =IF('Table 1'!I19="","",'Table 1'!I19) | N8: =IF('Table 1'!J19="","",'Table 1'!J19) | O8: =IF('Table 1'!L19="","",'Table 1'!L19) | P8: =IF('Table 1'!M19="","",'Table 1'!M19) | Q8: =IF('Table 1'!N19="","",'Table 1'!N19)
A9: GYP | B9: 1 | C9: 201718 | D9: 7 | E9: =IF(Home!$S$16=0,"",Home!$S$16) -> 522 | F9: 8 | G9: =IF('Table 1'!C20="","",'Table 1'!C20) | H9: =IF('Table 1'!C20="","",IF('Table 1'!D20="","X",'Table 1'!D20)) | I9: =IF('Table 1'!C20="","",IF('Table 1'!E20="","X",'Table 1'!E20)) | J9: =IF('Table 1'!C20="","",IF('Table 1'!F20="","X",'Table 1'!F20)) | K9: =IF('Table 1'!G20="","",'Table 1'!G20) | L9: =IF('Table 1'!H20="","",'Table 1'!H20) | M9: =IF('Table 1'!I20="","",'Table 1'!I20) | N9: =IF('Table 1'!J20="","",'Table 1'!J20) | O9: =IF('Table 1'!L20="","",'Table 1'!L20) | P9: =IF('Table 1'!M20="","",'Table 1'!M20) | Q9: =IF('Table 1'!N20="","",'Table 1'!N20)
A10: GYP | B10: 1 | C10: 201718 | D10: 7 | E10: =IF(Home!$S$16=0,"",Home!$S$16) -> 522 | F10: 9 | G10: =IF('Table 1'!C21="","",'Table 1'!C21) | H10: =IF('Table 1'!C21="","",IF('Table 1'!D21="","X",'Table 1'!D21)) | I10: =IF('Table 1'!C21="","",IF('Table 1'!E21="","X",'Table 1'!E21)) | J10: =IF('Table 1'!C21="","",IF('Table 1'!F21="","X",'Table 1'!F21)) | K10: =IF('Table 1'!G21="","",'Table 1'!G21) | L10: =IF('Table 1'!H21="","",'Table 1'!H21) | M10: =IF('Table 1'!I21="","",'Table 1'!I21) | N10: =IF('Table 1'!J21="","",'Table 1'!J21) | O10: =IF('Table 1'!L21="","",'Table 1'!L21) | P10: =IF('Table 1'!M21="","",'Table 1'!M21) | Q10: =IF('Table 1'!N21="","",'Table 1'!N21)
A11: GYP | B11: 1 | C11: 201718 | D11: 7 | E11: =IF(Home!$S$16=0,"",Home!$S$16) -> 522 | F11: 10 | G11: =IF('Table 1'!C22="","",'Table 1'!C22) | H11: =IF('Table 1'!C22="","",IF('Table 1'!D22="","X",'Table 1'!D22)) | I11: =IF('Table 1'!C22="","",IF('Table 1'!E22="","X",'Table 1'!E22)) | J11: =IF('Table 1'!C22="","",IF('Table 1'!F22="","X",'Table 1'!F22)) | K11: =IF('Table 1'!G22="","",'Table 1'!G22) | L11: =IF('Table 1'!H22="","",'Table 1'!H22) | M11: =IF('Table 1'!I22="","",'Table 1'!I22) | N11: =IF('Table 1'!J22="","",'Table 1'!J22) | O11: =IF('Table 1'!L22="","",'Table 1'!L22) | P11: =IF('Table 1'!M22="","",'Table 1'!M22) | Q11: =IF('Table 1'!N22="","",'Table 1'!N22)
A12: GYP | B12: 2 | C12: 201718 | D12: 7 | E12: =IF(Home!$S$16=0,"",Home!$S$16) -> 522 | F12: 1 | G12: =IF('Table 2'!C13="","",'Table 2'!C13) -> Berryland | H12: =IF('Table 2'!C13="","",IF('Table 2'!D13="","X",'Table 2'!D13)) -> X | I12: =IF('Table 2'!C13="","",IF('Table 2'!E13="","X",'Table 2'!E13)) -> 332119 | J12: =IF('Table 2'!C13="","",IF('Table 2'!F13="","X",'Table 2'!F13)) -> 349882 | K12: =IF('Table 2'!G13="","",'Table 2'!G13) -> 2
A13: GYP | B13: 2 | C13: 201718 | D13: 7 | E13: =IF(Home!$S$16=0,"",Home!$S$16) -> 522 | F13: 2 | G13: =IF('Table 2'!C14="","",'Table 2'!C14) -> Long Lane | H13: =IF('Table 2'!C14="","",IF('Table 2'!D14="","X",'Table 2'!D14)) -> X | I13: =IF('Table 2'!C14="","",IF('Table 2'!E14="","X",'Table 2'!E14)) -> 330213 | J13: =IF('Table 2'!C14="","",IF('Table 2'!F14="","X",'Table 2'!F14)) -> 353047 | K13: =IF('Table 2'!G14="","",'Table 2'!G14) -> 0
A14: GYP | B14: 2 | C14: 201718 | D14: 7 | E14: =IF(Home!$S$16=0,"",Home!$S$16) -> 522 | F14: 3 | G14: =IF('Table 2'!C15="","",'Table 2'!C15) -> The Stables | H14: =IF('Table 2'!C15="","",IF('Table 2'!D15="","X",'Table 2'!D15)) -> X | I14: =IF('Table 2'!C15="","",IF('Table 2'!E15="","X",'Table 2'!E15)) -> 330175 | J14: =IF('Table 2'!C15="","",IF('Table 2'!F15="","X",'Table 2'!F15)) -> 351976 | K14: =IF('Table 2'!G15="","",'Table 2'!G15) -> 3
A15: GYP | B15: 2 | C15: 201718 | D15: 7 | E15: =IF(Home!$S$16=0,"",Home!$S$16) -> 522 | F15: 4 | G15: =IF('Table 2'!C16="","",'Table 2'!C16) -> Oakstream | H15: =IF('Table 2'!C16="","",IF('Table 2'!D16="","X",'Table 2'!D16)) -> X | I15: =IF('Table 2'!C16="","",IF('Table 2'!E16="","X",'Table 2'!E16)) -> 327452 | J15: =IF('Table 2'!C16="","",IF('Table 2'!F16="","X",'Table 2'!F16)) -> 343434 | K15: =IF('Table 2'!G16="","",'Table 2'!G16) -> 4
A16: GYP | B16: 2 | C16: 201718 | D16: 7 | E16: =IF(Home!$S$16=0,"",Home!$S$16) -> 522 | F16: 5 | G16: =IF('Table 2'!C17="","",'Table 2'!C17) -> Fennant Road | H16: =IF('Table 2'!C17="","",IF('Table 2'!D17="","X",'Table 2'!D17)) -> X | I16: =IF('Table 2'!C17="","",IF('Table 2'!E17="","X",'Table 2'!E17)) -> 330102 | J16: =IF('Table 2'!C17="","",IF('Table 2'!F17="","X",'Table 2'!F17)) -> 346879 | K16: =IF('Table 2'!G17="","",'Table 2'!G17) -> 0
A17: GYP | B17: 2 | C17: 201718 | D17: 7 | E17: =IF(Home!$S$16=0,"",Home!$S$16) -> 522 | F17: 6 | G17: =IF('Table 2'!C18="","",'Table 2'!C18) -> Halton Site, Chirk | H17: =IF('Table 2'!C18="","",IF('Table 2'!D18="","X",'Table 2'!D18)) -> X | I17: =IF('Table 2'!C18="","",IF('Table 2'!E18="","X",'Table 2'!E18)) -> 329827 | J17: =IF('Table 2'!C18="","",IF('Table 2'!F18="","X",'Table 2'!F18)) -> 339738 | K17: =IF('Table 2'!G18="","",'Table 2'!G18) -> 0
A18: GYP | B18: 2 | C18: 201718 | D18: 7 | E18: =IF(Home!$S$16=0,"",Home!$S$16) -> 522 | F18: 7 | G18: =IF('Table 2'!C19="","",'Table 2'!C19) | H18: =IF('Table 2'!C19="","",IF('Table 2'!D19="","X",'Table 2'!D19)) | I18: =IF('Table 2'!C19="","",IF('Table 2'!E19="","X",'Table 2'!E19)) | J18: =IF('Table 2'!C19="","",IF('Table 2'!F19="","X",'Table 2'!F19)) | K18: =IF('Table 2'!G19="","",'Table 2'!G19)
A19: GYP | B19: 2 | C19: 201718 | D19: 7 | E19: =IF(Home!$S$16=0,"",Home!$S$16) -> 522 | F19: 8 | G19: =IF('Table 2'!C20="","",'Table 2'!C20) | H19: =IF('Table 2'!C20="","",IF('Table 2'!D20="","X",'Table 2'!D20)) | I19: =IF('Table 2'!C20="","",IF('Table 2'!E20="","X",'Table 2'!E20)) | J19: =IF('Table 2'!C20="","",IF('Table 2'!F20="","X",'Table 2'!F20)) | K19: =IF('Table 2'!G20="","",'Table 2'!G20)
A20: GYP | B20: 2 | C20: 201718 | D20: 7 | E20: =IF(Home!$S$16=0,"",Home!$S$16) -> 522 | F20: 9 | G20: =IF('Table 2'!C21="","",'Table 2'!C21) | H20: =IF('Table 2'!C21="","",IF('Table 2'!D21="","X",'Table 2'!D21)) | I20: =IF('Table 2'!C21="","",IF('Table 2'!E21="","X",'Table 2'!E21)) | J20: =IF('Table 2'!C21="","",IF('Table 2'!F21="","X",'Table 2'!F21)) | K20: =IF('Table 2'!G21="","",'Table 2'!G21)
A21: GYP | B21: 2 | C21: 201718 | D21: 7 | E21: =IF(Home!$S$16=0,"",Home!$S$16) -> 522 | F21: 10 | G21: =IF('Table 2'!C22="","",'Table 2'!C22) | H21: =IF('Table 2'!C22="","",IF('Table 2'!D22="","X",'Table 2'!D22)) | I21: =IF('Table 2'!C22="","",IF('Table 2'!E22="","X",'Table 2'!E22)) | J21: =IF('Table 2'!C22="","",IF('Table 2'!F22="","X",'Table 2'!F22)) | K21: =IF('Table 2'!G22="","",'Table 2'!G22)
A22: GYP | B22: 2 | C22: 201718 | D22: 7 | E22: =IF(Home!$S$16=0,"",Home!$S$16) -> 522 | F22: 11 | G22: =IF('Table 2'!C23="","",'Table 2'!C23) | H22: =IF('Table 2'!C23="","",IF('Table 2'!D23="","X",'Table 2'!D23)) | I22: =IF('Table 2'!C23="","",IF('Table 2'!E23="","X",'Table 2'!E23)) | J22: =IF('Table 2'!C23="","",IF('Table 2'!F23="","X",'Table 2'!F23)) | K22: =IF('Table 2'!G23="","",'Table 2'!G23)
A23: GYP | B23: 2 | C23: 201718 | D23: 7 | E23: =IF(Home!$S$16=0,"",Home!$S$16) -> 522 | F23: 12 | G23: =IF('Table 2'!C24="","",'Table 2'!C24) | H23: =IF('Table 2'!C24="","",IF('Table 2'!D24="","X",'Table 2'!D24)) | I23: =IF('Table 2'!C24="","",IF('Table 2'!E24="","X",'Table 2'!E24)) | J23: =IF('Table 2'!C24="","",IF('Table 2'!F24="","X",'Table 2'!F24)) | K23: =IF('Table 2'!G24="","",'Table 2'!G24)
... A34: GYP | B34: 2 | C34: 201718 | D34: 7 | E34: =IF(Home!$S$16=0,"",Home!$S$16) -> 522 | F34: 23 | G34: =IF('Table 2'!C35="","",'Table 2'!C35) | H34: =IF('Table 2'!C35="","",IF('Table 2'!D35="","X",'Table 2'!D35)) | I34: =IF('Table 2'!C35="","",IF('Table 2'!E35="","X",'Table 2'!E35)) | J34: =IF('Table 2'!C35="","",IF('Table 2'!F35="","X",'Table 2'!F35)) | K34: =IF('Table 2'!G35="","",'Table 2'!G35)
A35: GYP | B35: 3 | C35: 201718 | D35: 7 | E35: =IF(Home!$S$16=0,"",Home!$S$16) -> 522 | F35: 1 | G35: =IF('Table 3'!C13="","",'Table 3'!C13) | H35: =IF('Table 3'!C13="","",IF('Table 3'!D13="","X",'Table 3'!D13)) | I35: =IF('Table 3'!C13="","",IF('Table 3'!E13="","X",'Table 3'!E13)) | J35: =IF('Table 3'!C13="","",IF('Table 3'!F13="","X",'Table 3'!F13)) | K35: =IF('Table 3'!I13="","",'Table 3'!I13) | R35: =IF('Table 3'!G13="","",'Table 3'!G13) | S35: =IF('Table 3'!H13="","",'Table 3'!H13)
A36: GYP | B36: 3 | C36: 201718 | D36: 7 | E36: =IF(Home!$S$16=0,"",Home!$S$16) -> 522 | F36: 2 | G36: =IF('Table 3'!C14="","",'Table 3'!C14) | H36: =IF('Table 3'!C14="","",IF('Table 3'!D14="","X",'Table 3'!D14)) | I36: =IF('Table 3'!C14="","",IF('Table 3'!E14="","X",'Table 3'!E14)) | J36: =IF('Table 3'!C14="","",IF('Table 3'!F14="","X",'Table 3'!F14)) | K36: =IF('Table 3'!I14="","",'Table 3'!I14) | R36: =IF('Table 3'!G14="","",'Table 3'!G14) | S36: =IF('Table 3'!H14="","",'Table 3'!H14)
A37: GYP | B37: 3 | C37: 201718 | D37: 7 | E37: =IF(Home!$S$16=0,"",Home!$S$16) -> 522 | F37: 3 | G37: =IF('Table 3'!C15="","",'Table 3'!C15) | H37: =IF('Table 3'!C15="","",IF('Table 3'!D15="","X",'Table 3'!D15)) | I37: =IF('Table 3'!C15="","",IF('Table 3'!E15="","X",'Table 3'!E15)) | J37: =IF('Table 3'!C15="","",IF('Table 3'!F15="","X",'Table 3'!F15)) | K37: =IF('Table 3'!I15="","",'Table 3'!I15) | R37: =IF('Table 3'!G15="","",'Table 3'!G15) | S37: =IF('Table 3'!H15="","",'Table 3'!H15)
A38: GYP | B38: 3 | C38: 201718 | D38: 7 | E38: =IF(Home!$S$16=0,"",Home!$S$16) -> 522 | F38: 4 | G38: =IF('Table 3'!C16="","",'Table 3'!C16) | H38: =IF('Table 3'!C16="","",IF('Table 3'!D16="","X",'Table 3'!D16)) | I38: =IF('Table 3'!C16="","",IF('Table 3'!E16="","X",'Table 3'!E16)) | J38: =IF('Table 3'!C16="","",IF('Table 3'!F16="","X",'Table 3'!F16)) | K38: =IF('Table 3'!I16="","",'Table 3'!I16) | R38: =IF('Table 3'!G16="","",'Table 3'!G16) | S38: =IF('Table 3'!H16="","",'Table 3'!H16)
A39: GYP | B39: 3 | C39: 201718 | D39: 7 | E39: =IF(Home!$S$16=0,"",Home!$S$16) -> 522 | F39: 5 | G39: =IF('Table 3'!C17="","",'Table 3'!C17) | H39: =IF('Table 3'!C17="","",IF('Table 3'!D17="","X",'Table 3'!D17)) | I39: =IF('Table 3'!C17="","",IF('Table 3'!E17="","X",'Table 3'!E17)) | J39: =IF('Table 3'!C17="","",IF('Table 3'!F17="","X",'Table 3'!F17)) | K39: =IF('Table 3'!I17="","",'Table 3'!I17) | R39: =IF('Table 3'!G17="","",'Table 3'!G17) | S39: =IF('Table 3'!H17="","",'Table 3'!H17)
A40: GYP | B40: 3 | C40: 201718 | D40: 7 | E40: =IF(Home!$S$16=0,"",Home!$S$16) -> 522 | F40: 6 | G40: =IF('Table 3'!C18="","",'Table 3'!C18) | H40: =IF('Table 3'!C18="","",IF('Table 3'!D18="","X",'Table 3'!D18)) | I40: =IF('Table 3'!C18="","",IF('Table 3'!E18="","X",'Table 3'!E18)) | J40: =IF('Table 3'!C18="","",IF('Table 3'!F18="","X",'Table 3'!F18)) | K40: =IF('Table 3'!I18="","",'Table 3'!I18) | R40: =IF('Table 3'!G18="","",'Table 3'!G18) | S40: =IF('Table 3'!H18="","",'Table 3'!H18)
A41: GYP | B41: 3 | C41: 201718 | D41: 7 | E41: =IF(Home!$S$16=0,"",Home!$S$16) -> 522 | F41: 7 | G41: =IF('Table 3'!C19="","",'Table 3'!C19) | H41: =IF('Table 3'!C19="","",IF('Table 3'!D19="","X",'Table 3'!D19)) | I41: =IF('Table 3'!C19="","",IF('Table 3'!E19="","X",'Table 3'!E19)) | J41: =IF('Table 3'!C19="","",IF('Table 3'!F19="","X",'Table 3'!F19)) | K41: =IF('Table 3'!I19="","",'Table 3'!I19) | R41: =IF('Table 3'!G19="","",'Table 3'!G19) | S41: =IF('Table 3'!H19="","",'Table 3'!H19)
A42: GYP | B42: 3 | C42: 201718 | D42: 7 | E42: =IF(Home!$S$16=0,"",Home!$S$16) -> 522 | F42: 8 | G42: =IF('Table 3'!C20="","",'Table 3'!C20) | H42: =IF('Table 3'!C20="","",IF('Table 3'!D20="","X",'Table 3'!D20)) | I42: =IF('Table 3'!C20="","",IF('Table 3'!E20="","X",'Table 3'!E20)) | J42: =IF('Table 3'!C20="","",IF('Table 3'!F20="","X",'Table 3'!F20)) | K42: =IF('Table 3'!I20="","",'Table 3'!I20) | R42: =IF('Table 3'!G20="","",'Table 3'!G20) | S42: =IF('Table 3'!H20="","",'Table 3'!H20)
A43: GYP | B43: 3 | C43: 201718 | D43: 7 | E43: =IF(Home!$S$16=0,"",Home!$S$16) -> 522 | F43: 9 | G43: =IF('Table 3'!C21="","",'Table 3'!C21) | H43: =IF('Table 3'!C21="","",IF('Table 3'!D21="","X",'Table 3'!D21)) | I43: =IF('Table 3'!C21="","",IF('Table 3'!E21="","X",'Table 3'!E21)) | J43: =IF('Table 3'!C21="","",IF('Table 3'!F21="","X",'Table 3'!F21)) | K43: =IF('Table 3'!I21="","",'Table 3'!I21) | R43: =IF('Table 3'!G21="","",'Table 3'!G21) | S43: =IF('Table 3'!H21="","",'Table 3'!H21)
A44: GYP | B44: 3 | C44: 201718 | D44: 7 | E44: =IF(Home!$S$16=0,"",Home!$S$16) -> 522 | F44: 10 | G44: =IF('Table 3'!C22="","",'Table 3'!C22) | H44: =IF('Table 3'!C22="","",IF('Table 3'!D22="","X",'Table 3'!D22)) | I44: =IF('Table 3'!C22="","",IF('Table 3'!E22="","X",'Table 3'!E22)) | J44: =IF('Table 3'!C22="","",IF('Table 3'!F22="","X",'Table 3'!F22)) | K44: =IF('Table 3'!I22="","",'Table 3'!I22) | R44: =IF('Table 3'!G22="","",'Table 3'!G22) | S44: =IF('Table 3'!H22="","",'Table 3'!H22)
J355: #REF!

Sheet rb
A1: YearCode | B1: MonthQtrCode | C1: Provider | D1: FormRef | E1: RowRef | F1: DataValue | G1: Old_sId
A2: 201718 | B2: M01 | C2: =IF(Home!$S$16=0,"",Home!$S$16) -> 522 | D2: GYP | E2: 1 | F2: =IF('Survey Response Burden'!D19="",-999,'Survey Response Burden'!D19) -> 0 | G2: rb_1_1a
A3: 201718 | B3: M01 | C3: =IF(Home!$S$16=0,"",Home!$S$16) -> 522 | D3: GYP | E3: 2 | F3: =IF('Survey Response Burden'!D20="",-999,'Survey Response Burden'!D20) -> 1 | G3: rb_1_2a
A4: 201718 | B4: M01 | C4: =IF(Home!$S$16=0,"",Home!$S$16) -> 522 | D4: GYP | E4: 3 | F4: =IF('Survey Response Burden'!D21="",-999,'Survey Response Burden'!D21) -> 0 | G4: rb_1_3a
A5: 201718 | B5: M01 | C5: =IF(Home!$S$16=0,"",Home!$S$16) -> 522 | D5: GYP | E5: 4 | F5: =IF('Survey Response Burden'!D22="",-999,'Survey Response Burden'!D22) -> 2 | G5: rb_1_4a
A6: 201718 | B6: M01 | C6: =IF(Home!$S$16=0,"",Home!$S$16) -> 522 | D6: GYP | E6: 5 | F6: =IF('Survey Response Burden'!D23="",-999,'Survey Response Burden'!D23) -> 0 | G6: rb_1_5a

Sheet Home
C3: =Text!C3 -> Gypsy and Traveller Caravan Count
C4: =Text!C133 -> 19 July 2018
C6: =Text!C4 -> This data collection is being undertaken by the Welsh Government
R7: 201516 - 1 | S7: Current year
C9: =Text!C5 -> Guidance Notes are included to assist in the completion of the form
C11: Choose your preferred language / Dewiswch eich iaith penodol
C13: =Text!C6 -> PROVIDER DETAILS | R13: 1 | S13: Saesneg/English
S14: Cymraeg/Welsh
C16: =Text!C7 -> Please select your authority from the list provided | N16: =IF(S16=0,"û","ü") -> ü | R16: 6 | S16: =VLOOKUP(R16,LAs!A2:B24,2,0) -> 522 | T16: =VLOOKUP($S$16,LAs!B2:E24,4,0) -> Wrexham
C18: =Text!C8 -> Please enter the name of the main contact in relation to this return | H18: Russell Jones | N18: =IF(H18="","û","ü") -> ü
C19: =Text!C9 -> Please enter the telephone number for this contact | H19: 01978 813000 | N19: =IF(H19="","û","ü") -> ü
C20: =Text!C10 -> Please enter the e-mail address for this contact | H20: Russell.Jones@wrexham.gov.uk | N20: =IF(H20="","û","ü") -> ü
C22: =Text!C11 -> Table | F22: =Text!C12 -> Validation progress
C23: =Text!C15 -> Monitoring survey response burden | F23: =SUM('Survey Response Burden'!J28/'Survey Response Burden'!J29) -> 1 | H23: =IF(F23<1,"û","ü") -> ü
C24: =Text!C16 -> Table 1 - authorised socially rented sites | F24: =SUM('Table 1'!O37/'Table 1'!O39) -> 1 | H24: =IF(F24<1,"û","ü") -> ü
C25: =Text!C17 -> Table 2 - authorised private sites | F25: =SUM('Table 2'!H50/'Table 2'!H52) -> 1 | H25: =IF(F25<1,"û","ü") -> ü
C26: =Text!C18 -> Table 3 - unauthorised sites | F26: =SUM('Table 3'!J37/'Table 3'!J39) -> 1 | H26: =IF(F26<1,"û","ü") -> ü
C28: =Text!C134 -> Please note that the ‘live’ online system needs to be updated at the same time.
C29: =Text!C14 -> Please return your completed spreadsheet to the Welsh Government via Afon by 17 August 2018
C30: https://www.afonwales.org.uk/
L32: =Text!C13 -> Version 1

Sheet Form Guidance
C3: =Text!C44 -> Form guidance | F3: =Home!$T$16 -> Wrexham
G4: =Text!C73 -> Definition guidance
G5: =Text!C69 -> Back to home page
C6: =Text!C45 -> NAVIGATION
C7: =Text!C46 -> You will be able to move from sheet to sheet by clicking the appropriate hyperlink, e.g.
C8: =Text!C47 -> to go to Table 1 click the hyperlink | H8: =Text!C66 -> Table 1
C9: =Text!C48 -> to return to the home page click the "Back to Home Page" hyperlink | G9: =Text!C69 -> Back to home page
C11: =Text!C49 -> REQUIRED DATA ITEMS
C12: =Text!C50 -> On receiving the spreadsheet the cells requiring data items will have the following properties: | D12: #N/A | F12: #N/A | H12: #N/A
C13: =Text!C51 -> All cells requiring data will be coloured pale blue
C15: =Text!C52 -> Some cells derive values from other data items. These cells are coloured in grey. You will not be able to enter data into these cells
C17: =Text!C54 -> A yellow box is provided in each table for your comments. If any data items are missing then a comment must be added to the spreadsheet
C19: =Text!C53 -> Leave the cell blank if you are unable to provide the data item. Put a zero in the cell where there is a zero count for this data item.
C21: =Text!C55 -> VALIDATION | H21: #N/A
C23: =Text!C56 -> Validation 1
C24: =Text!C57 -> Validation 1 involves checking for common sense errors. These errors must be resolved before the spreadsheet is submitted to the Welsh Government | D24: #N/A | F24: #N/A | H24: #N/A
C26: =Text!C58 -> Data items that pass validation will be coloured green | H26: ü
C28: =Text!C59 -> Data items where no data is entered, or which break a validation rule, are coloured red. You should enter a zero where the data item is nil, or make a comment if no data are available for that item | H28: û
C30: =Text!C60 -> Missing data items with a comment provided will be coloured amber | H30: !
C32: =Text!C61 -> Validation 2
C33: =Text!C62 -> Validation 2 involves comparing information submitted for the previous year and looking for large changes. Validation 2 will flag data items that have changed by more than a pre-defined amount between years. These data items are flagged in column V2 of the spreadsheet | D33: #N/A | F33: #N/A | H33: #VALUE!
C35: =Text!C63 -> Data items that pass validation will be coloured green | H35: ü
C37: =Text!C64 -> Data items which have changed by more than 10% require an explanation for the change. Explanations must include reasons for the change and not simply indicate that a change has occurred or confirm the change. These comments should be made in the adjacent comments box | H37: û
C39: =Text!C65 -> Data items where an explanation has been provided will be coloured amber | H39: !

Sheet Definition Guidance
C3: =Text!C73 -> Definition guidance | E3: =Home!$T$16 -> Wrexham
E4: =Text!C44 -> Form guidance
E5: =Text!C37 -> Monitoring survey response burden
E6: =Text!C69 -> Back to home page
C7: =Text!C74 -> Definition of 'Gypsy/Traveller'
C9: =Text!C75 -> a) a person with a cultural tradition of nomadism or of living in a caravan; and
C11: =Text!C76 -> b) all other persons of a nomadic habit life, whatever their race or origin including -
C13: =Text!C77 -> i) such persons who, on grounds only of their own or their family's or dependant's educational or health needs or old age, have ceased to travel temporarily or permanently; and
C15: =Text!C78 -> ii) members of an organised group of travelling show people or circus people (whether or not travelling together as such).
C17: =Text!C79 -> Definition of 'caravan'
C19: =Text!C80 -> a) all mobile homes, caravans, trailers and other living vehicles on Gypsy/Traveller sites and encampments, whether or not they meet the strict legal definition of a caravan
C21: =Text!C81 -> b) touring caravans on Gypsy and Traveller sites and encampments even if not lived in permanently
C23: =Text!C82 -> c) tents, benders or yurts where these are the ‘permanent’ living accommodation of Gypsies or Travellers.
C25: =Text!C83 -> Socially rented site
C27: =Text!C84 -> Sites operated by local authorities or Registered Social Landlords (RSL’s)
C29: =Text!C85 -> Authorised privately funded sites
C31: =Text!C86 -> Privately Funded Gypsy and Traveller sites with planning permission may include:
C33: =Text!C87 -> a) sites with planning permission owned by Gypsies and Travellers for their own and/or their family’s occupation and/or for commercial letting;
C35: =Text!C88 -> b) sites owned by any other private individual or body with planning permission for use as a Gypsy and Traveller site; and
C37: =Text!C89 -> c) sites owned by a local authority but leased to, or managed by, a non-local authority body or individual under arrangements which do not give the local authority control of site management (critically of rent setting and lettings).
C39: =Text!C90 -> ‘With planning permission’ includes sites without ‘planning permission’ as such, but with established use rights or other planning status which means that planning enforcement action cannot be taken.
C41: =Text!C91 -> Note: only those sites which are exclusively occupied by Gypsies and Travellers should be included in the Count. Park home sites and holiday caravan parks of any kind are to be excluded.
C43: =Text!C92 -> Unauthorised sites on Gypsies' own land
C45: =Text!C93 -> Sites where Gypsies and Travellers are living on their own land in caravans/moveable dwellings without planning consent or established use rights.
C47: =Text!C94 -> a) Tolerated: where the local authority has decided not to seek the removal of the encampment and where the encampment has been, or is likely to be, allowed to remain for an indefinite period of months or years.
C49: =Text!C95 -> b) Not tolerated: where a planning enforcement notice has been served (including Temporary Stop Notices); the results of a planning enquiry are pending; an injunction has been sought; or where the compliance period has been extended.
C51: =Text!C96 -> Unauthorised sites on land not owned by Gypsies
C53: =Text!C97 -> Caravans/moveable dwellings on sites without planning permission on land not owned by Gypsies and Travellers. The land may be in public or private ownership, including the highway.
C55: =Text!C98 -> a) Tolerated: where the local authority and/or the land owner have decided not to seek the removal of the encampment, and where the encampment has been or is likely to be ‘tolerated’ for an indefinite period of months or years.
C57: =Text!C99 -> b) Not tolerated: A ‘not tolerated’ encampment is one where the local authority or police are using, or are preparing to use, their powers under the Criminal Justice and Public Order Act 1994 to remove the encampment, or where the landowner (including the local authority) has instigated, or is preparing to instigate, action either through the courts or under common law rights to regain possession of the land.
C59: =Text!C100 -> Site addresses
C61: =Text!C101 -> Please provide a full grid reference for each Gypsy and Traveller site. Both the easting and the northing should contain 6 digits each. Your authority's Planning Department will be able to offer assistance in obtaining a grid reference. If you are unable to input a grid reference, please input the full postcode of the site. It is no longer necessary to input the full address of the site.
C63: =Text!C102 -> Pitches
C65: =Text!C103 -> A pitch is an area of land on a Gypsy and Traveller site normally occupied by one licensee family, sometimes referred to as a plot. Pitches can vary in size and the maximum number of caravans able to be located at each pitch depends on the size of the pitch, but must not exceed four caravans on any one pitch.

Sheet Survey Response Burden
C3: =Text!C37 -> Monitoring survey response burden | G3: =Home!$T$16 -> Wrexham
J4: =Text!C66 -> Table 1
H5: =Text!C69 -> Back to home page
C7: =Text!C23 -> The Welsh Government are monitoring the burden placed on local authorities completing the data collection forms. This helps us when planning future changes to data collection forms. We would be grateful if you could assist us by completing the table below.
C9: =Text!C24 -> Please enter the time it has taken you (and any colleagues) to prepare and send the return. A number of staff employed in different roles may have been involved. You are asked to count the hours spent by staff in each full time equivalent annual salary band indicated below. You will need to round staff salaries to the nearest £1,000.
C11: =Text!C25 -> Please only include time spent on activities to prepare and send this return, such as:
C12: =Text!C26 -> • retrieval and saving the empty form;
C13: =Text!C27 -> • collection, collation, analysis and aggregation of records and figures required;
C14: =Text!C28 -> • filling in, checking, amending, reviewing and, when completed, approving the form; and
C15: =Text!C29 -> • sending the form back to the Welsh Government.
C17: =Text!C35 -> Grade of staff | D17: =Text!C36 -> Hours taken | E17: =Text!C38 -> Comment
D18: a
C19: =Text!C30 -> Band 1 £11,500 - £19,999 | D19: 0 | J19: =IF(D19="",IF(E19="","û","!"),"ü") -> ü
C20: =Text!C31 -> Band 2 £20,000 - £26,999 | D20: 1 | J20: =IF(D20="",IF(E20="","û","!"),"ü") -> ü
C21: =Text!C32 -> Band 3 £27,000 - £33,999 | D21: 0 | J21: =IF(D21="",IF(E21="","û","!"),"ü") -> ü
C22: =Text!C33 -> Band 4 £34,000 - £53,999 | D22: 2 | J22: =IF(D22="",IF(E22="","û","!"),"ü") -> ü
C23: =Text!C34 -> Band 5 £54,000+ | D23: 0 | J23: =IF(D23="",IF(E23="","û","!"),"ü") -> ü
I26: ü | J26: =COUNTIF(J19:J23,"ü") -> 5
I27: ! | J27: =COUNTIF(J19:J23,"!") -> 0
H28: Total | J28: =SUM(J26:J27) -> 5
H29: Possible total | J29: 5

Sheet Table 1
C3: =Text!C107 -> Table 1 - Authorised socially rented sites | Z3: =Home!$T$16 -> Wrexham
W4: =Text!C126 -> Table 2 - Authorised private sites
C5: =Text!C125 -> Please enter the number of authorised socially rented sites within your local authority | I5: 1 | J5: =IF(I5="","û","ü") -> ü | Z5: =Text!C69 -> Back to home page
C7: =Text!C108 -> Click here for guidance
D9: =Text!C109 -> You are only required to enter EITHER the postcode OR the OS grid reference
C10: =Text!C110 -> Name | D10: =Text!C111 -> Postcode | E10: =Text!C112 -> OS grid reference (Six digit grid reference required) | G10: =Text!C115 -> Total number of caravans | H10: =Text!C116 -> Number of residential pitches | L10: =Text!C117 -> Number of transit pitches
E11: =Text!C113 -> Easting | F11: =Text!C114 -> Northing | H11: =Text!C118 -> Occupied | I11: =Text!C119 -> Vacant | J11: =Text!C120 -> Total | L11: =Text!C118 -> Occupied | M11: =Text!C119 -> Vacant | N11: =Text!C120 -> Total | O11: =Text!C56 -> Validation 1 | Z11: =Text!C70 -> Comment
C12: 1 | D12: 2 | E12: 3 | F12: 4 | G12: 5 | H12: 6 | I12: 7 | J12: 8 | L12: 9 | M12: 10 | N12: 11 | O12: 1 | P12: 2 | Q12: 3 | R12: 4 | S12: 5 | T12: 6 | U12: 7 | V12: 8 | W12: 9 | X12: 10 | Y12: 11
B13: 1 | C13: Ruthin Road | E13: 331059 | F13: 350439 | G13: 28 | H13: 15 | I13: 0 | J13: =IF(AND(H13="",I13=""),"",SUM(H13:I13)) -> 15 | L13: 0 | M13: 0 | N13: =IF(AND(L13="",M13=""),"",SUM(L13:M13)) -> 0 | O13: =IF($I$5="","û",IF(B13>$I$5,"ü",IF(C13="",IF($Z13="","û","!"),"ü"))) -> ü | P13: =IF($I$5="","û",IF(B13>$I$5,"ü",IF(AND(E13<>"",F13<>""),"ü",IF(D13="",IF($Z13="","û","!"),"ü")))) -> ü | Q13: =IF($I$5="","û",IF(OR(B13>$I$5,D13<>""),"ü",IF(OR(E13="",F13=""),IF($Z13="","û","!"),"ü"))) -> ü | R13: =IF($I$5="","û",IF(OR(B13>$I$5,D13<>""),"ü",IF(OR(E13="",F13=""),IF($Z13="","û","!"),"ü"))) -> ü | S13: =IF($I$5="","û",IF(B13>$I$5,"ü",IF(G13="",IF($Z13="","û","!"),"ü"))) -> ü | T13: =IF($I$5="","û",IF(B13>$I$5,"ü",IF(H13="",IF($Z13="","û","!"),"ü"))) -> ü | U13: =IF($I$5="","û",IF(B13>$I$5,"ü",IF(I13="",IF($Z13="","û","!"),"ü"))) -> ü | V13: =IF($I$5="","û",IF(B13>$I$5,"ü",IF(J13="",IF($Z13="","û","!"),"ü"))) -> ü | W13: =IF($I$5="","û",IF(B13>$I$5,"ü",IF(L13="",IF($Z13="","û","!"),"ü"))) -> ü | X13: =IF($I$5="","û",IF(B13>$I$5,"ü",IF(M13="",IF($Z13="","û","!"),"ü"))) -> ü | Y13: =IF($I$5="","û",IF(B13>$I$5,"ü",IF(N13="",IF($Z13="","û","!"),"ü"))) -> ü
B14: 2 | J14: =IF(AND(H14="",I14=""),"",SUM(H14:I14)) | N14: =IF(AND(L14="",M14=""),"",SUM(L14:M14)) | O14: =IF($I$5="","û",IF(B14>$I$5,"ü",IF(C14="",IF($Z14="","û","!"),"ü"))) -> ü | P14: =IF($I$5="","û",IF(B14>$I$5,"ü",IF(AND(E14<>"",F14<>""),"ü",IF(D14="",IF($Z14="","û","!"),"ü")))) -> ü | Q14: =IF($I$5="","û",IF(OR(B14>$I$5,D14<>""),"ü",IF(OR(E14="",F14=""),IF($Z14="","û","!"),"ü"))) -> ü | R14: =IF($I$5="","û",IF(OR(B14>$I$5,D14<>""),"ü",IF(OR(E14="",F14=""),IF($Z14="","û","!"),"ü"))) -> ü | S14: =IF($I$5="","û",IF(B14>$I$5,"ü",IF(G14="",IF($Z14="","û","!"),"ü"))) -> ü | T14: =IF($I$5="","û",IF(B14>$I$5,"ü",IF(H14="",IF($Z14="","û","!"),"ü"))) -> ü | U14: =IF($I$5="","û",IF(B14>$I$5,"ü",IF(I14="",IF($Z14="","û","!"),"ü"))) -> ü | V14: =IF($I$5="","û",IF(B14>$I$5,"ü",IF(J14="",IF($Z14="","û","!"),"ü"))) -> ü | W14: =IF($I$5="","û",IF(B14>$I$5,"ü",IF(L14="",IF($Z14="","û","!"),"ü"))) -> ü | X14: =IF($I$5="","û",IF(B14>$I$5,"ü",IF(M14="",IF($Z14="","û","!"),"ü"))) -> ü | Y14: =IF($I$5="","û",IF(B14>$I$5,"ü",IF(N14="",IF($Z14="","û","!"),"ü"))) -> ü
B15: 3 | J15: =IF(AND(H15="",I15=""),"",SUM(H15:I15)) | N15: =IF(AND(L15="",M15=""),"",SUM(L15:M15)) | O15: =IF($I$5="","û",IF(B15>$I$5,"ü",IF(C15="",IF($Z15="","û","!"),"ü"))) -> ü | P15: =IF($I$5="","û",IF(B15>$I$5,"ü",IF(AND(E15<>"",F15<>""),"ü",IF(D15="",IF($Z15="","û","!"),"ü")))) -> ü | Q15: =IF($I$5="","û",IF(OR(B15>$I$5,D15<>""),"ü",IF(OR(E15="",F15=""),IF($Z15="","û","!"),"ü"))) -> ü | R15: =IF($I$5="","û",IF(OR(B15>$I$5,D15<>""),"ü",IF(OR(E15="",F15=""),IF($Z15="","û","!"),"ü"))) -> ü | S15: =IF($I$5="","û",IF(B15>$I$5,"ü",IF(G15="",IF($Z15="","û","!"),"ü"))) -> ü | T15: =IF($I$5="","û",IF(B15>$I$5,"ü",IF(H15="",IF($Z15="","û","!"),"ü"))) -> ü | U15: =IF($I$5="","û",IF(B15>$I$5,"ü",IF(I15="",IF($Z15="","û","!"),"ü"))) -> ü | V15: =IF($I$5="","û",IF(B15>$I$5,"ü",IF(J15="",IF($Z15="","û","!"),"ü"))) -> ü | W15: =IF($I$5="","û",IF(B15>$I$5,"ü",IF(L15="",IF($Z15="","û","!"),"ü"))) -> ü | X15: =IF($I$5="","û",IF(B15>$I$5,"ü",IF(M15="",IF($Z15="","û","!"),"ü"))) -> ü | Y15: =IF($I$5="","û",IF(B15>$I$5,"ü",IF(N15="",IF($Z15="","û","!"),"ü"))) -> ü
B16: 4 | J16: =IF(AND(H16="",I16=""),"",SUM(H16:I16)) | N16: =IF(AND(L16="",M16=""),"",SUM(L16:M16)) | O16: =IF($I$5="","û",IF(B16>$I$5,"ü",IF(C16="",IF($Z16="","û","!"),"ü"))) -> ü | P16: =IF($I$5="","û",IF(B16>$I$5,"ü",IF(AND(E16<>"",F16<>""),"ü",IF(D16="",IF($Z16="","û","!"),"ü")))) -> ü | Q16: =IF($I$5="","û",IF(OR(B16>$I$5,D16<>""),"ü",IF(OR(E16="",F16=""),IF($Z16="","û","!"),"ü"))) -> ü | R16: =IF($I$5="","û",IF(OR(B16>$I$5,D16<>""),"ü",IF(OR(E16="",F16=""),IF($Z16="","û","!"),"ü"))) -> ü | S16: =IF($I$5="","û",IF(B16>$I$5,"ü",IF(G16="",IF($Z16="","û","!"),"ü"))) -> ü | T16: =IF($I$5="","û",IF(B16>$I$5,"ü",IF(H16="",IF($Z16="","û","!"),"ü"))) -> ü | U16: =IF($I$5="","û",IF(B16>$I$5,"ü",IF(I16="",IF($Z16="","û","!"),"ü"))) -> ü | V16: =IF($I$5="","û",IF(B16>$I$5,"ü",IF(J16="",IF($Z16="","û","!"),"ü"))) -> ü | W16: =IF($I$5="","û",IF(B16>$I$5,"ü",IF(L16="",IF($Z16="","û","!"),"ü"))) -> ü | X16: =IF($I$5="","û",IF(B16>$I$5,"ü",IF(M16="",IF($Z16="","û","!"),"ü"))) -> ü | Y16: =IF($I$5="","û",IF(B16>$I$5,"ü",IF(N16="",IF($Z16="","û","!"),"ü"))) -> ü
B17: 5 | J17: =IF(AND(H17="",I17=""),"",SUM(H17:I17)) | N17: =IF(AND(L17="",M17=""),"",SUM(L17:M17)) | O17: =IF($I$5="","û",IF(B17>$I$5,"ü",IF(C17="",IF($Z17="","û","!"),"ü"))) -> ü | P17: =IF($I$5="","û",IF(B17>$I$5,"ü",IF(AND(E17<>"",F17<>""),"ü",IF(D17="",IF($Z17="","û","!"),"ü")))) -> ü | Q17: =IF($I$5="","û",IF(OR(B17>$I$5,D17<>""),"ü",IF(OR(E17="",F17=""),IF($Z17="","û","!"),"ü"))) -> ü | R17: =IF($I$5="","û",IF(OR(B17>$I$5,D17<>""),"ü",IF(OR(E17="",F17=""),IF($Z17="","û","!"),"ü"))) -> ü | S17: =IF($I$5="","û",IF(B17>$I$5,"ü",IF(G17="",IF($Z17="","û","!"),"ü"))) -> ü | T17: =IF($I$5="","û",IF(B17>$I$5,"ü",IF(H17="",IF($Z17="","û","!"),"ü"))) -> ü | U17: =IF($I$5="","û",IF(B17>$I$5,"ü",IF(I17="",IF($Z17="","û","!"),"ü"))) -> ü | V17: =IF($I$5="","û",IF(B17>$I$5,"ü",IF(J17="",IF($Z17="","û","!"),"ü"))) -> ü | W17: =IF($I$5="","û",IF(B17>$I$5,"ü",IF(L17="",IF($Z17="","û","!"),"ü"))) -> ü | X17: =IF($I$5="","û",IF(B17>$I$5,"ü",IF(M17="",IF($Z17="","û","!"),"ü"))) -> ü | Y17: =IF($I$5="","û",IF(B17>$I$5,"ü",IF(N17="",IF($Z17="","û","!"),"ü"))) -> ü
B18: 6 | J18: =IF(AND(H18="",I18=""),"",SUM(H18:I18)) | N18: =IF(AND(L18="",M18=""),"",SUM(L18:M18)) | O18: =IF($I$5="","û",IF(B18>$I$5,"ü",IF(C18="",IF($Z18="","û","!"),"ü"))) -> ü | P18: =IF($I$5="","û",IF(B18>$I$5,"ü",IF(AND(E18<>"",F18<>""),"ü",IF(D18="",IF($Z18="","û","!"),"ü")))) -> ü | Q18: =IF($I$5="","û",IF(OR(B18>$I$5,D18<>""),"ü",IF(OR(E18="",F18=""),IF($Z18="","û","!"),"ü"))) -> ü | R18: =IF($I$5="","û",IF(OR(B18>$I$5,D18<>""),"ü",IF(OR(E18="",F18=""),IF($Z18="","û","!"),"ü"))) -> ü | S18: =IF($I$5="","û",IF(B18>$I$5,"ü",IF(G18="",IF($Z18="","û","!"),"ü"))) -> ü | T18: =IF($I$5="","û",IF(B18>$I$5,"ü",IF(H18="",IF($Z18="","û","!"),"ü"))) -> ü | U18: =IF($I$5="","û",IF(B18>$I$5,"ü",IF(I18="",IF($Z18="","û","!"),"ü"))) -> ü | V18: =IF($I$5="","û",IF(B18>$I$5,"ü",IF(J18="",IF($Z18="","û","!"),"ü"))) -> ü | W18: =IF($I$5="","û",IF(B18>$I$5,"ü",IF(L18="",IF($Z18="","û","!"),"ü"))) -> ü | X18: =IF($I$5="","û",IF(B18>$I$5,"ü",IF(M18="",IF($Z18="","û","!"),"ü"))) -> ü | Y18: =IF($I$5="","û",IF(B18>$I$5,"ü",IF(N18="",IF($Z18="","û","!"),"ü"))) -> ü
B19: 7 | J19: =IF(AND(H19="",I19=""),"",SUM(H19:I19)) | N19: =IF(AND(L19="",M19=""),"",SUM(L19:M19)) | O19: =IF($I$5="","û",IF(B19>$I$5,"ü",IF(C19="",IF($Z19="","û","!"),"ü"))) -> ü | P19: =IF($I$5="","û",IF(B19>$I$5,"ü",IF(AND(E19<>"",F19<>""),"ü",IF(D19="",IF($Z19="","û","!"),"ü")))) -> ü | Q19: =IF($I$5="","û",IF(OR(B19>$I$5,D19<>""),"ü",IF(OR(E19="",F19=""),IF($Z19="","û","!"),"ü"))) -> ü | R19: =IF($I$5="","û",IF(OR(B19>$I$5,D19<>""),"ü",IF(OR(E19="",F19=""),IF($Z19="","û","!"),"ü"))) -> ü | S19: =IF($I$5="","û",IF(B19>$I$5,"ü",IF(G19="",IF($Z19="","û","!"),"ü"))) -> ü | T19: =IF($I$5="","û",IF(B19>$I$5,"ü",IF(H19="",IF($Z19="","û","!"),"ü"))) -> ü | U19: =IF($I$5="","û",IF(B19>$I$5,"ü",IF(I19="",IF($Z19="","û","!"),"ü"))) -> ü | V19: =IF($I$5="","û",IF(B19>$I$5,"ü",IF(J19="",IF($Z19="","û","!"),"ü"))) -> ü | W19: =IF($I$5="","û",IF(B19>$I$5,"ü",IF(L19="",IF($Z19="","û","!"),"ü"))) -> ü | X19: =IF($I$5="","û",IF(B19>$I$5,"ü",IF(M19="",IF($Z19="","û","!"),"ü"))) -> ü | Y19: =IF($I$5="","û",IF(B19>$I$5,"ü",IF(N19="",IF($Z19="","û","!"),"ü"))) -> ü
B20: 8 | J20: =IF(AND(H20="",I20=""),"",SUM(H20:I20)) | N20: =IF(AND(L20="",M20=""),"",SUM(L20:M20)) | O20: =IF($I$5="","û",IF(B20>$I$5,"ü",IF(C20="",IF($Z20="","û","!"),"ü"))) -> ü | P20: =IF($I$5="","û",IF(B20>$I$5,"ü",IF(AND(E20<>"",F20<>""),"ü",IF(D20="",IF($Z20="","û","!"),"ü")))) -> ü | Q20: =IF($I$5="","û",IF(OR(B20>$I$5,D20<>""),"ü",IF(OR(E20="",F20=""),IF($Z20="","û","!"),"ü"))) -> ü | R20: =IF($I$5="","û",IF(OR(B20>$I$5,D20<>""),"ü",IF(OR(E20="",F20=""),IF($Z20="","û","!"),"ü"))) -> ü | S20: =IF($I$5="","û",IF(B20>$I$5,"ü",IF(G20="",IF($Z20="","û","!"),"ü"))) -> ü | T20: =IF($I$5="","û",IF(B20>$I$5,"ü",IF(H20="",IF($Z20="","û","!"),"ü"))) -> ü | U20: =IF($I$5="","û",IF(B20>$I$5,"ü",IF(I20="",IF($Z20="","û","!"),"ü"))) -> ü | V20: =IF($I$5="","û",IF(B20>$I$5,"ü",IF(J20="",IF($Z20="","û","!"),"ü"))) -> ü | W20: =IF($I$5="","û",IF(B20>$I$5,"ü",IF(L20="",IF($Z20="","û","!"),"ü"))) -> ü | X20: =IF($I$5="","û",IF(B20>$I$5,"ü",IF(M20="",IF($Z20="","û","!"),"ü"))) -> ü | Y20: =IF($I$5="","û",IF(B20>$I$5,"ü",IF(N20="",IF($Z20="","û","!"),"ü"))) -> ü
B21: 9 | J21: =IF(AND(H21="",I21=""),"",SUM(H21:I21)) | N21: =IF(AND(L21="",M21=""),"",SUM(L21:M21)) | O21: =IF($I$5="","û",IF(B21>$I$5,"ü",IF(C21="",IF($Z21="","û","!"),"ü"))) -> ü | P21: =IF($I$5="","û",IF(B21>$I$5,"ü",IF(AND(E21<>"",F21<>""),"ü",IF(D21="",IF($Z21="","û","!"),"ü")))) -> ü | Q21: =IF($I$5="","û",IF(OR(B21>$I$5,D21<>""),"ü",IF(OR(E21="",F21=""),IF($Z21="","û","!"),"ü"))) -> ü | R21: =IF($I$5="","û",IF(OR(B21>$I$5,D21<>""),"ü",IF(OR(E21="",F21=""),IF($Z21="","û","!"),"ü"))) -> ü | S21: =IF($I$5="","û",IF(B21>$I$5,"ü",IF(G21="",IF($Z21="","û","!"),"ü"))) -> ü | T21: =IF($I$5="","û",IF(B21>$I$5,"ü",IF(H21="",IF($Z21="","û","!"),"ü"))) -> ü | U21: =IF($I$5="","û",IF(B21>$I$5,"ü",IF(I21="",IF($Z21="","û","!"),"ü"))) -> ü | V21: =IF($I$5="","û",IF(B21>$I$5,"ü",IF(J21="",IF($Z21="","û","!"),"ü"))) -> ü | W21: =IF($I$5="","û",IF(B21>$I$5,"ü",IF(L21="",IF($Z21="","û","!"),"ü"))) -> ü | X21: =IF($I$5="","û",IF(B21>$I$5,"ü",IF(M21="",IF($Z21="","û","!"),"ü"))) -> ü | Y21: =IF($I$5="","û",IF(B21>$I$5,"ü",IF(N21="",IF($Z21="","û","!"),"ü"))) -> ü
B22: 10 | J22: =IF(AND(H22="",I22=""),"",SUM(H22:I22)) | N22: =IF(AND(L22="",M22=""),"",SUM(L22:M22)) | O22: =IF($I$5="","û",IF(B22>$I$5,"ü",IF(C22="",IF($Z22="","û","!"),"ü"))) -> ü | P22: =IF($I$5="","û",IF(B22>$I$5,"ü",IF(AND(E22<>"",F22<>""),"ü",IF(D22="",IF($Z22="","û","!"),"ü")))) -> ü | Q22: =IF($I$5="","û",IF(OR(B22>$I$5,D22<>""),"ü",IF(OR(E22="",F22=""),IF($Z22="","û","!"),"ü"))) -> ü | R22: =IF($I$5="","û",IF(OR(B22>$I$5,D22<>""),"ü",IF(OR(E22="",F22=""),IF($Z22="","û","!"),"ü"))) -> ü | S22: =IF($I$5="","û",IF(B22>$I$5,"ü",IF(G22="",IF($Z22="","û","!"),"ü"))) -> ü | T22: =IF($I$5="","û",IF(B22>$I$5,"ü",IF(H22="",IF($Z22="","û","!"),"ü"))) -> ü | U22: =IF($I$5="","û",IF(B22>$I$5,"ü",IF(I22="",IF($Z22="","û","!"),"ü"))) -> ü | V22: =IF($I$5="","û",IF(B22>$I$5,"ü",IF(J22="",IF($Z22="","û","!"),"ü"))) -> ü | W22: =IF($I$5="","û",IF(B22>$I$5,"ü",IF(L22="",IF($Z22="","û","!"),"ü"))) -> ü | X22: =IF($I$5="","û",IF(B22>$I$5,"ü",IF(M22="",IF($Z22="","û","!"),"ü"))) -> ü | Y22: =IF($I$5="","û",IF(B22>$I$5,"ü",IF(N22="",IF($Z22="","û","!"),"ü"))) -> ü
B23: 99 | C23: Total number | G23: =SUM(G13:G22) -> 28 | H23: =SUM(H13:H22) -> 15 | I23: =SUM(I13:I22) -> 0 | J23: =SUM(J13:K22) -> 15 | L23: =SUM(L13:L22) -> 0 | M23: =SUM(M13:M22) -> 0 | N23: =SUM(N13:N22) -> 0
C25: =Text!C70 -> Comment
N35: ü | O35: =COUNTIF(O13:Y22,"ü") -> 110
N36: ! | O36: =COUNTIF(O13:Y22,"!") -> 0
N37: Total passed | O37: =SUM(O35:O36) -> 110
N38: û | O38: =COUNTIF(O13:Y22,"û") -> 0
N39: Possible total | O39: =SUM(O37,O38) -> 110

Sheet Table 2
C3: =Text!C126 -> Table 2 - Authorised private sites | M3: =Home!$T$16 -> Wrexham
H4: =Text!C127 -> Table 3 - Unauthorised sites
C5: =Text!C128 -> Please enter the number of authorised private sites within your local authority | G5: 6 | I5: =IF(G5="","û","ü") -> ü | M5: =Text!C69 -> Back to home page
C7: =Text!C108 -> Click here for guidance
D9: =Text!C109 -> You are only required to enter EITHER the postcode OR the OS grid reference
C10: =Text!C110 -> Name | D10: =Text!C111 -> Postcode | E10: =Text!C112 -> OS grid reference (Six digit grid reference required) | G10: =Text!C115 -> Total number of caravans
E11: =Text!C113 -> Easting | F11: =Text!C114 -> Northing | H11: =Text!C56 -> Validation 1 | M11: =Text!C70 -> Comment
C12: 1 | D12: 2 | E12: 3 | F12: 4 | G12: 5 | H12: 1 | I12: 2 | J12: 3 | K12: 4 | L12: 5
B13: 1 | C13: Berryland | E13: 332119 | F13: 349882 | G13: 2 | H13: =IF($G$5="","û",IF(B13>$G$5,"ü",IF(C13="",IF($M13="","û","!"),"ü"))) -> ü | I13: =IF($G$5="","û",IF(B13>$G$5,"ü",IF(AND(E13<>"",F13<>""),"ü",IF(D13="",IF($M13="","û","!"),"ü")))) -> ü | J13: =IF($G$5="","û",IF(OR(B13>$G$5,D13<>""),"ü",IF(OR(E13="",F13=""),IF($M13="","û","!"),"ü"))) -> ü | K13: =IF($G$5="","û",IF(OR(B13>$G$5,D13<>""),"ü",IF(OR(E13="",F13=""),IF($M13="","û","!"),"ü"))) -> ü | L13: =IF($G$5="","û",IF(B13>$G$5,"ü",IF(G13="",IF($M13="","û","!"),"ü"))) -> ü | M13: Also 1 CHALET
B14: 2 | C14: Long Lane | E14: 330213 | F14: 353047 | G14: 0 | H14: =IF($G$5="","û",IF(B14>$G$5,"ü",IF(C14="",IF($M14="","û","!"),"ü"))) -> ü | I14: =IF($G$5="","û",IF(B14>$G$5,"ü",IF(AND(E14<>"",F14<>""),"ü",IF(D14="",IF($M14="","û","!"),"ü")))) -> ü | J14: =IF($G$5="","û",IF(OR(B14>$G$5,D14<>""),"ü",IF(OR(E14="",F14=""),IF($M14="","û","!"),"ü"))) -> ü | K14: =IF($G$5="","û",IF(OR(B14>$G$5,D14<>""),"ü",IF(OR(E14="",F14=""),IF($M14="","û","!"),"ü"))) -> ü | L14: =IF($G$5="","û",IF(B14>$G$5,"ü",IF(G14="",IF($M14="","û","!"),"ü"))) -> ü
B15: 3 | C15: The Stables | E15: 330175 | F15: 351976 | G15: 3 | H15: =IF($G$5="","û",IF(B15>$G$5,"ü",IF(C15="",IF($M15="","û","!"),"ü"))) -> ü | I15: =IF($G$5="","û",IF(B15>$G$5,"ü",IF(AND(E15<>"",F15<>""),"ü",IF(D15="",IF($M15="","û","!"),"ü")))) -> ü | J15: =IF($G$5="","û",IF(OR(B15>$G$5,D15<>""),"ü",IF(OR(E15="",F15=""),IF($M15="","û","!"),"ü"))) -> ü | K15: =IF($G$5="","û",IF(OR(B15>$G$5,D15<>""),"ü",IF(OR(E15="",F15=""),IF($M15="","û","!"),"ü"))) -> ü | L15: =IF($G$5="","û",IF(B15>$G$5,"ü",IF(G15="",IF($M15="","û","!"),"ü"))) -> ü | M15: Also 1 CHALET
B16: 4 | C16: Oakstream | E16: 327452 | F16: 343434 | G16: 4 | H16: =IF($G$5="","û",IF(B16>$G$5,"ü",IF(C16="",IF($M16="","û","!"),"ü"))) -> ü | I16: =IF($G$5="","û",IF(B16>$G$5,"ü",IF(AND(E16<>"",F16<>""),"ü",IF(D16="",IF($M16="","û","!"),"ü")))) -> ü | J16: =IF($G$5="","û",IF(OR(B16>$G$5,D16<>""),"ü",IF(OR(E16="",F16=""),IF($M16="","û","!"),"ü"))) -> ü | K16: =IF($G$5="","û",IF(OR(B16>$G$5,D16<>""),"ü",IF(OR(E16="",F16=""),IF($M16="","û","!"),"ü"))) -> ü | L16: =IF($G$5="","û",IF(B16>$G$5,"ü",IF(G16="",IF($M16="","û","!"),"ü"))) -> ü | M16: Also 2 Chalets
B17: 5 | C17: Fennant Road | E17: 330102 | F17: 346879 | G17: 0 | H17: =IF($G$5="","û",IF(B17>$G$5,"ü",IF(C17="",IF($M17="","û","!"),"ü"))) -> ü | I17: =IF($G$5="","û",IF(B17>$G$5,"ü",IF(AND(E17<>"",F17<>""),"ü",IF(D17="",IF($M17="","û","!"),"ü")))) -> ü | J17: =IF($G$5="","û",IF(OR(B17>$G$5,D17<>""),"ü",IF(OR(E17="",F17=""),IF($M17="","û","!"),"ü"))) -> ü | K17: =IF($G$5="","û",IF(OR(B17>$G$5,D17<>""),"ü",IF(OR(E17="",F17=""),IF($M17="","û","!"),"ü"))) -> ü | L17: =IF($G$5="","û",IF(B17>$G$5,"ü",IF(G17="",IF($M17="","û","!"),"ü"))) -> ü | M17: Not occupied yet
B18: 6 | C18: Halton Site, Chirk | E18: 329827 | F18: 339738 | G18: 0 | H18: =IF($G$5="","û",IF(B18>$G$5,"ü",IF(C18="",IF($M18="","û","!"),"ü"))) -> ü | I18: =IF($G$5="","û",IF(B18>$G$5,"ü",IF(AND(E18<>"",F18<>""),"ü",IF(D18="",IF($M18="","û","!"),"ü")))) -> ü | J18: =IF($G$5="","û",IF(OR(B18>$G$5,D18<>""),"ü",IF(OR(E18="",F18=""),IF($M18="","û","!"),"ü"))) -> ü | K18: =IF($G$5="","û",IF(OR(B18>$G$5,D18<>""),"ü",IF(OR(E18="",F18=""),IF($M18="","û","!"),"ü"))) -> ü | L18: =IF($G$5="","û",IF(B18>$G$5,"ü",IF(G18="",IF($M18="","û","!"),"ü"))) -> ü | M18: Not occupied yet
B19: 7 | H19: =IF($G$5="","û",IF(B19>$G$5,"ü",IF(C19="",IF($M19="","û","!"),"ü"))) -> ü | I19: =IF($G$5="","û",IF(B19>$G$5,"ü",IF(AND(E19<>"",F19<>""),"ü",IF(D19="",IF($M19="","û","!"),"ü")))) -> ü | J19: =IF($G$5="","û",IF(OR(B19>$G$5,D19<>""),"ü",IF(OR(E19="",F19=""),IF($M19="","û","!"),"ü"))) -> ü | K19: =IF($G$5="","û",IF(OR(B19>$G$5,D19<>""),"ü",IF(OR(E19="",F19=""),IF($M19="","û","!"),"ü"))) -> ü | L19: =IF($G$5="","û",IF(B19>$G$5,"ü",IF(G19="",IF($M19="","û","!"),"ü"))) -> ü
B20: 8 | H20: =IF($G$5="","û",IF(B20>$G$5,"ü",IF(C20="",IF($M20="","û","!"),"ü"))) -> ü | I20: =IF($G$5="","û",IF(B20>$G$5,"ü",IF(AND(E20<>"",F20<>""),"ü",IF(D20="",IF($M20="","û","!"),"ü")))) -> ü | J20: =IF($G$5="","û",IF(OR(B20>$G$5,D20<>""),"ü",IF(OR(E20="",F20=""),IF($M20="","û","!"),"ü"))) -> ü | K20: =IF($G$5="","û",IF(OR(B20>$G$5,D20<>""),"ü",IF(OR(E20="",F20=""),IF($M20="","û","!"),"ü"))) -> ü | L20: =IF($G$5="","û",IF(B20>$G$5,"ü",IF(G20="",IF($M20="","û","!"),"ü"))) -> ü
B21: 9 | H21: =IF($G$5="","û",IF(B21>$G$5,"ü",IF(C21="",IF($M21="","û","!"),"ü"))) -> ü | I21: =IF($G$5="","û",IF(B21>$G$5,"ü",IF(AND(E21<>"",F21<>""),"ü",IF(D21="",IF($M21="","û","!"),"ü")))) -> ü | J21: =IF($G$5="","û",IF(OR(B21>$G$5,D21<>""),"ü",IF(OR(E21="",F21=""),IF($M21="","û","!"),"ü"))) -> ü | K21: =IF($G$5="","û",IF(OR(B21>$G$5,D21<>""),"ü",IF(OR(E21="",F21=""),IF($M21="","û","!"),"ü"))) -> ü | L21: =IF($G$5="","û",IF(B21>$G$5,"ü",IF(G21="",IF($M21="","û","!"),"ü"))) -> ü
B22: 10 | H22: =IF($G$5="","û",IF(B22>$G$5,"ü",IF(C22="",IF($M22="","û","!"),"ü"))) -> ü | I22: =IF($G$5="","û",IF(B22>$G$5,"ü",IF(AND(E22<>"",F22<>""),"ü",IF(D22="",IF($M22="","û","!"),"ü")))) -> ü | J22: =IF($G$5="","û",IF(OR(B22>$G$5,D22<>""),"ü",IF(OR(E22="",F22=""),IF($M22="","û","!"),"ü"))) -> ü | K22: =IF($G$5="","û",IF(OR(B22>$G$5,D22<>""),"ü",IF(OR(E22="",F22=""),IF($M22="","û","!"),"ü"))) -> ü | L22: =IF($G$5="","û",IF(B22>$G$5,"ü",IF(G22="",IF($M22="","û","!"),"ü"))) -> ü
B23: 11 | H23: =IF($G$5="","û",IF(B23>$G$5,"ü",IF(C23="",IF($M23="","û","!"),"ü"))) -> ü | I23: =IF($G$5="","û",IF(B23>$G$5,"ü",IF(AND(E23<>"",F23<>""),"ü",IF(D23="",IF($M23="","û","!"),"ü")))) -> ü | J23: =IF($G$5="","û",IF(OR(B23>$G$5,D23<>""),"ü",IF(OR(E23="",F23=""),IF($M23="","û","!"),"ü"))) -> ü | K23: =IF($G$5="","û",IF(OR(B23>$G$5,D23<>""),"ü",IF(OR(E23="",F23=""),IF($M23="","û","!"),"ü"))) -> ü | L23: =IF($G$5="","û",IF(B23>$G$5,"ü",IF(G23="",IF($M23="","û","!"),"ü"))) -> ü
B24: 12 | H24: =IF($G$5="","û",IF(B24>$G$5,"ü",IF(C24="",IF($M24="","û","!"),"ü"))) -> ü | I24: =IF($G$5="","û",IF(B24>$G$5,"ü",IF(AND(E24<>"",F24<>""),"ü",IF(D24="",IF($M24="","û","!"),"ü")))) -> ü | J24: =IF($G$5="","û",IF(OR(B24>$G$5,D24<>""),"ü",IF(OR(E24="",F24=""),IF($M24="","û","!"),"ü"))) -> ü | K24: =IF($G$5="","û",IF(OR(B24>$G$5,D24<>""),"ü",IF(OR(E24="",F24=""),IF($M24="","û","!"),"ü"))) -> ü | L24: =IF($G$5="","û",IF(B24>$G$5,"ü",IF(G24="",IF($M24="","û","!"),"ü"))) -> ü
B25: 13 | H25: =IF($G$5="","û",IF(B25>$G$5,"ü",IF(C25="",IF($M25="","û","!"),"ü"))) -> ü | I25: =IF($G$5="","û",IF(B25>$G$5,"ü",IF(AND(E25<>"",F25<>""),"ü",IF(D25="",IF($M25="","û","!"),"ü")))) -> ü | J25: =IF($G$5="","û",IF(OR(B25>$G$5,D25<>""),"ü",IF(OR(E25="",F25=""),IF($M25="","û","!"),"ü"))) -> ü | K25: =IF($G$5="","û",IF(OR(B25>$G$5,D25<>""),"ü",IF(OR(E25="",F25=""),IF($M25="","û","!"),"ü"))) -> ü | L25: =IF($G$5="","û",IF(B25>$G$5,"ü",IF(G25="",IF($M25="","û","!"),"ü"))) -> ü
B26: 14 | H26: =IF($G$5="","û",IF(B26>$G$5,"ü",IF(C26="",IF($M26="","û","!"),"ü"))) -> ü | I26: =IF($G$5="","û",IF(B26>$G$5,"ü",IF(AND(E26<>"",F26<>""),"ü",IF(D26="",IF($M26="","û","!"),"ü")))) -> ü | J26: =IF($G$5="","û",IF(OR(B26>$G$5,D26<>""),"ü",IF(OR(E26="",F26=""),IF($M26="","û","!"),"ü"))) -> ü | K26: =IF($G$5="","û",IF(OR(B26>$G$5,D26<>""),"ü",IF(OR(E26="",F26=""),IF($M26="","û","!"),"ü"))) -> ü | L26: =IF($G$5="","û",IF(B26>$G$5,"ü",IF(G26="",IF($M26="","û","!"),"ü"))) -> ü
B27: 15 | H27: =IF($G$5="","û",IF(B27>$G$5,"ü",IF(C27="",IF($M27="","û","!"),"ü"))) -> ü | I27: =IF($G$5="","û",IF(B27>$G$5,"ü",IF(AND(E27<>"",F27<>""),"ü",IF(D27="",IF($M27="","û","!"),"ü")))) -> ü | J27: =IF($G$5="","û",IF(OR(B27>$G$5,D27<>""),"ü",IF(OR(E27="",F27=""),IF($M27="","û","!"),"ü"))) -> ü | K27: =IF($G$5="","û",IF(OR(B27>$G$5,D27<>""),"ü",IF(OR(E27="",F27=""),IF($M27="","û","!"),"ü"))) -> ü | L27: =IF($G$5="","û",IF(B27>$G$5,"ü",IF(G27="",IF($M27="","û","!"),"ü"))) -> ü
B28: 16 | H28: =IF($G$5="","û",IF(B28>$G$5,"ü",IF(C28="",IF($M28="","û","!"),"ü"))) -> ü | I28: =IF($G$5="","û",IF(B28>$G$5,"ü",IF(AND(E28<>"",F28<>""),"ü",IF(D28="",IF($M28="","û","!"),"ü")))) -> ü | J28: =IF($G$5="","û",IF(OR(B28>$G$5,D28<>""),"ü",IF(OR(E28="",F28=""),IF($M28="","û","!"),"ü"))) -> ü | K28: =IF($G$5="","û",IF(OR(B28>$G$5,D28<>""),"ü",IF(OR(E28="",F28=""),IF($M28="","û","!"),"ü"))) -> ü | L28: =IF($G$5="","û",IF(B28>$G$5,"ü",IF(G28="",IF($M28="","û","!"),"ü"))) -> ü
B29: 17 | H29: =IF($G$5="","û",IF(B29>$G$5,"ü",IF(C29="",IF($M29="","û","!"),"ü"))) -> ü | I29: =IF($G$5="","û",IF(B29>$G$5,"ü",IF(AND(E29<>"",F29<>""),"ü",IF(D29="",IF($M29="","û","!"),"ü")))) -> ü | J29: =IF($G$5="","û",IF(OR(B29>$G$5,D29<>""),"ü",IF(OR(E29="",F29=""),IF($M29="","û","!"),"ü"))) -> ü | K29: =IF($G$5="","û",IF(OR(B29>$G$5,D29<>""),"ü",IF(OR(E29="",F29=""),IF($M29="","û","!"),"ü"))) -> ü | L29: =IF($G$5="","û",IF(B29>$G$5,"ü",IF(G29="",IF($M29="","û","!"),"ü"))) -> ü
B30: 18 | H30: =IF($G$5="","û",IF(B30>$G$5,"ü",IF(C30="",IF($M30="","û","!"),"ü"))) -> ü | I30: =IF($G$5="","û",IF(B30>$G$5,"ü",IF(AND(E30<>"",F30<>""),"ü",IF(D30="",IF($M30="","û","!"),"ü")))) -> ü | J30: =IF($G$5="","û",IF(OR(B30>$G$5,D30<>""),"ü",IF(OR(E30="",F30=""),IF($M30="","û","!"),"ü"))) -> ü | K30: =IF($G$5="","û",IF(OR(B30>$G$5,D30<>""),"ü",IF(OR(E30="",F30=""),IF($M30="","û","!"),"ü"))) -> ü | L30: =IF($G$5="","û",IF(B30>$G$5,"ü",IF(G30="",IF($M30="","û","!"),"ü"))) -> ü
... B35: 23 | H35: =IF($G$5="","û",IF(B35>$G$5,"ü",IF(C35="",IF($M35="","û","!"),"ü"))) -> ü | I35: =IF($G$5="","û",IF(B35>$G$5,"ü",IF(AND(E35<>"",F35<>""),"ü",IF(D35="",IF($M35="","û","!"),"ü")))) -> ü | J35: =IF($G$5="","û",IF(OR(B35>$G$5,D35<>""),"ü",IF(OR(E35="",F35=""),IF($M35="","û","!"),"ü"))) -> ü | K35: =IF($G$5="","û",IF(OR(B35>$G$5,D35<>""),"ü",IF(OR(E35="",F35=""),IF($M35="","û","!"),"ü"))) -> ü | L35: =IF($G$5="","û",IF(B35>$G$5,"ü",IF(G35="",IF($M35="","û","!"),"ü"))) -> ü
B36: 99 | C36: Total number | G36: =SUM(G13:G35) -> 9
C38: =Text!C70 -> Comment
G48: ü | H48: =COUNTIF(H13:L35,"ü") -> 115
G49: ! | H49: =COUNTIF(H13:L35,"!") -> 0
G50: Total passed | H50: =SUM(H48:H49) -> 115
G51: û | H51: =COUNTIF(H13:L35,"û") -> 0
G52: Possible total | H52: =SUM(H50,H51) -> 115

Sheet Table 3
C3: =Text!C127 -> Table 3 - Unauthorised sites | Q3: =Home!$T$16 -> Wrexham
Q4: =Text!C69 -> Back to home page
C5: =Text!C129 -> Please enter the number of unauthorised sites within your local authority | I5: 0 | J5: =IF(I5="","û","ü") -> ü
C7: =Text!C108 -> Click here for guidance
D9: =Text!C109 -> You are only required to enter EITHER the postcode OR the OS grid reference
C10: =Text!C132 -> Name (if known) | D10: =Text!C111 -> Postcode | E10: =Text!C112 -> OS grid reference (Six digit grid reference required) | G10: =Text!C130 -> Are caravans on Gypsy owned land? | H10: =Text!C131 -> Is this site tolerated? | I10: =Text!C115 -> Total number of caravans
E11: =Text!C113 -> Easting | F11: =Text!C114 -> Northing | J11: =Text!C56 -> Validation 1 | Q11: =Text!C70 -> Comment
C12: 1 | D12: 2 | E12: 3 | F12: 4 | G12: 5 | H12: 6 | I12: 7 | J12: 1 | K12: 2 | L12: 3 | M12: 4 | N12: 5 | O12: 6 | P12: 7
B13: 1 | J13: =IF($I$5="","û",IF(B13>$I$5,"ü",IF(C13="",IF($Q13="","û","!"),"ü"))) -> ü | K13: =IF($I$5="","û",IF(B13>$I$5,"ü",IF(AND(E13<>"",F13<>""),"ü",IF(D13="",IF($Q13="","û","!"),"ü")))) -> ü | L13: =IF($I$5="","û",IF(OR(B13>$I$5,D13<>""),"ü",IF(OR(E13="",F13=""),IF($Q13="","û","!"),"ü"))) -> ü | M13: =IF($I$5="","û",IF(OR(B13>$I$5,D13<>""),"ü",IF(OR(E13="",F13=""),IF($Q13="","û","!"),"ü"))) -> ü | N13: =IF($I$5="","û",IF(B13>$I$5,"ü",IF(G13="",IF($Q13="","û","!"),"ü"))) -> ü | O13: =IF($I$5="","û",IF(B13>$I$5,"ü",IF(H13="",IF($Q13="","û","!"),"ü"))) -> ü | P13: =IF($I$5="","û",IF(B13>$I$5,"ü",IF(I13="",IF($Q13="","û","!"),"ü"))) -> ü
B14: 2 | J14: =IF($I$5="","û",IF(B14>$I$5,"ü",IF(C14="",IF($Q14="","û","!"),"ü"))) -> ü | K14: =IF($I$5="","û",IF(B14>$I$5,"ü",IF(AND(E14<>"",F14<>""),"ü",IF(D14="",IF($Q14="","û","!"),"ü")))) -> ü | L14: =IF($I$5="","û",IF(OR(B14>$I$5,D14<>""),"ü",IF(OR(E14="",F14=""),IF($Q14="","û","!"),"ü"))) -> ü | M14: =IF($I$5="","û",IF(OR(B14>$I$5,D14<>""),"ü",IF(OR(E14="",F14=""),IF($Q14="","û","!"),"ü"))) -> ü | N14: =IF($I$5="","û",IF(B14>$I$5,"ü",IF(G14="",IF($Q14="","û","!"),"ü"))) -> ü | O14: =IF($I$5="","û",IF(B14>$I$5,"ü",IF(H14="",IF($Q14="","û","!"),"ü"))) -> ü | P14: =IF($I$5="","û",IF(B14>$I$5,"ü",IF(I14="",IF($Q14="","û","!"),"ü"))) -> ü
B15: 3 | J15: =IF($I$5="","û",IF(B15>$I$5,"ü",IF(C15="",IF($Q15="","û","!"),"ü"))) -> ü | K15: =IF($I$5="","û",IF(B15>$I$5,"ü",IF(AND(E15<>"",F15<>""),"ü",IF(D15="",IF($Q15="","û","!"),"ü")))) -> ü | L15: =IF($I$5="","û",IF(OR(B15>$I$5,D15<>""),"ü",IF(OR(E15="",F15=""),IF($Q15="","û","!"),"ü"))) -> ü | M15: =IF($I$5="","û",IF(OR(B15>$I$5,D15<>""),"ü",IF(OR(E15="",F15=""),IF($Q15="","û","!"),"ü"))) -> ü | N15: =IF($I$5="","û",IF(B15>$I$5,"ü",IF(G15="",IF($Q15="","û","!"),"ü"))) -> ü | O15: =IF($I$5="","û",IF(B15>$I$5,"ü",IF(H15="",IF($Q15="","û","!"),"ü"))) -> ü | P15: =IF($I$5="","û",IF(B15>$I$5,"ü",IF(I15="",IF($Q15="","û","!"),"ü"))) -> ü
B16: 4 | J16: =IF($I$5="","û",IF(B16>$I$5,"ü",IF(C16="",IF($Q16="","û","!"),"ü"))) -> ü | K16: =IF($I$5="","û",IF(B16>$I$5,"ü",IF(AND(E16<>"",F16<>""),"ü",IF(D16="",IF($Q16="","û","!"),"ü")))) -> ü | L16: =IF($I$5="","û",IF(OR(B16>$I$5,D16<>""),"ü",IF(OR(E16="",F16=""),IF($Q16="","û","!"),"ü"))) -> ü | M16: =IF($I$5="","û",IF(OR(B16>$I$5,D16<>""),"ü",IF(OR(E16="",F16=""),IF($Q16="","û","!"),"ü"))) -> ü | N16: =IF($I$5="","û",IF(B16>$I$5,"ü",IF(G16="",IF($Q16="","û","!"),"ü"))) -> ü | O16: =IF($I$5="","û",IF(B16>$I$5,"ü",IF(H16="",IF($Q16="","û","!"),"ü"))) -> ü | P16: =IF($I$5="","û",IF(B16>$I$5,"ü",IF(I16="",IF($Q16="","û","!"),"ü"))) -> ü
B17: 5 | J17: =IF($I$5="","û",IF(B17>$I$5,"ü",IF(C17="",IF($Q17="","û","!"),"ü"))) -> ü | K17: =IF($I$5="","û",IF(B17>$I$5,"ü",IF(AND(E17<>"",F17<>""),"ü",IF(D17="",IF($Q17="","û","!"),"ü")))) -> ü | L17: =IF($I$5="","û",IF(OR(B17>$I$5,D17<>""),"ü",IF(OR(E17="",F17=""),IF($Q17="","û","!"),"ü"))) -> ü | M17: =IF($I$5="","û",IF(OR(B17>$I$5,D17<>""),"ü",IF(OR(E17="",F17=""),IF($Q17="","û","!"),"ü"))) -> ü | N17: =IF($I$5="","û",IF(B17>$I$5,"ü",IF(G17="",IF($Q17="","û","!"),"ü"))) -> ü | O17: =IF($I$5="","û",IF(B17>$I$5,"ü",IF(H17="",IF($Q17="","û","!"),"ü"))) -> ü | P17: =IF($I$5="","û",IF(B17>$I$5,"ü",IF(I17="",IF($Q17="","û","!"),"ü"))) -> ü
B18: 6 | J18: =IF($I$5="","û",IF(B18>$I$5,"ü",IF(C18="",IF($Q18="","û","!"),"ü"))) -> ü | K18: =IF($I$5="","û",IF(B18>$I$5,"ü",IF(AND(E18<>"",F18<>""),"ü",IF(D18="",IF($Q18="","û","!"),"ü")))) -> ü | L18: =IF($I$5="","û",IF(OR(B18>$I$5,D18<>""),"ü",IF(OR(E18="",F18=""),IF($Q18="","û","!"),"ü"))) -> ü | M18: =IF($I$5="","û",IF(OR(B18>$I$5,D18<>""),"ü",IF(OR(E18="",F18=""),IF($Q18="","û","!"),"ü"))) -> ü | N18: =IF($I$5="","û",IF(B18>$I$5,"ü",IF(G18="",IF($Q18="","û","!"),"ü"))) -> ü | O18: =IF($I$5="","û",IF(B18>$I$5,"ü",IF(H18="",IF($Q18="","û","!"),"ü"))) -> ü | P18: =IF($I$5="","û",IF(B18>$I$5,"ü",IF(I18="",IF($Q18="","û","!"),"ü"))) -> ü
B19: 7 | J19: =IF($I$5="","û",IF(B19>$I$5,"ü",IF(C19="",IF($Q19="","û","!"),"ü"))) -> ü | K19: =IF($I$5="","û",IF(B19>$I$5,"ü",IF(AND(E19<>"",F19<>""),"ü",IF(D19="",IF($Q19="","û","!"),"ü")))) -> ü | L19: =IF($I$5="","û",IF(OR(B19>$I$5,D19<>""),"ü",IF(OR(E19="",F19=""),IF($Q19="","û","!"),"ü"))) -> ü | M19: =IF($I$5="","û",IF(OR(B19>$I$5,D19<>""),"ü",IF(OR(E19="",F19=""),IF($Q19="","û","!"),"ü"))) -> ü | N19: =IF($I$5="","û",IF(B19>$I$5,"ü",IF(G19="",IF($Q19="","û","!"),"ü"))) -> ü | O19: =IF($I$5="","û",IF(B19>$I$5,"ü",IF(H19="",IF($Q19="","û","!"),"ü"))) -> ü | P19: =IF($I$5="","û",IF(B19>$I$5,"ü",IF(I19="",IF($Q19="","û","!"),"ü"))) -> ü
B20: 8 | J20: =IF($I$5="","û",IF(B20>$I$5,"ü",IF(C20="",IF($Q20="","û","!"),"ü"))) -> ü | K20: =IF($I$5="","û",IF(B20>$I$5,"ü",IF(AND(E20<>"",F20<>""),"ü",IF(D20="",IF($Q20="","û","!"),"ü")))) -> ü | L20: =IF($I$5="","û",IF(OR(B20>$I$5,D20<>""),"ü",IF(OR(E20="",F20=""),IF($Q20="","û","!"),"ü"))) -> ü | M20: =IF($I$5="","û",IF(OR(B20>$I$5,D20<>""),"ü",IF(OR(E20="",F20=""),IF($Q20="","û","!"),"ü"))) -> ü | N20: =IF($I$5="","û",IF(B20>$I$5,"ü",IF(G20="",IF($Q20="","û","!"),"ü"))) -> ü | O20: =IF($I$5="","û",IF(B20>$I$5,"ü",IF(H20="",IF($Q20="","û","!"),"ü"))) -> ü | P20: =IF($I$5="","û",IF(B20>$I$5,"ü",IF(I20="",IF($Q20="","û","!"),"ü"))) -> ü
