Workbook

Sheet Summary
B3: Capacity | C3: Mainstream No on Roll | D3: Spaces available | E3: % Surplus | F3: Required additional spaces this project
A4: Llay | B4: 315 | C4: =+Llay!B28 -> 315 | D4: =B4-C4 -> 0 | E4: =D4/B4 -> 0 | F4: 102
A6: Mainstream | B6: 315 | C6: =+Llay!B28 -> 315 | D6: =B6-C6 -> 0
A7: Nursery | B7: 45 | C7: =+Llay!B18 -> 33 | D7: =B7-C7 -> 12
A8: SEN/ALN Resource | B8: 11 | C8: =+Llay!B42 -> 8 | D8: =B8-C8 -> 3
B10: Capacity | C10: No on Roll | D10: Spaces available | E10: % Surplus | F10: Required additional spaces this project
A11: Darland | B11: 840 | C11: =+Darland!B24 -> 808 | D11: =B11-C11 -> 32 | E11: =D11/B11 -> 0.038095238 | F11: 73
A13: Mainstream | B13: 840 | C13: 808 | D13: =B13-C13 -> 32
A16: Please note Llay has 0% surplus places
A17: Please note Darland has 3.81% surplus places which is significantly below the 10% recommended by WG

Sheet Pupil Places Generated
C1: 0.28 | D1: 0.2 | E1: 0.04
C2: Primary | D2: Secondary | E2: Post 16
A3: No of houses | B3: 365 | C3: =B3*C1 -> 102.2 | D3: =B3*D1 -> 73 | E3: =B3*E1 -> 14.6

Sheet Primary School Requirement 
A1: TRANSPORTATION & ASSET MANAGEMENT DEPARTMENT
A3: PROPERTY PLANNING SERVICES
A5: CHECKLIST OF DfES STATUTORY REQUIREMENTS AND RECOMMENDATIONS
A7: REF: MEJ | D7: SCHOOL: WREXHAM, PRIMARY
A9: Requirements given for | E9: 60 | F9: nursery pupils + | I9: 420 | J9: primary pupils
A11: Pupil washrooms:
B12: Wrexham CBC seeks to provide w.c's and washbasins for reception pupils at the same rate as for nursery pupils
B14: minimum of | D14: =EVEN((E9+(I9/7))/10+(I9/7*6/20)) -> 30 | E14: =IF(E9<1,"w.c.'s or urinals and","w.c.'s or urinals,") -> w.c.'s or urinals, | H14: =EVEN((E9+(I9/7))/10+(I9/7*6/20)) -> 30 | I14: =IF(E9<1,"washbasins","washbasins and") -> washbasins and | L14: =IF(E9<1,"",ROUNDUP(E9/40,0)) -> 2 | M14: =IF(E9<1,"",IF(L14<2,"shower, bath or deep sink","showers, baths or deep sinks")) -> showers, baths or deep sinks
B16: separate facilities required for males and females who have attained the age of 8 years (i.e. year 4 and above) but Wrexham policy is to provide this for all junior pupils
B18: in washrooms solely for boys up to 2/3 of the fittings may be urinals
A20: Staff washrooms:
B21: must be separate from pupil washrooms, except for any washroom usable by disabled persons having only 1 washbasin, 1 w.c., with or without 1 shower or 1 deep sink, and having its door opening directly onto circulation space other than stairs
B23: guidance on the provision of staff washing and sanitary facilities is given paragraphs 192 - 209 of the HSE's Approved Code of Practice for the Workplace (Health, Safety and Welfare) Regulations 1992
B25: paragraphs 20 (2) (c) and 21 (2) (h) of the Workplace (Health, Safety and Welfare) Regulations 1992 require separate facilities for men and women
A27: Medical accommodation:
B28: must contain a washbasin and be near a w.c.
B30: may be a dual use room (other than teaching) but Welsh Office guidance is that it should not generally be occupied nor the staff room
A32: Staff accommodation:
B33: a school with more than 120 pupils requires a head teacher's room
B35: teaching staff room required for work and social purposes
A37: Ancillary facilities:
B38: provision must be made for storing and drying pupils' outdoor clothing and storing their other belongings
B40: provision must be made for the preparation of food and drinks and the washing of crockery and other utensils
A42: Lighting:
B43: the maintained illuminance on the working plane in teaching accommodation must not be less than 300 lux, but where visually demanding tasks are carried out the maintained illuminance must not be less than 500 lux
B45: in every room, the glare index must not exceed 19
A47: Heating:
B48: for all external temperatures of -1 °C or more, the following minimum air temperatures must be provided measured 0.5m above the floor:
C50: areas of lower than normal physical activity due to sickness or physical disability including sick rooms and isolation rooms but not other sleeping accommodation - | S50: 21°C
C52: areas of normal physical acitivity associated with teaching, private study or examinations - | S52: 18°C
C54: areas of higher than normal physical activity (e.g. arising from physical education) and washrooms, sleeping accommodation and circulation spaces - | S54: 15°C
B56: in teaching accommodation used by a nursery class, the surface temperature of any radiator and exposed pipework in a position where it may be touched by a pupil must not exceed 43 °C
S57: continued
A58: Ventilation:
B59: all occupied areas in a school building shall have controllable ventilation at a minimum rate of 3 litres of fresh air per second for each of the maximum number of persons the area will accommodate
B61: all teaching accommodation, medical examination or treatment rooms, sick rooms and isolation rooms shall be capable of being ventilated at a minimum rate of 8 litres of fresh air per second for each of the usual number of occupants during occupation
B63: all washrooms shall be capable of being ventilated at a minimum rate of 6 air changes per hour
B65: condensation shall be prevented in, and noxious fumes removed from, any room in which there may be steam or fumes
A67: Water supplies:
B68: the temperature of hot water supplies to every bath or shower must not exceed 43 °C
A70: Team game playing fields:
B71: Wrexham CBC policy is to accommodate all juniors, not just those aged 8 or more; minimum area | Q71: =IF(I9*4/7<=100,2500,IF(AND(I9*4/7>100,I9*4/7<=600),SUM(TRUNC((I9-1)*4/7/100)*5000),SUM(TRUNC((I9-0.1)*4/7/150+2)*5000))) -> 10000 | R71: m²
B73: all weather surfaced areas of playing fields are counted as twice their actual area
A76: AREA GUIDELINES FROM BUILDING BULLETIN 99
A78: gross area of building: | F78: =+F80*1.4 -> 2433.2 | G78: m² to | H78: =+F80*1.45 -> 2520.1 | J78: m²
A80: net building area *: | F80: =(+E9+I9)*3.1+250 -> 1738 | G80: m²
F81: * net area comprises basic teaching area, halls & studios, learning resource areas, staff & admin, storage; it excludes toilets and showers (and related lobbies and changing rooms), kitchen facilities, circulation, plant rooms, internal walls
A83: basic teaching **: | F83: =(+E9+I9)*2.1 -> 1008 | G83: m² to | H83: =(+E9+I9)*2.2+30 -> 1086 | J83: m²
F84: ** basic teaching comprises classrooms, ICT suite, practical areas
A86: halls & studios: | F86: =I9*0.3+100 -> 226 | G86: m² to | H86: =I9*0.35+115 -> 262 | J86: m² with main hall minimum 140m²
A88: learning resources ***: | F88: =(E9*0.45)+(I9*0.15)+15 -> 105 | G88: m²
F89: *** learning resources comprises library / resource centre, small group / quiet rooms, s.e.n. rooms
A91: dining ****: | F91: =I9*0.25+20 -> 125 | G91: m² to | I91: =I9*0.3+30 -> 156 | J91: m² for primary pupils to dine in 3 sittings
F92: **** lower value for 75% pupils dining, upper for "most of the school"
A94: kitchen: | F94: =I9*0.1 -> 42 | G94: m² to | H94: =I9*0.15+15 -> 78 | J94: m²
A96: gross site area: | F96: =+F98*1.1 -> 17644 | G96: m² to | H96: =+F98*1.25 -> 20050 | J96: m²
A98: net site area: | F98: =(E9*10)+(I9*32)+2000 -> 16040 | G98: m²
A100: pitches: | F100: =I9*20 -> 8400 | G100: m² to | H100: =ROUND(I9*22.5+750,0) -> 10200 | J100: m²
A102: games courts: | F102: =I9*2+600 -> 1440 | G102: m² to | H102: =ROUND(I9*2.5+800,0) -> 1850 | J102: =IF(F102<726,"m² but desirable to be minimum 33m×22m (plus margins)","m² with recommended minima for length 33m and width 22m (plus margins)") -> m² with recommended minima for length 33m and width 22m (plus margins)
A104: soft play (informal / social): | F104: =(E9+I9)*2.5+800 -> 2000 | G104: m² to | H104: =(E9+I9)*3+1000 -> 2440 | J104: m²
A106: hard play (informal / social): | F106: =(E9+I9)*1.5+400 -> 1120 | G106: m² to | H106: =(E9+I9)*2+600 -> 1560 | J106: m² additional to the games courts
A108: habitat: | F108: =(E9+I9)+200 -> 680 | G108: m² to | H108: =(E9+I9)*1.5+400 -> 1120 | J108: m²
A110: float (external area): | F110: =(E9+I9)*5 -> 2400 | G110: m²
A114: Site Available | B114: 19100
A115: Site could accommodate 420 pupils adjacent former infant school land required

Sheet Secondary School Requirement
A1: TRANSPORTATION & ASSET MANAGEMENT DEPARTMENT
A3: PROPERTY PLANNING SERVICES
A5: CHECKLIST OF DfES STATUTORY REQUIREMENTS AND RECOMMENDATIONS
A7: REF: MEJ | D7: SCHOOL: WREXHAM, HIGH
A9: Requirements given for | E9: 920 | F9: secondary pupils plus | I9: 0 | J9: in the 6th form
A11: Pupil washrooms:
B12: minimum of | D12: =EVEN(SUM(E9+I9)/20) -> 46 | E12: w.c.'s or urinals and
C14: every washroom with fewer than 3 w.c.'s or urinals must have an equivalent number of washbasins
C16: every washroom with more than 2 w.c.'s or urinals must have washbasins of at least 2/3 the number of w.c.'s or urinals
B18: separate facilities required for male and female pupils
B20: changing facilities with showers must be readily accessible from the school grounds and from p.e. accommodation
A22: Staff washrooms:
B23: must be separate from pupil washrooms, except for any washroom usable by disabled persons having only 1 washbasin, 1 w.c., with or without 1 shower or 1 deep sink, and having its door opening directly onto circulation space other than stairs
B25: guidance on the provision of staff washing and sanitary facilities is given paragraphs 192 - 209 of the HSE's Approved Code of Practice for the Workplace (Health, Safety and Welfare) Regulations 1992
B27: paragraphs 20 (2) (c) and 21 (2) (h) of the Workplace (Health, Safety and Welfare) Regulations 1992 require separate facilities for men and women
A29: Medical accommodation:
B30: must contain a washbasin and be near a w.c.
B32: may be a dual use room (other than teaching) but Welsh Office guidance is that it should not generally be occupied nor the staff room
A34: Staff accommodation:
B35: head teacher's room is required
B37: teaching staff room required for work and social purposes
A39: Ancillary facilities:
B40: provision must be made for storing and drying pupils' outdoor clothing and storing their other belongings
B42: provision must be made for the preparation of food and drinks and the washing of crockery and other utensils
A44: Lighting:
B45: the maintained illuminance on the working plane in teaching accommodation must not be less than 300 lux, but where visually demanding tasks are carried out the maintained illuminance must not be less than 500 lux
B47: in every room, the glare index must not exceed 19
A49: Heating:
B50: for all external temperatures of -1 °C or more, the following minimum air temperatures must be provided measured 0.5m above the floor:
C52: areas of lower than normal physical activity due to sickness or physical disability including sick rooms and isolation rooms but not other sleeping accommodation - | S52: 21 °C
C54: areas of normal physical acitivity associated with teaching, private study or examinations - | S54: 18 °C
C56: areas of higher than normal physical activity (e.g. arising from physical education) and washrooms, sleeping accommodation and circulation spaces - | S56: 15 °C
S58: continued
A59: Ventilation:
B60: all occupied areas in a school building shall have controllable ventilation at a minimum rate of 3 litres of fresh air per second for each of the maximum number of persons the area will accommodate
B62: all teaching accommodation, medical examination or treatment rooms, sick rooms and isolation rooms shall be capable of being ventilated at a minimum rate of 8 litres of fresh air per second for each of the usual number of occupants during occupation
B64: all washrooms shall be capable of being ventilated at a minimum rate of 6 air changes per hour
B66: condensation shall be prevented in, and noxious fumes removed from, any room in which there may be steam or fumes
A68: Water supplies:
B69: the temperature of hot water supplies to every bath or shower must not exceed 43 °C
A71: Team game playing fields:
B72: minimum of | F72: =IF(E9<101,5000,IF(AND(E9>100,E9<601),SUM(TRUNC((E9-1)/100)*5000+5000),SUM(TRUNC((E9-1)/150+2)*5000+5000))) -> 45000 | G72: m²
B74: all weather surfaced areas of playing fields are counted as twice their actual area
A77: AREA GUIDELINES FROM BUILDING BULLETIN 98
A79: gross area of building: | F79: =+F81*1.4 -> 7873.6 | G79: m² to | H79: =+F81*1.45 -> 8154.8 | I79: m²
A81: net building area: | F81: =(E$9*4.7+1300)+IF(I$9>0,I$9*5.7+300,0) -> 5624 | G81: m²
A83: basic teaching: | F83: =(E$9*3+50)+IF(I$9>0,I$9*3.3+150,0) -> 2810 | G83: m² to | H83: =(E$9*3.3+150)+IF(I$9>0,I$9*3.6+250,0) -> 3186 | I83: m²
A85: halls: | F85: =(E$9*0.3+600)+IF(I$9>0,I$9*0.3,0) -> 876 | G85: m² to | H85: =(E$9*0.35+750)+IF(I$9>0,I$9*0.35,0) -> 1072 | I85: m² | J85: new schools to include 4 court sports hall and min 145m² activity studio, existing schools shuld have min 3 spaces
A87: learning resources: | F87: =(E$9*0.25+75)+IF(I$9>0,I$9*0.45+50,0) -> 305 | G87: m² to | H87: =(E$9*0.3+125)+IF(I$9>0,I$9*0.5+75,0) -> 401 | I87: m² | K87: including | L87: =(E$9+I$9)*0.1+50 -> 142 | M87: m² as the library resource centre
J88: includes small group rooms, s.e.n. resource base, music group / practice rooms / ensemble room, recording studio / control room, kiln room, dark room, local IT areas, 6th form study areas
A90: dining & social areas: | F90: =(E$9*0.2+25)+IF(I$9>0,I$9*0.5+75,0) -> 209 | G90: m² to | H90: =(E$9*0.25+75)+IF(I$9>0,I$9*0.55+100,0) -> 305 | I90: m² | J90: based on 80% of pupils dining in 3 sittings; includes snack & vending machine areas
A92: kitchen facilities: | F92: =(E$9+I$9)*0.1 -> 92 | G92: m² to | H92: =(E$9+I$9)*0.15+15 -> 153 | I92: m²
A94: gross site area: | F94: =+F96*1.1 -> 61864 | G94: m² to | H94: =+F96*1.25 -> 70300 | J94: m²
A96: net site area: | F96: =(E$9+I$9)*47+13000 -> 56240 | G96: m²
A98: pitches: | F98: =(E$9+I$9)*35+10000 -> 42200 | G98: m²
A100: games courts: | F100: =(E$9+I$9)*2+600 -> 2440 | G100: m² to | H100: =(E$9+I$9)*2.5+800 -> 3100 | I100: m²
A102: soft play (informal / social): | F102: =(E$9+I$9)*2.5+800 -> 3100 | G102: m² to | H102: =(E$9+I$9)*3+1000 -> 3760 | I102: m²
A104: hard play (informal / social): | F104: =(E$9+I$9)*1.5+400 -> 1780 | G104: m² to | H104: =(E$9+I$9)*2+600 -> 2440 | I104: m² | J104: additional to the games courts
A106: habitat: | F106: =E$9+I$9+200 -> 1120 | G106: m² to | H106: =(E$9+I$9)*1.5+400 -> 1780 | I106: m²
A108: float (external area): | F108: =(E$9+I$9)*5+1000 -> 5600 | G108: m²
A113: Site Available | B113: 104090
A114: Site could accommodate up to 1450 pupils

Sheet Current Planning Apps & Impact

Sheet Projections less LDP & Planning
A1: Projections of Primary Pupil Numbers 2017-2021
D2: Required by Welsh Government
A3: LA No: | B3: 665
A4: LA Name: | B4: Wrexham
A6: School number | B6: School Name | C6: 1 Projected NOR for Jan 16 as reported in Jan 15 | D6: Actual NOR at 12 Jan 2016 | E6: %age variance | F6: Projected NOR at Jan 2017 | G6: Projected NOR at Jan 2018 | H6: Projected NOR at Jan 2019 | I6: Projected NOR at Jan 2020 | J6: Projected NOR at Jan 2021
A7: 2271 | B7: Park CP, Llay | C7: 292 | D7: 305 | E7: =(D7-C7)/C7 -> 0.044520548 | F7: 301 | G7: 292 | H7: 284 | I7: 280 | J7: 277
A9: Nursery pupil numbers should not be included
A10: Numbers of pupils in SEN units should not be included
D12: Required by Welsh Government
A13: LA No: | B13: 665
A14: LA Name: | B14: Wrexham
A16: School number | B16: School Name | C16: 1 Projected NOR for Jan 16 as reported in Jan 15 | D16: Actual NOR at 12 Jan 2016 | E16: %age variance | F16: Projected NOR at Jan 2017 | G16: Projected NOR at Jan 2018 | H16: Projected NOR at Jan 2019 | I16: Projected NOR at Jan 2020 | J16: Projected NOR at Jan 2021
A17: 4034 | B17: Darland High School | C17: 737 | D17: 787 | E17: =(D17-C17)/C17 -> 0.067842605 | F17: 789 | G17: 803 | H17: 808 | I17: 804 | J17: 773

Sheet Llay
A2: Park Community Primary
A3: School Road
A4: Llay
A5: LL12 0TR
A7: School Capacity | B7: 315
A8: Admission Number | B8: 45
A10: 1st Preference Refusals 2016 | B10: 0
A11: Appeals September 2016 | B11: 0
A13: In year transfers to date since September 2016 | B13: 3
A14: In year transfers to date refused since September 2016 | B14: 0
A16: Current Numbers per year group | D16: Spaces
A18: Nursery | B18: 33 | D18: =45-B18 -> 12
A20: Reception | B20: 41 | D20: 4
A21: Year 1 | B21: 43 | D21: 2
A22: Year 2 | B22: 42 | D22: 3
A23: Year 3 | B23: 45 | D23: 0
A24: Year 4 | B24: 43 | D24: 2
A25: Year 5 | B25: 49 | D25: -4
A26: Year 6 | B26: 52 | D26: -7
A28: Total mainstream pupils (not Incl Nursery) | B28: =SUM(B20:B26) -> 315 | D28: =SUM(D20:D27) -> 0
A30: Resouce Pupils
A32: Nursery | B32: 0
A34: Reception | B34: 0
A35: Year 1 | B35: 0
A36: Year 2 | B36: 0
A37: Year 3 | B37: 0
A38: Year 4 | B38: 1
A39: Year 5 | B39: 1
A40: Year 6 | B40: 6
A42: Total resource pupils (not Incl Nursery) | B42: =SUM(B36:B40) -> 8
A45: Total resource pupils | B45: =SUM(B39:B43) -> 15
A47: Nursery | B47: =B18+B32 -> 33
A49: Reception | B49: =B20+B34 -> 41
A50: Year 1 | B50: =B21+B35 -> 43
A51: Year 2 | B51: =B22+B36 -> 42
A52: Year 3 | B52: =B23+B37 -> 45
A53: Year 4 | B53: =B24+B38 -> 44
A54: Year 5 | B54: =B25+B39 -> 50
A55: Year 6 | B55: =B26+B40 -> 58
A57: Total (not Incl Nursery) | B57: =SUM(B49:B55) -> 323

Sheet Darland
A2: Darland High School
A3: Chester Road
A4: Rossett
A5: LL12 0DL
A7: School Capacity | B7: 840
A8: Admission Number | B8: 168
A10: 1st Preference Refusals 2016 | B10: 0
A11: Appeals September 2016 | B11: 0
A13: In year transfers to date since September 2016 | B13: 8
A14: In year transfers to date refused since September 2016 | B14: 2
A16: Current Numbers per year group
A18: Year 7 | B18: =165-10 -> 155
A19: Year 8 | B19: =173-4 -> 169
A20: Year 9 | B20: =174-6 -> 168
A21: Year 10 | B21: =173-9 -> 164
A22: Year 11 | B22: =164-12 -> 152
A24: Total mainstream pupils | B24: =SUM(B18:B22) -> 808
A26: Resource Pupils
A28: Year 7 | B28: 10
A29: Year 8 | B29: 4
A30: Year 9 | B30: 6
A31: Year 10 | B31: 9
A32: Year 11 | B32: 12
A34: Total resource pupils | B34: =SUM(B28:B32) -> 41
A37: Total Pupils on Roll
A39: Year 7 | B39: =B18+B28 -> 165
A40: Year 8 | B40: =B19+B29 -> 173
A41: Year 9 | B41: =B20+B30 -> 174
A42: Year 10 | B42: =B21+B31 -> 173
A43: Year 11 | B43: =B22+B32 -> 164
A45: Total | B45: =SUM(B39:B43) -> 849
